BEGIN:VCALENDAR
VERSION:2.0
PRODID:-//Sunlight Community Church at Winter Garden - ECPv6.15.20//NONSGML v1.0//EN
CALSCALE:GREGORIAN
METHOD:PUBLISH
X-ORIGINAL-URL:https://wg.sunlightchurch.com
X-WR-CALDESC:Events for Sunlight Community Church at Winter Garden
REFRESH-INTERVAL;VALUE=DURATION:PT1H
X-Robots-Tag:noindex
X-PUBLISHED-TTL:PT1H
BEGIN:VTIMEZONE
TZID:America/New_York
BEGIN:DAYLIGHT
TZOFFSETFROM:-0500
TZOFFSETTO:-0400
TZNAME:EDT
DTSTART:20230312T070000
END:DAYLIGHT
BEGIN:STANDARD
TZOFFSETFROM:-0400
TZOFFSETTO:-0500
TZNAME:EST
DTSTART:20231105T060000
END:STANDARD
BEGIN:DAYLIGHT
TZOFFSETFROM:-0500
TZOFFSETTO:-0400
TZNAME:EDT
DTSTART:20240310T070000
END:DAYLIGHT
BEGIN:STANDARD
TZOFFSETFROM:-0400
TZOFFSETTO:-0500
TZNAME:EST
DTSTART:20241103T060000
END:STANDARD
BEGIN:DAYLIGHT
TZOFFSETFROM:-0500
TZOFFSETTO:-0400
TZNAME:EDT
DTSTART:20250309T070000
END:DAYLIGHT
BEGIN:STANDARD
TZOFFSETFROM:-0400
TZOFFSETTO:-0500
TZNAME:EST
DTSTART:20251102T060000
END:STANDARD
BEGIN:DAYLIGHT
TZOFFSETFROM:-0500
TZOFFSETTO:-0400
TZNAME:EDT
DTSTART:20260308T070000
END:DAYLIGHT
BEGIN:STANDARD
TZOFFSETFROM:-0400
TZOFFSETTO:-0500
TZNAME:EST
DTSTART:20261101T060000
END:STANDARD
END:VTIMEZONE
BEGIN:VEVENT
DTSTART;TZID=America/New_York:20250112T190000
DTEND;TZID=America/New_York:20250112T200000
DTSTAMP:20260425T101013
CREATED:20240611T033016Z
LAST-MODIFIED:20240829T005600Z
UID:10002326-1736708400-1736712000@wg.sunlightchurch.com
SUMMARY:Worship service-Brasil
DESCRIPTION:
URL:https://wg.sunlightchurch.com/calendar/worship-service-brasil-63/
LOCATION:607 Avalon Rd\, Winter Garden\, FL\, United States
GEO:28.484973;-81.619298
END:VEVENT
BEGIN:VEVENT
DTSTART;TZID=America/New_York:20250112T111500
DTEND;TZID=America/New_York:20250112T121500
DTSTAMP:20260425T101013
CREATED:20240611T033015Z
LAST-MODIFIED:20240829T005600Z
UID:10002324-1736680500-1736684100@wg.sunlightchurch.com
SUMMARY:Worship Service-Brasil
DESCRIPTION:
URL:https://wg.sunlightchurch.com/calendar/worship-service-brasil-62/
LOCATION:607 Avalon Rd\, Winter Garden\, FL\, United States
GEO:28.484973;-81.619298
END:VEVENT
BEGIN:VEVENT
DTSTART;TZID=America/New_York:20250105T190000
DTEND;TZID=America/New_York:20250105T200000
DTSTAMP:20260425T101013
CREATED:20240611T033015Z
LAST-MODIFIED:20240829T005559Z
UID:10002322-1736103600-1736107200@wg.sunlightchurch.com
SUMMARY:Worship service-Brasil
DESCRIPTION:
URL:https://wg.sunlightchurch.com/calendar/worship-service-brasil-61/
LOCATION:607 Avalon Rd\, Winter Garden\, FL\, United States
GEO:28.484973;-81.619298
END:VEVENT
BEGIN:VEVENT
DTSTART;TZID=America/New_York:20250105T111500
DTEND;TZID=America/New_York:20250105T121500
DTSTAMP:20260425T101013
CREATED:20240611T033014Z
LAST-MODIFIED:20240829T005558Z
UID:10002320-1736075700-1736079300@wg.sunlightchurch.com
SUMMARY:Worship Service-Brasil
DESCRIPTION:
URL:https://wg.sunlightchurch.com/calendar/worship-service-brasil-60/
LOCATION:607 Avalon Rd\, Winter Garden\, FL\, United States
GEO:28.484973;-81.619298
END:VEVENT
BEGIN:VEVENT
DTSTART;TZID=America/New_York:20241229T190000
DTEND;TZID=America/New_York:20241229T200000
DTSTAMP:20260425T101013
CREATED:20240611T033014Z
LAST-MODIFIED:20240829T005557Z
UID:10002317-1735498800-1735502400@wg.sunlightchurch.com
SUMMARY:Worship service-Brasil
DESCRIPTION:
URL:https://wg.sunlightchurch.com/calendar/worship-service-brasil-59/
LOCATION:607 Avalon Rd\, Winter Garden\, FL\, United States
GEO:28.484973;-81.619298
END:VEVENT
BEGIN:VEVENT
DTSTART;TZID=America/New_York:20241229T111500
DTEND;TZID=America/New_York:20241229T121500
DTSTAMP:20260425T101013
CREATED:20240611T033014Z
LAST-MODIFIED:20240829T005556Z
UID:10002316-1735470900-1735474500@wg.sunlightchurch.com
SUMMARY:Worship Service-Brasil
DESCRIPTION:
URL:https://wg.sunlightchurch.com/calendar/worship-service-brasil-58/
LOCATION:607 Avalon Rd\, Winter Garden\, FL\, United States
GEO:28.484973;-81.619298
END:VEVENT
BEGIN:VEVENT
DTSTART;TZID=America/New_York:20241222T190000
DTEND;TZID=America/New_York:20241222T200000
DTSTAMP:20260425T101013
CREATED:20240611T033013Z
LAST-MODIFIED:20240829T005554Z
UID:10002314-1734894000-1734897600@wg.sunlightchurch.com
SUMMARY:Worship service-Brasil
DESCRIPTION:
URL:https://wg.sunlightchurch.com/calendar/worship-service-brasil-57/
LOCATION:607 Avalon Rd\, Winter Garden\, FL\, United States
GEO:28.484973;-81.619298
END:VEVENT
BEGIN:VEVENT
DTSTART;TZID=America/New_York:20241222T111500
DTEND;TZID=America/New_York:20241222T121500
DTSTAMP:20260425T101013
CREATED:20240611T033013Z
LAST-MODIFIED:20240829T005553Z
UID:10002312-1734866100-1734869700@wg.sunlightchurch.com
SUMMARY:Worship Service-Brasil
DESCRIPTION:
URL:https://wg.sunlightchurch.com/calendar/worship-service-brasil-56/
LOCATION:607 Avalon Rd\, Winter Garden\, FL\, United States
GEO:28.484973;-81.619298
END:VEVENT
BEGIN:VEVENT
DTSTART;TZID=America/New_York:20241215T190000
DTEND;TZID=America/New_York:20241215T200000
DTSTAMP:20260425T101013
CREATED:20240611T033012Z
LAST-MODIFIED:20240829T005552Z
UID:10002309-1734289200-1734292800@wg.sunlightchurch.com
SUMMARY:Worship service-Brasil
DESCRIPTION:
URL:https://wg.sunlightchurch.com/calendar/worship-service-brasil-55/
LOCATION:607 Avalon Rd\, Winter Garden\, FL\, United States
GEO:28.484973;-81.619298
END:VEVENT
BEGIN:VEVENT
DTSTART;TZID=America/New_York:20241215T111500
DTEND;TZID=America/New_York:20241215T121500
DTSTAMP:20260425T101013
CREATED:20240611T033012Z
LAST-MODIFIED:20240829T005552Z
UID:10002308-1734261300-1734264900@wg.sunlightchurch.com
SUMMARY:Worship Service-Brasil
DESCRIPTION:
URL:https://wg.sunlightchurch.com/calendar/worship-service-brasil-54/
LOCATION:607 Avalon Rd\, Winter Garden\, FL\, United States
GEO:28.484973;-81.619298
END:VEVENT
BEGIN:VEVENT
DTSTART;TZID=America/New_York:20241208T190000
DTEND;TZID=America/New_York:20241208T200000
DTSTAMP:20260425T101013
CREATED:20240611T033012Z
LAST-MODIFIED:20240829T005551Z
UID:10002305-1733684400-1733688000@wg.sunlightchurch.com
SUMMARY:Worship service-Brasil
DESCRIPTION:
URL:https://wg.sunlightchurch.com/calendar/worship-service-brasil-53/
LOCATION:607 Avalon Rd\, Winter Garden\, FL\, United States
GEO:28.484973;-81.619298
END:VEVENT
BEGIN:VEVENT
DTSTART;TZID=America/New_York:20241208T111500
DTEND;TZID=America/New_York:20241208T121500
DTSTAMP:20260425T101013
CREATED:20240611T033012Z
LAST-MODIFIED:20240829T005550Z
UID:10002304-1733656500-1733660100@wg.sunlightchurch.com
SUMMARY:Worship Service-Brasil
DESCRIPTION:
URL:https://wg.sunlightchurch.com/calendar/worship-service-brasil-52/
LOCATION:607 Avalon Rd\, Winter Garden\, FL\, United States
GEO:28.484973;-81.619298
END:VEVENT
BEGIN:VEVENT
DTSTART;TZID=America/New_York:20241201T190000
DTEND;TZID=America/New_York:20241201T200000
DTSTAMP:20260425T101013
CREATED:20240611T033011Z
LAST-MODIFIED:20240829T005549Z
UID:10002301-1733079600-1733083200@wg.sunlightchurch.com
SUMMARY:Worship service-Brasil
DESCRIPTION:
URL:https://wg.sunlightchurch.com/calendar/worship-service-brasil-51/
LOCATION:607 Avalon Rd\, Winter Garden\, FL\, United States
GEO:28.484973;-81.619298
END:VEVENT
BEGIN:VEVENT
DTSTART;TZID=America/New_York:20241201T111500
DTEND;TZID=America/New_York:20241201T121500
DTSTAMP:20260425T101013
CREATED:20240611T033011Z
LAST-MODIFIED:20240829T005547Z
UID:10002299-1733051700-1733055300@wg.sunlightchurch.com
SUMMARY:Worship Service-Brasil
DESCRIPTION:
URL:https://wg.sunlightchurch.com/calendar/worship-service-brasil-50/
LOCATION:607 Avalon Rd\, Winter Garden\, FL\, United States
GEO:28.484973;-81.619298
END:VEVENT
BEGIN:VEVENT
DTSTART;TZID=America/New_York:20241124T190000
DTEND;TZID=America/New_York:20241124T200000
DTSTAMP:20260425T101013
CREATED:20240611T033010Z
LAST-MODIFIED:20240829T005546Z
UID:10002297-1732474800-1732478400@wg.sunlightchurch.com
SUMMARY:Worship service-Brasil
DESCRIPTION:
URL:https://wg.sunlightchurch.com/calendar/worship-service-brasil-49/
LOCATION:607 Avalon Rd\, Winter Garden\, FL\, United States
GEO:28.484973;-81.619298
END:VEVENT
BEGIN:VEVENT
DTSTART;TZID=America/New_York:20241124T111500
DTEND;TZID=America/New_York:20241124T121500
DTSTAMP:20260425T101013
CREATED:20240611T033010Z
LAST-MODIFIED:20240829T005546Z
UID:10002296-1732446900-1732450500@wg.sunlightchurch.com
SUMMARY:Worship Service-Brasil
DESCRIPTION:
URL:https://wg.sunlightchurch.com/calendar/worship-service-brasil-48/
LOCATION:607 Avalon Rd\, Winter Garden\, FL\, United States
GEO:28.484973;-81.619298
END:VEVENT
BEGIN:VEVENT
DTSTART;TZID=America/New_York:20241117T190000
DTEND;TZID=America/New_York:20241117T200000
DTSTAMP:20260425T101013
CREATED:20240611T033009Z
LAST-MODIFIED:20240829T005544Z
UID:10002294-1731870000-1731873600@wg.sunlightchurch.com
SUMMARY:Worship service-Brasil
DESCRIPTION:
URL:https://wg.sunlightchurch.com/calendar/worship-service-brasil-47/
LOCATION:607 Avalon Rd\, Winter Garden\, FL\, United States
GEO:28.484973;-81.619298
END:VEVENT
BEGIN:VEVENT
DTSTART;TZID=America/New_York:20241117T111500
DTEND;TZID=America/New_York:20241117T121500
DTSTAMP:20260425T101013
CREATED:20240611T033009Z
LAST-MODIFIED:20240829T005543Z
UID:10002292-1731842100-1731845700@wg.sunlightchurch.com
SUMMARY:Worship Service-Brasil
DESCRIPTION:
URL:https://wg.sunlightchurch.com/calendar/worship-service-brasil-46/
LOCATION:607 Avalon Rd\, Winter Garden\, FL\, United States
GEO:28.484973;-81.619298
END:VEVENT
BEGIN:VEVENT
DTSTART;TZID=America/New_York:20241110T190000
DTEND;TZID=America/New_York:20241110T200000
DTSTAMP:20260425T101013
CREATED:20240611T033008Z
LAST-MODIFIED:20240829T005541Z
UID:10002290-1731265200-1731268800@wg.sunlightchurch.com
SUMMARY:Worship service-Brasil
DESCRIPTION:
URL:https://wg.sunlightchurch.com/calendar/worship-service-brasil-45/
LOCATION:607 Avalon Rd\, Winter Garden\, FL\, United States
GEO:28.484973;-81.619298
END:VEVENT
BEGIN:VEVENT
DTSTART;TZID=America/New_York:20241110T111500
DTEND;TZID=America/New_York:20241110T121500
DTSTAMP:20260425T101013
CREATED:20240611T033008Z
LAST-MODIFIED:20240829T005541Z
UID:10002287-1731237300-1731240900@wg.sunlightchurch.com
SUMMARY:Worship Service-Brasil
DESCRIPTION:
URL:https://wg.sunlightchurch.com/calendar/worship-service-brasil-44/
LOCATION:607 Avalon Rd\, Winter Garden\, FL\, United States
GEO:28.484973;-81.619298
END:VEVENT
BEGIN:VEVENT
DTSTART;TZID=America/New_York:20241103T190000
DTEND;TZID=America/New_York:20241103T200000
DTSTAMP:20260425T101013
CREATED:20240611T033007Z
LAST-MODIFIED:20240829T005539Z
UID:10002285-1730660400-1730664000@wg.sunlightchurch.com
SUMMARY:Worship service-Brasil
DESCRIPTION:
URL:https://wg.sunlightchurch.com/calendar/worship-service-brasil-43/
LOCATION:607 Avalon Rd\, Winter Garden\, FL\, United States
GEO:28.484973;-81.619298
END:VEVENT
BEGIN:VEVENT
DTSTART;TZID=America/New_York:20241103T111500
DTEND;TZID=America/New_York:20241103T121500
DTSTAMP:20260425T101013
CREATED:20240611T033007Z
LAST-MODIFIED:20240829T005538Z
UID:10002284-1730632500-1730636100@wg.sunlightchurch.com
SUMMARY:Worship Service-Brasil
DESCRIPTION:
URL:https://wg.sunlightchurch.com/calendar/worship-service-brasil-42/
LOCATION:607 Avalon Rd\, Winter Garden\, FL\, United States
GEO:28.484973;-81.619298
END:VEVENT
BEGIN:VEVENT
DTSTART;TZID=America/New_York:20241027T190000
DTEND;TZID=America/New_York:20241027T200000
DTSTAMP:20260425T101013
CREATED:20240611T033007Z
LAST-MODIFIED:20240829T005654Z
UID:10002282-1730055600-1730059200@wg.sunlightchurch.com
SUMMARY:Worship service-Brasil
DESCRIPTION:
URL:https://wg.sunlightchurch.com/calendar/worship-service-brasil-41/
LOCATION:607 Avalon Rd\, Winter Garden\, FL\, United States
GEO:28.484973;-81.619298
END:VEVENT
BEGIN:VEVENT
DTSTART;TZID=America/New_York:20241027T111500
DTEND;TZID=America/New_York:20241027T121500
DTSTAMP:20260425T101013
CREATED:20240611T033006Z
LAST-MODIFIED:20240829T005654Z
UID:10002280-1730027700-1730031300@wg.sunlightchurch.com
SUMMARY:Worship Service-Brasil
DESCRIPTION:
URL:https://wg.sunlightchurch.com/calendar/worship-service-brasil-40/
LOCATION:607 Avalon Rd\, Winter Garden\, FL\, United States
GEO:28.484973;-81.619298
END:VEVENT
BEGIN:VEVENT
DTSTART;TZID=America/New_York:20241020T190000
DTEND;TZID=America/New_York:20241020T200000
DTSTAMP:20260425T101013
CREATED:20240611T033006Z
LAST-MODIFIED:20240829T005652Z
UID:10002278-1729450800-1729454400@wg.sunlightchurch.com
SUMMARY:Worship service-Brasil
DESCRIPTION:
URL:https://wg.sunlightchurch.com/calendar/worship-service-brasil-39/
LOCATION:607 Avalon Rd\, Winter Garden\, FL\, United States
GEO:28.484973;-81.619298
END:VEVENT
BEGIN:VEVENT
DTSTART;TZID=America/New_York:20241020T111500
DTEND;TZID=America/New_York:20241020T121500
DTSTAMP:20260425T101013
CREATED:20240611T033005Z
LAST-MODIFIED:20240829T005635Z
UID:10002275-1729422900-1729426500@wg.sunlightchurch.com
SUMMARY:Worship Service-Brasil
DESCRIPTION:
URL:https://wg.sunlightchurch.com/calendar/worship-service-brasil-38/
LOCATION:607 Avalon Rd\, Winter Garden\, FL\, United States
GEO:28.484973;-81.619298
END:VEVENT
BEGIN:VEVENT
DTSTART;TZID=America/New_York:20241013T190000
DTEND;TZID=America/New_York:20241013T200000
DTSTAMP:20260425T101013
CREATED:20240611T033005Z
LAST-MODIFIED:20240829T005633Z
UID:10002274-1728846000-1728849600@wg.sunlightchurch.com
SUMMARY:Worship service-Brasil
DESCRIPTION:
URL:https://wg.sunlightchurch.com/calendar/worship-service-brasil-37/
LOCATION:607 Avalon Rd\, Winter Garden\, FL\, United States
GEO:28.484973;-81.619298
END:VEVENT
BEGIN:VEVENT
DTSTART;TZID=America/New_York:20241013T111500
DTEND;TZID=America/New_York:20241013T121500
DTSTAMP:20260425T101013
CREATED:20240611T033005Z
LAST-MODIFIED:20240829T005632Z
UID:10002272-1728818100-1728821700@wg.sunlightchurch.com
SUMMARY:Worship Service-Brasil
DESCRIPTION:
URL:https://wg.sunlightchurch.com/calendar/worship-service-brasil-36/
LOCATION:607 Avalon Rd\, Winter Garden\, FL\, United States
GEO:28.484973;-81.619298
END:VEVENT
BEGIN:VEVENT
DTSTART;TZID=America/New_York:20241006T190000
DTEND;TZID=America/New_York:20241006T200000
DTSTAMP:20260425T101013
CREATED:20240611T033004Z
LAST-MODIFIED:20240829T005613Z
UID:10002270-1728241200-1728244800@wg.sunlightchurch.com
SUMMARY:Worship service-Brasil
DESCRIPTION:
URL:https://wg.sunlightchurch.com/calendar/worship-service-brasil-35/
LOCATION:607 Avalon Rd\, Winter Garden\, FL\, United States
GEO:28.484973;-81.619298
END:VEVENT
BEGIN:VEVENT
DTSTART;TZID=America/New_York:20241006T111500
DTEND;TZID=America/New_York:20241006T121500
DTSTAMP:20260425T101013
CREATED:20240611T033003Z
LAST-MODIFIED:20240829T005612Z
UID:10002267-1728213300-1728216900@wg.sunlightchurch.com
SUMMARY:Worship Service-Brasil
DESCRIPTION:
URL:https://wg.sunlightchurch.com/calendar/worship-service-brasil-34/
LOCATION:607 Avalon Rd\, Winter Garden\, FL\, United States
GEO:28.484973;-81.619298
END:VEVENT
END:VCALENDAR