BEGIN:VCALENDAR
VERSION:2.0
PRODID:-//Sunlight Community Church at Winter Garden - ECPv6.15.20//NONSGML v1.0//EN
CALSCALE:GREGORIAN
METHOD:PUBLISH
X-ORIGINAL-URL:https://wg.sunlightchurch.com
X-WR-CALDESC:Events for Sunlight Community Church at Winter Garden
REFRESH-INTERVAL;VALUE=DURATION:PT1H
X-Robots-Tag:noindex
X-PUBLISHED-TTL:PT1H
BEGIN:VTIMEZONE
TZID:America/New_York
BEGIN:DAYLIGHT
TZOFFSETFROM:-0500
TZOFFSETTO:-0400
TZNAME:EDT
DTSTART:20240310T070000
END:DAYLIGHT
BEGIN:STANDARD
TZOFFSETFROM:-0400
TZOFFSETTO:-0500
TZNAME:EST
DTSTART:20241103T060000
END:STANDARD
BEGIN:DAYLIGHT
TZOFFSETFROM:-0500
TZOFFSETTO:-0400
TZNAME:EDT
DTSTART:20250309T070000
END:DAYLIGHT
BEGIN:STANDARD
TZOFFSETFROM:-0400
TZOFFSETTO:-0500
TZNAME:EST
DTSTART:20251102T060000
END:STANDARD
BEGIN:DAYLIGHT
TZOFFSETFROM:-0500
TZOFFSETTO:-0400
TZNAME:EDT
DTSTART:20260308T070000
END:DAYLIGHT
BEGIN:STANDARD
TZOFFSETFROM:-0400
TZOFFSETTO:-0500
TZNAME:EST
DTSTART:20261101T060000
END:STANDARD
END:VTIMEZONE
BEGIN:VEVENT
DTSTART;TZID=America/New_York:20250629T190000
DTEND;TZID=America/New_York:20250629T200000
DTSTAMP:20260422T233657
CREATED:20240611T033038Z
LAST-MODIFIED:20240617T203919Z
UID:10002421-1751223600-1751227200@wg.sunlightchurch.com
SUMMARY:Worship service-Brasil
DESCRIPTION:
URL:https://wg.sunlightchurch.com/calendar/worship-service-brasil-111/
LOCATION:607 Avalon Rd\, Winter Garden\, FL\, United States
GEO:28.484973;-81.619298
END:VEVENT
BEGIN:VEVENT
DTSTART;TZID=America/New_York:20250629T111500
DTEND;TZID=America/New_York:20250629T121500
DTSTAMP:20260422T233657
CREATED:20240611T033038Z
LAST-MODIFIED:20240617T203919Z
UID:10002420-1751195700-1751199300@wg.sunlightchurch.com
SUMMARY:Worship Service-Brasil
DESCRIPTION:
URL:https://wg.sunlightchurch.com/calendar/worship-service-brasil-110/
LOCATION:607 Avalon Rd\, Winter Garden\, FL\, United States
GEO:28.484973;-81.619298
END:VEVENT
BEGIN:VEVENT
DTSTART;TZID=America/New_York:20250622T190000
DTEND;TZID=America/New_York:20250622T200000
DTSTAMP:20260422T233657
CREATED:20240611T033037Z
LAST-MODIFIED:20240829T005706Z
UID:10002417-1750618800-1750622400@wg.sunlightchurch.com
SUMMARY:Worship service-Brasil
DESCRIPTION:
URL:https://wg.sunlightchurch.com/calendar/worship-service-brasil-109/
LOCATION:607 Avalon Rd\, Winter Garden\, FL\, United States
GEO:28.484973;-81.619298
END:VEVENT
BEGIN:VEVENT
DTSTART;TZID=America/New_York:20250622T111500
DTEND;TZID=America/New_York:20250622T121500
DTSTAMP:20260422T233657
CREATED:20240611T033037Z
LAST-MODIFIED:20240829T005705Z
UID:10002416-1750590900-1750594500@wg.sunlightchurch.com
SUMMARY:Worship Service-Brasil
DESCRIPTION:
URL:https://wg.sunlightchurch.com/calendar/worship-service-brasil-108/
LOCATION:607 Avalon Rd\, Winter Garden\, FL\, United States
GEO:28.484973;-81.619298
END:VEVENT
BEGIN:VEVENT
DTSTART;TZID=America/New_York:20250615T190000
DTEND;TZID=America/New_York:20250615T200000
DTSTAMP:20260422T233657
CREATED:20240611T033037Z
LAST-MODIFIED:20240829T005702Z
UID:10002413-1750014000-1750017600@wg.sunlightchurch.com
SUMMARY:Worship service-Brasil
DESCRIPTION:
URL:https://wg.sunlightchurch.com/calendar/worship-service-brasil-107/
LOCATION:607 Avalon Rd\, Winter Garden\, FL\, United States
GEO:28.484973;-81.619298
END:VEVENT
BEGIN:VEVENT
DTSTART;TZID=America/New_York:20250615T111500
DTEND;TZID=America/New_York:20250615T121500
DTSTAMP:20260422T233657
CREATED:20240611T033036Z
LAST-MODIFIED:20240829T005702Z
UID:10002411-1749986100-1749989700@wg.sunlightchurch.com
SUMMARY:Worship Service-Brasil
DESCRIPTION:
URL:https://wg.sunlightchurch.com/calendar/worship-service-brasil-106/
LOCATION:607 Avalon Rd\, Winter Garden\, FL\, United States
GEO:28.484973;-81.619298
END:VEVENT
BEGIN:VEVENT
DTSTART;TZID=America/New_York:20250608T190000
DTEND;TZID=America/New_York:20250608T200000
DTSTAMP:20260422T233657
CREATED:20240611T033036Z
LAST-MODIFIED:20240829T005659Z
UID:10002409-1749409200-1749412800@wg.sunlightchurch.com
SUMMARY:Worship service-Brasil
DESCRIPTION:
URL:https://wg.sunlightchurch.com/calendar/worship-service-brasil-105/
LOCATION:607 Avalon Rd\, Winter Garden\, FL\, United States
GEO:28.484973;-81.619298
END:VEVENT
BEGIN:VEVENT
DTSTART;TZID=America/New_York:20250608T111500
DTEND;TZID=America/New_York:20250608T121500
DTSTAMP:20260422T233657
CREATED:20240611T033035Z
LAST-MODIFIED:20240829T005658Z
UID:10002408-1749381300-1749384900@wg.sunlightchurch.com
SUMMARY:Worship Service-Brasil
DESCRIPTION:
URL:https://wg.sunlightchurch.com/calendar/worship-service-brasil-104/
LOCATION:607 Avalon Rd\, Winter Garden\, FL\, United States
GEO:28.484973;-81.619298
END:VEVENT
BEGIN:VEVENT
DTSTART;TZID=America/New_York:20250601T190000
DTEND;TZID=America/New_York:20250601T200000
DTSTAMP:20260422T233657
CREATED:20240611T033035Z
LAST-MODIFIED:20240829T005657Z
UID:10002406-1748804400-1748808000@wg.sunlightchurch.com
SUMMARY:Worship service-Brasil
DESCRIPTION:
URL:https://wg.sunlightchurch.com/calendar/worship-service-brasil-103/
LOCATION:607 Avalon Rd\, Winter Garden\, FL\, United States
GEO:28.484973;-81.619298
END:VEVENT
BEGIN:VEVENT
DTSTART;TZID=America/New_York:20250601T111500
DTEND;TZID=America/New_York:20250601T121500
DTSTAMP:20260422T233657
CREATED:20240611T033034Z
LAST-MODIFIED:20240829T005657Z
UID:10002404-1748776500-1748780100@wg.sunlightchurch.com
SUMMARY:Worship Service-Brasil
DESCRIPTION:
URL:https://wg.sunlightchurch.com/calendar/worship-service-brasil-102/
LOCATION:607 Avalon Rd\, Winter Garden\, FL\, United States
GEO:28.484973;-81.619298
END:VEVENT
BEGIN:VEVENT
DTSTART;TZID=America/New_York:20250525T190000
DTEND;TZID=America/New_York:20250525T200000
DTSTAMP:20260422T233657
CREATED:20240611T033034Z
LAST-MODIFIED:20240829T005655Z
UID:10002402-1748199600-1748203200@wg.sunlightchurch.com
SUMMARY:Worship service-Brasil
DESCRIPTION:
URL:https://wg.sunlightchurch.com/calendar/worship-service-brasil-101/
LOCATION:607 Avalon Rd\, Winter Garden\, FL\, United States
GEO:28.484973;-81.619298
END:VEVENT
BEGIN:VEVENT
DTSTART;TZID=America/New_York:20250525T111500
DTEND;TZID=America/New_York:20250525T121500
DTSTAMP:20260422T233657
CREATED:20240611T033033Z
LAST-MODIFIED:20240829T005654Z
UID:10002399-1748171700-1748175300@wg.sunlightchurch.com
SUMMARY:Worship Service-Brasil
DESCRIPTION:
URL:https://wg.sunlightchurch.com/calendar/worship-service-brasil-100/
LOCATION:607 Avalon Rd\, Winter Garden\, FL\, United States
GEO:28.484973;-81.619298
END:VEVENT
BEGIN:VEVENT
DTSTART;TZID=America/New_York:20250518T190000
DTEND;TZID=America/New_York:20250518T200000
DTSTAMP:20260422T233657
CREATED:20240611T033033Z
LAST-MODIFIED:20240829T005653Z
UID:10002397-1747594800-1747598400@wg.sunlightchurch.com
SUMMARY:Worship service-Brasil
DESCRIPTION:
URL:https://wg.sunlightchurch.com/calendar/worship-service-brasil-99/
LOCATION:607 Avalon Rd\, Winter Garden\, FL\, United States
GEO:28.484973;-81.619298
END:VEVENT
BEGIN:VEVENT
DTSTART;TZID=America/New_York:20250518T111500
DTEND;TZID=America/New_York:20250518T121500
DTSTAMP:20260422T233657
CREATED:20240611T033032Z
LAST-MODIFIED:20240829T005653Z
UID:10002396-1747566900-1747570500@wg.sunlightchurch.com
SUMMARY:Worship Service-Brasil
DESCRIPTION:
URL:https://wg.sunlightchurch.com/calendar/worship-service-brasil-98/
LOCATION:607 Avalon Rd\, Winter Garden\, FL\, United States
GEO:28.484973;-81.619298
END:VEVENT
BEGIN:VEVENT
DTSTART;TZID=America/New_York:20250511T190000
DTEND;TZID=America/New_York:20250511T200000
DTSTAMP:20260422T233657
CREATED:20240611T033032Z
LAST-MODIFIED:20240829T005651Z
UID:10002393-1746990000-1746993600@wg.sunlightchurch.com
SUMMARY:Worship service-Brasil
DESCRIPTION:
URL:https://wg.sunlightchurch.com/calendar/worship-service-brasil-97/
LOCATION:607 Avalon Rd\, Winter Garden\, FL\, United States
GEO:28.484973;-81.619298
END:VEVENT
BEGIN:VEVENT
DTSTART;TZID=America/New_York:20250511T111500
DTEND;TZID=America/New_York:20250511T121500
DTSTAMP:20260422T233657
CREATED:20240611T033032Z
LAST-MODIFIED:20240829T005650Z
UID:10002392-1746962100-1746965700@wg.sunlightchurch.com
SUMMARY:Worship Service-Brasil
DESCRIPTION:
URL:https://wg.sunlightchurch.com/calendar/worship-service-brasil-96/
LOCATION:607 Avalon Rd\, Winter Garden\, FL\, United States
GEO:28.484973;-81.619298
END:VEVENT
BEGIN:VEVENT
DTSTART;TZID=America/New_York:20250504T190000
DTEND;TZID=America/New_York:20250504T200000
DTSTAMP:20260422T233657
CREATED:20240611T033031Z
LAST-MODIFIED:20240829T005647Z
UID:10002390-1746385200-1746388800@wg.sunlightchurch.com
SUMMARY:Worship service-Brasil
DESCRIPTION:
URL:https://wg.sunlightchurch.com/calendar/worship-service-brasil-95/
LOCATION:607 Avalon Rd\, Winter Garden\, FL\, United States
GEO:28.484973;-81.619298
END:VEVENT
BEGIN:VEVENT
DTSTART;TZID=America/New_York:20250504T111500
DTEND;TZID=America/New_York:20250504T121500
DTSTAMP:20260422T233657
CREATED:20240611T033030Z
LAST-MODIFIED:20240829T005647Z
UID:10002387-1746357300-1746360900@wg.sunlightchurch.com
SUMMARY:Worship Service-Brasil
DESCRIPTION:
URL:https://wg.sunlightchurch.com/calendar/worship-service-brasil-94/
LOCATION:607 Avalon Rd\, Winter Garden\, FL\, United States
GEO:28.484973;-81.619298
END:VEVENT
BEGIN:VEVENT
DTSTART;TZID=America/New_York:20250427T190000
DTEND;TZID=America/New_York:20250427T200000
DTSTAMP:20260422T233657
CREATED:20240611T033030Z
LAST-MODIFIED:20240829T005645Z
UID:10002385-1745780400-1745784000@wg.sunlightchurch.com
SUMMARY:Worship service-Brasil
DESCRIPTION:
URL:https://wg.sunlightchurch.com/calendar/worship-service-brasil-93/
LOCATION:607 Avalon Rd\, Winter Garden\, FL\, United States
GEO:28.484973;-81.619298
END:VEVENT
BEGIN:VEVENT
DTSTART;TZID=America/New_York:20250427T111500
DTEND;TZID=America/New_York:20250427T121500
DTSTAMP:20260422T233657
CREATED:20240611T033029Z
LAST-MODIFIED:20240829T005645Z
UID:10002384-1745752500-1745756100@wg.sunlightchurch.com
SUMMARY:Worship Service-Brasil
DESCRIPTION:
URL:https://wg.sunlightchurch.com/calendar/worship-service-brasil-92/
LOCATION:607 Avalon Rd\, Winter Garden\, FL\, United States
GEO:28.484973;-81.619298
END:VEVENT
BEGIN:VEVENT
DTSTART;TZID=America/New_York:20250420T190000
DTEND;TZID=America/New_York:20250420T200000
DTSTAMP:20260422T233657
CREATED:20240611T033029Z
LAST-MODIFIED:20240829T005643Z
UID:10002381-1745175600-1745179200@wg.sunlightchurch.com
SUMMARY:Worship service-Brasil
DESCRIPTION:
URL:https://wg.sunlightchurch.com/calendar/worship-service-brasil-91/
LOCATION:607 Avalon Rd\, Winter Garden\, FL\, United States
GEO:28.484973;-81.619298
END:VEVENT
BEGIN:VEVENT
DTSTART;TZID=America/New_York:20250420T111500
DTEND;TZID=America/New_York:20250420T121500
DTSTAMP:20260422T233657
CREATED:20240611T033028Z
LAST-MODIFIED:20240829T005642Z
UID:10002379-1745147700-1745151300@wg.sunlightchurch.com
SUMMARY:Worship Service-Brasil
DESCRIPTION:
URL:https://wg.sunlightchurch.com/calendar/worship-service-brasil-90/
LOCATION:607 Avalon Rd\, Winter Garden\, FL\, United States
GEO:28.484973;-81.619298
END:VEVENT
BEGIN:VEVENT
DTSTART;TZID=America/New_York:20250413T190000
DTEND;TZID=America/New_York:20250413T200000
DTSTAMP:20260422T233657
CREATED:20240611T033027Z
LAST-MODIFIED:20240829T005641Z
UID:10002377-1744570800-1744574400@wg.sunlightchurch.com
SUMMARY:Worship service-Brasil
DESCRIPTION:
URL:https://wg.sunlightchurch.com/calendar/worship-service-brasil-89/
LOCATION:607 Avalon Rd\, Winter Garden\, FL\, United States
GEO:28.484973;-81.619298
END:VEVENT
BEGIN:VEVENT
DTSTART;TZID=America/New_York:20250413T111500
DTEND;TZID=America/New_York:20250413T121500
DTSTAMP:20260422T233657
CREATED:20240611T033027Z
LAST-MODIFIED:20240829T005640Z
UID:10002376-1744542900-1744546500@wg.sunlightchurch.com
SUMMARY:Worship Service-Brasil
DESCRIPTION:
URL:https://wg.sunlightchurch.com/calendar/worship-service-brasil-88/
LOCATION:607 Avalon Rd\, Winter Garden\, FL\, United States
GEO:28.484973;-81.619298
END:VEVENT
BEGIN:VEVENT
DTSTART;TZID=America/New_York:20250406T190000
DTEND;TZID=America/New_York:20250406T200000
DTSTAMP:20260422T233657
CREATED:20240611T033027Z
LAST-MODIFIED:20240829T005637Z
UID:10002374-1743966000-1743969600@wg.sunlightchurch.com
SUMMARY:Worship service-Brasil
DESCRIPTION:
URL:https://wg.sunlightchurch.com/calendar/worship-service-brasil-87/
LOCATION:607 Avalon Rd\, Winter Garden\, FL\, United States
GEO:28.484973;-81.619298
END:VEVENT
BEGIN:VEVENT
DTSTART;TZID=America/New_York:20250406T111500
DTEND;TZID=America/New_York:20250406T121500
DTSTAMP:20260422T233657
CREATED:20240611T033026Z
LAST-MODIFIED:20240829T005637Z
UID:10002371-1743938100-1743941700@wg.sunlightchurch.com
SUMMARY:Worship Service-Brasil
DESCRIPTION:
URL:https://wg.sunlightchurch.com/calendar/worship-service-brasil-86/
LOCATION:607 Avalon Rd\, Winter Garden\, FL\, United States
GEO:28.484973;-81.619298
END:VEVENT
BEGIN:VEVENT
DTSTART;TZID=America/New_York:20250330T190000
DTEND;TZID=America/New_York:20250330T200000
DTSTAMP:20260422T233657
CREATED:20240611T033025Z
LAST-MODIFIED:20240829T005635Z
UID:10002370-1743361200-1743364800@wg.sunlightchurch.com
SUMMARY:Worship service-Brasil
DESCRIPTION:
URL:https://wg.sunlightchurch.com/calendar/worship-service-brasil-85/
LOCATION:607 Avalon Rd\, Winter Garden\, FL\, United States
GEO:28.484973;-81.619298
END:VEVENT
BEGIN:VEVENT
DTSTART;TZID=America/New_York:20250330T111500
DTEND;TZID=America/New_York:20250330T121500
DTSTAMP:20260422T233657
CREATED:20240611T033025Z
LAST-MODIFIED:20240829T005634Z
UID:10002367-1743333300-1743336900@wg.sunlightchurch.com
SUMMARY:Worship Service-Brasil
DESCRIPTION:
URL:https://wg.sunlightchurch.com/calendar/worship-service-brasil-84/
LOCATION:607 Avalon Rd\, Winter Garden\, FL\, United States
GEO:28.484973;-81.619298
END:VEVENT
BEGIN:VEVENT
DTSTART;TZID=America/New_York:20250323T190000
DTEND;TZID=America/New_York:20250323T200000
DTSTAMP:20260422T233657
CREATED:20240611T033024Z
LAST-MODIFIED:20240829T005633Z
UID:10002366-1742756400-1742760000@wg.sunlightchurch.com
SUMMARY:Worship service-Brasil
DESCRIPTION:
URL:https://wg.sunlightchurch.com/calendar/worship-service-brasil-83/
LOCATION:607 Avalon Rd\, Winter Garden\, FL\, United States
GEO:28.484973;-81.619298
END:VEVENT
BEGIN:VEVENT
DTSTART;TZID=America/New_York:20250323T111500
DTEND;TZID=America/New_York:20250323T121500
DTSTAMP:20260422T233657
CREATED:20240611T033024Z
LAST-MODIFIED:20240829T005632Z
UID:10002363-1742728500-1742732100@wg.sunlightchurch.com
SUMMARY:Worship Service-Brasil
DESCRIPTION:
URL:https://wg.sunlightchurch.com/calendar/worship-service-brasil-82/
LOCATION:607 Avalon Rd\, Winter Garden\, FL\, United States
GEO:28.484973;-81.619298
END:VEVENT
END:VCALENDAR