BEGIN:VCALENDAR
VERSION:2.0
PRODID:-//Sunlight Community Church at Winter Garden - ECPv6.15.20//NONSGML v1.0//EN
CALSCALE:GREGORIAN
METHOD:PUBLISH
X-ORIGINAL-URL:https://wg.sunlightchurch.com/ko
X-WR-CALDESC:Sunlight Community Church at Winter Garden 이벤트
REFRESH-INTERVAL;VALUE=DURATION:PT1H
X-Robots-Tag:noindex
X-PUBLISHED-TTL:PT1H
BEGIN:VTIMEZONE
TZID:America/New_York
BEGIN:DAYLIGHT
TZOFFSETFROM:-0500
TZOFFSETTO:-0400
TZNAME:EDT
DTSTART:20240310T070000
END:DAYLIGHT
BEGIN:STANDARD
TZOFFSETFROM:-0400
TZOFFSETTO:-0500
TZNAME:EST
DTSTART:20241103T060000
END:STANDARD
BEGIN:DAYLIGHT
TZOFFSETFROM:-0500
TZOFFSETTO:-0400
TZNAME:EDT
DTSTART:20250309T070000
END:DAYLIGHT
BEGIN:STANDARD
TZOFFSETFROM:-0400
TZOFFSETTO:-0500
TZNAME:EST
DTSTART:20251102T060000
END:STANDARD
BEGIN:DAYLIGHT
TZOFFSETFROM:-0500
TZOFFSETTO:-0400
TZNAME:EDT
DTSTART:20260308T070000
END:DAYLIGHT
BEGIN:STANDARD
TZOFFSETFROM:-0400
TZOFFSETTO:-0500
TZNAME:EST
DTSTART:20261101T060000
END:STANDARD
END:VTIMEZONE
BEGIN:VEVENT
DTSTART;TZID=America/New_York:20250914T111500
DTEND;TZID=America/New_York:20250914T123000
DTSTAMP:20260423T031652
CREATED:20240313T201003Z
LAST-MODIFIED:20240610T022545Z
UID:10001942-1757848500-1757853000@wg.sunlightchurch.com
SUMMARY:Worship Service
DESCRIPTION:
URL:https://wg.sunlightchurch.com/ko/calendar/worship-service-79/
LOCATION:607 Avalon Rd\, Winter Garden\, FL 34787\, USA
END:VEVENT
BEGIN:VEVENT
DTSTART;TZID=America/New_York:20250918T190000
DTEND;TZID=America/New_York:20250918T200000
DTSTAMP:20260423T031652
CREATED:20240315T121627Z
LAST-MODIFIED:20240610T022545Z
UID:10002121-1758222000-1758225600@wg.sunlightchurch.com
SUMMARY:Adult Bible Study
DESCRIPTION:
URL:https://wg.sunlightchurch.com/ko/calendar/adult-bible-study-79/
END:VEVENT
BEGIN:VEVENT
DTSTART;TZID=America/New_York:20250921T101500
DTEND;TZID=America/New_York:20250921T111500
DTSTAMP:20260423T031652
CREATED:20240315T121627Z
LAST-MODIFIED:20240525T202042Z
UID:10002122-1758449700-1758453300@wg.sunlightchurch.com
SUMMARY:Adult Sunday School
DESCRIPTION:
URL:https://wg.sunlightchurch.com/ko/calendar/adult-sunday-school-80/
END:VEVENT
BEGIN:VEVENT
DTSTART;TZID=America/New_York:20250921T111500
DTEND;TZID=America/New_York:20250921T123000
DTSTAMP:20260423T031652
CREATED:20240313T201003Z
LAST-MODIFIED:20240610T022545Z
UID:10001943-1758453300-1758457800@wg.sunlightchurch.com
SUMMARY:Worship Service
DESCRIPTION:
URL:https://wg.sunlightchurch.com/ko/calendar/worship-service-80/
LOCATION:607 Avalon Rd\, Winter Garden\, FL 34787\, USA
END:VEVENT
BEGIN:VEVENT
DTSTART;TZID=America/New_York:20250925T190000
DTEND;TZID=America/New_York:20250925T200000
DTSTAMP:20260423T031652
CREATED:20240315T121628Z
LAST-MODIFIED:20240610T022545Z
UID:10002123-1758826800-1758830400@wg.sunlightchurch.com
SUMMARY:Adult Bible Study
DESCRIPTION:
URL:https://wg.sunlightchurch.com/ko/calendar/adult-bible-study-80/
END:VEVENT
BEGIN:VEVENT
DTSTART;TZID=America/New_York:20250928T101500
DTEND;TZID=America/New_York:20250928T111500
DTSTAMP:20260423T031652
CREATED:20240315T121628Z
LAST-MODIFIED:20240525T202043Z
UID:10002124-1759054500-1759058100@wg.sunlightchurch.com
SUMMARY:Adult Sunday School
DESCRIPTION:
URL:https://wg.sunlightchurch.com/ko/calendar/adult-sunday-school-81/
END:VEVENT
BEGIN:VEVENT
DTSTART;TZID=America/New_York:20250928T111500
DTEND;TZID=America/New_York:20250928T123000
DTSTAMP:20260423T031652
CREATED:20240313T201004Z
LAST-MODIFIED:20240610T022546Z
UID:10001944-1759058100-1759062600@wg.sunlightchurch.com
SUMMARY:Worship Service
DESCRIPTION:
URL:https://wg.sunlightchurch.com/ko/calendar/worship-service-81/
LOCATION:607 Avalon Rd\, Winter Garden\, FL 34787\, USA
END:VEVENT
BEGIN:VEVENT
DTSTART;TZID=America/New_York:20251002T190000
DTEND;TZID=America/New_York:20251002T200000
DTSTAMP:20260423T031652
CREATED:20240315T121628Z
LAST-MODIFIED:20240610T022546Z
UID:10002125-1759431600-1759435200@wg.sunlightchurch.com
SUMMARY:Adult Bible Study
DESCRIPTION:
URL:https://wg.sunlightchurch.com/ko/calendar/adult-bible-study-81/
END:VEVENT
BEGIN:VEVENT
DTSTART;TZID=America/New_York:20251005T101500
DTEND;TZID=America/New_York:20251005T111500
DTSTAMP:20260423T031652
CREATED:20240315T121628Z
LAST-MODIFIED:20240525T202043Z
UID:10002126-1759659300-1759662900@wg.sunlightchurch.com
SUMMARY:Adult Sunday School
DESCRIPTION:
URL:https://wg.sunlightchurch.com/ko/calendar/adult-sunday-school-82/
END:VEVENT
BEGIN:VEVENT
DTSTART;TZID=America/New_York:20251005T111500
DTEND;TZID=America/New_York:20251005T123000
DTSTAMP:20260423T031652
CREATED:20240313T201004Z
LAST-MODIFIED:20240610T022546Z
UID:10001945-1759662900-1759667400@wg.sunlightchurch.com
SUMMARY:Worship Service
DESCRIPTION:
URL:https://wg.sunlightchurch.com/ko/calendar/worship-service-82/
LOCATION:607 Avalon Rd\, Winter Garden\, FL 34787\, USA
END:VEVENT
BEGIN:VEVENT
DTSTART;TZID=America/New_York:20251009T190000
DTEND;TZID=America/New_York:20251009T200000
DTSTAMP:20260423T031652
CREATED:20240315T121629Z
LAST-MODIFIED:20240610T022546Z
UID:10002127-1760036400-1760040000@wg.sunlightchurch.com
SUMMARY:Adult Bible Study
DESCRIPTION:
URL:https://wg.sunlightchurch.com/ko/calendar/adult-bible-study-82/
END:VEVENT
BEGIN:VEVENT
DTSTART;TZID=America/New_York:20251012T101500
DTEND;TZID=America/New_York:20251012T111500
DTSTAMP:20260423T031652
CREATED:20240315T121629Z
LAST-MODIFIED:20240525T202043Z
UID:10002128-1760264100-1760267700@wg.sunlightchurch.com
SUMMARY:Adult Sunday School
DESCRIPTION:
URL:https://wg.sunlightchurch.com/ko/calendar/adult-sunday-school-83/
END:VEVENT
BEGIN:VEVENT
DTSTART;TZID=America/New_York:20251012T111500
DTEND;TZID=America/New_York:20251012T123000
DTSTAMP:20260423T031652
CREATED:20240313T201004Z
LAST-MODIFIED:20240610T022546Z
UID:10001946-1760267700-1760272200@wg.sunlightchurch.com
SUMMARY:Worship Service
DESCRIPTION:
URL:https://wg.sunlightchurch.com/ko/calendar/worship-service-83/
LOCATION:607 Avalon Rd\, Winter Garden\, FL 34787\, USA
END:VEVENT
BEGIN:VEVENT
DTSTART;TZID=America/New_York:20251016T190000
DTEND;TZID=America/New_York:20251016T200000
DTSTAMP:20260423T031652
CREATED:20240315T121629Z
LAST-MODIFIED:20240610T022547Z
UID:10002129-1760641200-1760644800@wg.sunlightchurch.com
SUMMARY:Adult Bible Study
DESCRIPTION:
URL:https://wg.sunlightchurch.com/ko/calendar/adult-bible-study-83/
END:VEVENT
BEGIN:VEVENT
DTSTART;TZID=America/New_York:20251019T101500
DTEND;TZID=America/New_York:20251019T111500
DTSTAMP:20260423T031652
CREATED:20240315T121629Z
LAST-MODIFIED:20240525T202044Z
UID:10002130-1760868900-1760872500@wg.sunlightchurch.com
SUMMARY:Adult Sunday School
DESCRIPTION:
URL:https://wg.sunlightchurch.com/ko/calendar/adult-sunday-school-84/
END:VEVENT
BEGIN:VEVENT
DTSTART;TZID=America/New_York:20251019T111500
DTEND;TZID=America/New_York:20251019T123000
DTSTAMP:20260423T031652
CREATED:20240313T201004Z
LAST-MODIFIED:20240610T022547Z
UID:10001947-1760872500-1760877000@wg.sunlightchurch.com
SUMMARY:Worship Service
DESCRIPTION:
URL:https://wg.sunlightchurch.com/ko/calendar/worship-service-84/
LOCATION:607 Avalon Rd\, Winter Garden\, FL 34787\, USA
END:VEVENT
BEGIN:VEVENT
DTSTART;TZID=America/New_York:20251023T190000
DTEND;TZID=America/New_York:20251023T200000
DTSTAMP:20260423T031652
CREATED:20240315T121629Z
LAST-MODIFIED:20240610T022547Z
UID:10002131-1761246000-1761249600@wg.sunlightchurch.com
SUMMARY:Adult Bible Study
DESCRIPTION:
URL:https://wg.sunlightchurch.com/ko/calendar/adult-bible-study-84/
END:VEVENT
BEGIN:VEVENT
DTSTART;TZID=America/New_York:20251026T101500
DTEND;TZID=America/New_York:20251026T111500
DTSTAMP:20260423T031652
CREATED:20240315T121630Z
LAST-MODIFIED:20240525T202044Z
UID:10002132-1761473700-1761477300@wg.sunlightchurch.com
SUMMARY:Adult Sunday School
DESCRIPTION:
URL:https://wg.sunlightchurch.com/ko/calendar/adult-sunday-school-85/
END:VEVENT
BEGIN:VEVENT
DTSTART;TZID=America/New_York:20251026T111500
DTEND;TZID=America/New_York:20251026T123000
DTSTAMP:20260423T031652
CREATED:20240313T201004Z
LAST-MODIFIED:20240610T022547Z
UID:10001948-1761477300-1761481800@wg.sunlightchurch.com
SUMMARY:Worship Service
DESCRIPTION:
URL:https://wg.sunlightchurch.com/ko/calendar/worship-service-85/
LOCATION:607 Avalon Rd\, Winter Garden\, FL 34787\, USA
END:VEVENT
BEGIN:VEVENT
DTSTART;TZID=America/New_York:20251030T190000
DTEND;TZID=America/New_York:20251030T200000
DTSTAMP:20260423T031652
CREATED:20240315T121630Z
LAST-MODIFIED:20240610T022547Z
UID:10002133-1761850800-1761854400@wg.sunlightchurch.com
SUMMARY:Adult Bible Study
DESCRIPTION:
URL:https://wg.sunlightchurch.com/ko/calendar/adult-bible-study-85/
END:VEVENT
BEGIN:VEVENT
DTSTART;TZID=America/New_York:20251102T101500
DTEND;TZID=America/New_York:20251102T111500
DTSTAMP:20260423T031652
CREATED:20240315T121630Z
LAST-MODIFIED:20240525T202045Z
UID:10002134-1762078500-1762082100@wg.sunlightchurch.com
SUMMARY:Adult Sunday School
DESCRIPTION:
URL:https://wg.sunlightchurch.com/ko/calendar/adult-sunday-school-86/
END:VEVENT
BEGIN:VEVENT
DTSTART;TZID=America/New_York:20251102T111500
DTEND;TZID=America/New_York:20251102T123000
DTSTAMP:20260423T031652
CREATED:20240313T201005Z
LAST-MODIFIED:20240610T022548Z
UID:10001949-1762082100-1762086600@wg.sunlightchurch.com
SUMMARY:Worship Service
DESCRIPTION:
URL:https://wg.sunlightchurch.com/ko/calendar/worship-service-86/
LOCATION:607 Avalon Rd\, Winter Garden\, FL 34787\, USA
END:VEVENT
BEGIN:VEVENT
DTSTART;TZID=America/New_York:20251106T190000
DTEND;TZID=America/New_York:20251106T200000
DTSTAMP:20260423T031652
CREATED:20240315T121630Z
LAST-MODIFIED:20240610T022548Z
UID:10002135-1762455600-1762459200@wg.sunlightchurch.com
SUMMARY:Adult Bible Study
DESCRIPTION:
URL:https://wg.sunlightchurch.com/ko/calendar/adult-bible-study-86/
END:VEVENT
BEGIN:VEVENT
DTSTART;TZID=America/New_York:20251109T101500
DTEND;TZID=America/New_York:20251109T111500
DTSTAMP:20260423T031652
CREATED:20240315T121631Z
LAST-MODIFIED:20240525T202045Z
UID:10002136-1762683300-1762686900@wg.sunlightchurch.com
SUMMARY:Adult Sunday School
DESCRIPTION:
URL:https://wg.sunlightchurch.com/ko/calendar/adult-sunday-school-87/
END:VEVENT
BEGIN:VEVENT
DTSTART;TZID=America/New_York:20251109T111500
DTEND;TZID=America/New_York:20251109T123000
DTSTAMP:20260423T031652
CREATED:20240313T201005Z
LAST-MODIFIED:20240610T022548Z
UID:10001950-1762686900-1762691400@wg.sunlightchurch.com
SUMMARY:Worship Service
DESCRIPTION:
URL:https://wg.sunlightchurch.com/ko/calendar/worship-service-87/
LOCATION:607 Avalon Rd\, Winter Garden\, FL 34787\, USA
END:VEVENT
BEGIN:VEVENT
DTSTART;TZID=America/New_York:20251113T190000
DTEND;TZID=America/New_York:20251113T200000
DTSTAMP:20260423T031652
CREATED:20240315T121631Z
LAST-MODIFIED:20240610T022548Z
UID:10002137-1763060400-1763064000@wg.sunlightchurch.com
SUMMARY:Adult Bible Study
DESCRIPTION:
URL:https://wg.sunlightchurch.com/ko/calendar/adult-bible-study-87/
END:VEVENT
BEGIN:VEVENT
DTSTART;TZID=America/New_York:20251116T101500
DTEND;TZID=America/New_York:20251116T111500
DTSTAMP:20260423T031652
CREATED:20240315T121631Z
LAST-MODIFIED:20240525T202045Z
UID:10002138-1763288100-1763291700@wg.sunlightchurch.com
SUMMARY:Adult Sunday School
DESCRIPTION:
URL:https://wg.sunlightchurch.com/ko/calendar/adult-sunday-school-88/
END:VEVENT
BEGIN:VEVENT
DTSTART;TZID=America/New_York:20251116T111500
DTEND;TZID=America/New_York:20251116T123000
DTSTAMP:20260423T031652
CREATED:20240313T201005Z
LAST-MODIFIED:20240610T022549Z
UID:10001951-1763291700-1763296200@wg.sunlightchurch.com
SUMMARY:Worship Service
DESCRIPTION:
URL:https://wg.sunlightchurch.com/ko/calendar/worship-service-88/
LOCATION:607 Avalon Rd\, Winter Garden\, FL 34787\, USA
END:VEVENT
BEGIN:VEVENT
DTSTART;TZID=America/New_York:20251120T190000
DTEND;TZID=America/New_York:20251120T200000
DTSTAMP:20260423T031652
CREATED:20240315T121631Z
LAST-MODIFIED:20240610T022549Z
UID:10002139-1763665200-1763668800@wg.sunlightchurch.com
SUMMARY:Adult Bible Study
DESCRIPTION:
URL:https://wg.sunlightchurch.com/ko/calendar/adult-bible-study-88/
END:VEVENT
BEGIN:VEVENT
DTSTART;TZID=America/New_York:20251123T101500
DTEND;TZID=America/New_York:20251123T111500
DTSTAMP:20260423T031652
CREATED:20240315T121632Z
LAST-MODIFIED:20240525T202045Z
UID:10002140-1763892900-1763896500@wg.sunlightchurch.com
SUMMARY:Adult Sunday School
DESCRIPTION:
URL:https://wg.sunlightchurch.com/ko/calendar/adult-sunday-school-89/
END:VEVENT
END:VCALENDAR