BEGIN:VCALENDAR
VERSION:2.0
PRODID:-//Sunlight Community Church at Winter Garden - ECPv6.15.13.1//NONSGML v1.0//EN
CALSCALE:GREGORIAN
METHOD:PUBLISH
X-ORIGINAL-URL:https://wg.sunlightchurch.com/ko
X-WR-CALDESC:Sunlight Community Church at Winter Garden 이벤트
REFRESH-INTERVAL;VALUE=DURATION:PT1H
X-Robots-Tag:noindex
X-PUBLISHED-TTL:PT1H
BEGIN:VTIMEZONE
TZID:America/New_York
BEGIN:DAYLIGHT
TZOFFSETFROM:-0500
TZOFFSETTO:-0400
TZNAME:EDT
DTSTART:20240310T070000
END:DAYLIGHT
BEGIN:STANDARD
TZOFFSETFROM:-0400
TZOFFSETTO:-0500
TZNAME:EST
DTSTART:20241103T060000
END:STANDARD
BEGIN:DAYLIGHT
TZOFFSETFROM:-0500
TZOFFSETTO:-0400
TZNAME:EDT
DTSTART:20250309T070000
END:DAYLIGHT
BEGIN:STANDARD
TZOFFSETFROM:-0400
TZOFFSETTO:-0500
TZNAME:EST
DTSTART:20251102T060000
END:STANDARD
BEGIN:DAYLIGHT
TZOFFSETFROM:-0500
TZOFFSETTO:-0400
TZNAME:EDT
DTSTART:20260308T070000
END:DAYLIGHT
BEGIN:STANDARD
TZOFFSETFROM:-0400
TZOFFSETTO:-0500
TZNAME:EST
DTSTART:20261101T060000
END:STANDARD
END:VTIMEZONE
BEGIN:VEVENT
DTSTART;TZID=America/New_York:20250413T093000
DTEND;TZID=America/New_York:20250413T104500
DTSTAMP:20260421T190013
CREATED:20240731T222651Z
LAST-MODIFIED:20240829T005640Z
UID:13172-1744536600-1744541100@wg.sunlightchurch.com
SUMMARY:Sunlight English Service
DESCRIPTION:
URL:https://wg.sunlightchurch.com/ko/calendar/sunlight-english-service-25/
END:VEVENT
BEGIN:VEVENT
DTSTART;TZID=America/New_York:20250413T101500
DTEND;TZID=America/New_York:20250413T111500
DTSTAMP:20260421T190013
CREATED:20240315T121620Z
LAST-MODIFIED:20240525T202036Z
UID:11713-1744539300-1744542900@wg.sunlightchurch.com
SUMMARY:Adult Sunday School
DESCRIPTION:
URL:https://wg.sunlightchurch.com/ko/calendar/adult-sunday-school-57/
END:VEVENT
BEGIN:VEVENT
DTSTART;TZID=America/New_York:20250413T104500
DTEND;TZID=America/New_York:20250413T111500
DTSTAMP:20260421T190013
CREATED:20240611T033027Z
LAST-MODIFIED:20240829T005640Z
UID:12429-1744541100-1744542900@wg.sunlightchurch.com
SUMMARY:Brasil breakfast café
DESCRIPTION:
URL:https://wg.sunlightchurch.com/ko/calendar/brasil-breakfast-cafe-45/
END:VEVENT
BEGIN:VEVENT
DTSTART;TZID=America/New_York:20250413T111500
DTEND;TZID=America/New_York:20250413T121500
DTSTAMP:20260421T190013
CREATED:20240611T033027Z
LAST-MODIFIED:20240829T005640Z
UID:12430-1744542900-1744546500@wg.sunlightchurch.com
SUMMARY:Worship Service-Brasil
DESCRIPTION:
URL:https://wg.sunlightchurch.com/ko/calendar/worship-service-brasil-88/
LOCATION:607 Avalon Rd\, Winter Garden\, FL\, United States
END:VEVENT
BEGIN:VEVENT
DTSTART;TZID=America/New_York:20250413T111500
DTEND;TZID=America/New_York:20250413T123000
DTSTAMP:20260421T190013
CREATED:20240313T200958Z
LAST-MODIFIED:20240610T022534Z
UID:11422-1744542900-1744547400@wg.sunlightchurch.com
SUMMARY:Worship Service
DESCRIPTION:
URL:https://wg.sunlightchurch.com/ko/calendar/worship-service-57/
LOCATION:607 Avalon Rd\, Winter Garden\, FL 34787\, USA
END:VEVENT
BEGIN:VEVENT
DTSTART;TZID=America/New_York:20250413T183000
DTEND;TZID=America/New_York:20250413T190000
DTSTAMP:20260421T190013
CREATED:20240611T033028Z
LAST-MODIFIED:20240829T005641Z
UID:12432-1744569000-1744570800@wg.sunlightchurch.com
SUMMARY:Brasil evening café
DESCRIPTION:
URL:https://wg.sunlightchurch.com/ko/calendar/brasil-evening-cafe-44/
END:VEVENT
BEGIN:VEVENT
DTSTART;TZID=America/New_York:20250413T190000
DTEND;TZID=America/New_York:20250413T200000
DTSTAMP:20260421T190013
CREATED:20240611T033027Z
LAST-MODIFIED:20240829T005641Z
UID:12431-1744570800-1744574400@wg.sunlightchurch.com
SUMMARY:Worship service-Brasil
DESCRIPTION:
URL:https://wg.sunlightchurch.com/ko/calendar/worship-service-brasil-89/
LOCATION:607 Avalon Rd\, Winter Garden\, FL\, United States
END:VEVENT
END:VCALENDAR