BEGIN:VCALENDAR
VERSION:2.0
PRODID:-//Sunlight Community Church at Winter Garden - ECPv6.15.13.1//NONSGML v1.0//EN
CALSCALE:GREGORIAN
METHOD:PUBLISH
X-WR-CALNAME:Sunlight Community Church at Winter Garden
X-ORIGINAL-URL:https://wg.sunlightchurch.com/ko
X-WR-CALDESC:Sunlight Community Church at Winter Garden 이벤트
REFRESH-INTERVAL;VALUE=DURATION:PT1H
X-Robots-Tag:noindex
X-PUBLISHED-TTL:PT1H
BEGIN:VTIMEZONE
TZID:America/New_York
BEGIN:DAYLIGHT
TZOFFSETFROM:-0500
TZOFFSETTO:-0400
TZNAME:EDT
DTSTART:20240310T070000
END:DAYLIGHT
BEGIN:STANDARD
TZOFFSETFROM:-0400
TZOFFSETTO:-0500
TZNAME:EST
DTSTART:20241103T060000
END:STANDARD
BEGIN:DAYLIGHT
TZOFFSETFROM:-0500
TZOFFSETTO:-0400
TZNAME:EDT
DTSTART:20250309T070000
END:DAYLIGHT
BEGIN:STANDARD
TZOFFSETFROM:-0400
TZOFFSETTO:-0500
TZNAME:EST
DTSTART:20251102T060000
END:STANDARD
BEGIN:DAYLIGHT
TZOFFSETFROM:-0500
TZOFFSETTO:-0400
TZNAME:EDT
DTSTART:20260308T070000
END:DAYLIGHT
BEGIN:STANDARD
TZOFFSETFROM:-0400
TZOFFSETTO:-0500
TZNAME:EST
DTSTART:20261101T060000
END:STANDARD
END:VTIMEZONE
BEGIN:VEVENT
DTSTART;TZID=America/New_York:20250313T190000
DTEND;TZID=America/New_York:20250313T200000
DTSTAMP:20260420T194003
CREATED:20240315T121618Z
LAST-MODIFIED:20240829T005626Z
UID:11700-1741892400-1741896000@wg.sunlightchurch.com
SUMMARY:Adult Bible Study
DESCRIPTION:
URL:https://wg.sunlightchurch.com/ko/calendar/adult-bible-study-52/
END:VEVENT
BEGIN:VEVENT
DTSTART;TZID=America/New_York:20250312T120000
DTEND;TZID=America/New_York:20250312T130000
DTSTAMP:20260420T194003
CREATED:20240626T045239Z
LAST-MODIFIED:20240821T000242Z
UID:13002-1741780800-1741784400@wg.sunlightchurch.com
SUMMARY:Just Show Up Book Club
DESCRIPTION:Join with Google Meet: https://meet.google.com/uvk-tprk-yhz\nOr dial: (US) +1 843-631-7297 PIN: 545781116#\nMore phone numbers: https://tel.meet/uvk-tprk-yhz?pin=2517996509590&hs=7\nLearn more about Meet at: https://support.google.com/a/users/answer/9282720
URL:https://wg.sunlightchurch.com/ko/calendar/just-show-up-book-club-82/
END:VEVENT
BEGIN:VEVENT
DTSTART;TZID=America/New_York:20250312T120000
DTEND;TZID=America/New_York:20250312T130000
DTSTAMP:20260420T194003
CREATED:20240618T222604Z
LAST-MODIFIED:20240625T035926Z
UID:12817-1741780800-1741784400@wg.sunlightchurch.com
SUMMARY:Just Show Up Book Club
DESCRIPTION:
URL:https://wg.sunlightchurch.com/ko/calendar/just-show-up-book-club-39/
END:VEVENT
BEGIN:VEVENT
DTSTART;TZID=America/New_York:20250311T120000
DTEND;TZID=America/New_York:20250311T130000
DTSTAMP:20260420T194003
CREATED:20240626T045239Z
LAST-MODIFIED:20240829T005626Z
UID:13001-1741694400-1741698000@wg.sunlightchurch.com
SUMMARY:PROS (Public Reading of Scripture)
DESCRIPTION:Join with Google Meet: https://meet.google.com/cpq-gtxv-pcu\nOr dial: (US) +1 904-406-8468 PIN: 842196153#\nMore phone numbers: https://tel.meet/cpq-gtxv-pcu?pin=3768679431320&hs=7\nLearn more about Meet at: https://support.google.com/a/users/answer/9282720
URL:https://wg.sunlightchurch.com/ko/calendar/pros-public-reading-of-scripture-80/
END:VEVENT
BEGIN:VEVENT
DTSTART;TZID=America/New_York:20250311T120000
DTEND;TZID=America/New_York:20250311T130000
DTSTAMP:20260420T194003
CREATED:20240618T222604Z
LAST-MODIFIED:20240625T035926Z
UID:12816-1741694400-1741698000@wg.sunlightchurch.com
SUMMARY:PROS (Public Reading of Scripture)
DESCRIPTION:
URL:https://wg.sunlightchurch.com/ko/calendar/pros-public-reading-of-scripture-38/
END:VEVENT
BEGIN:VEVENT
DTSTART;TZID=America/New_York:20250309T190000
DTEND;TZID=America/New_York:20250309T200000
DTSTAMP:20260420T194003
CREATED:20240611T033023Z
LAST-MODIFIED:20240829T005625Z
UID:12407-1741546800-1741550400@wg.sunlightchurch.com
SUMMARY:Worship service-Brasil
DESCRIPTION:
URL:https://wg.sunlightchurch.com/ko/calendar/worship-service-brasil-79/
LOCATION:607 Avalon Rd\, Winter Garden\, FL\, United States
END:VEVENT
BEGIN:VEVENT
DTSTART;TZID=America/New_York:20250309T183000
DTEND;TZID=America/New_York:20250309T190000
DTSTAMP:20260420T194003
CREATED:20240611T033023Z
LAST-MODIFIED:20240829T005625Z
UID:12403-1741545000-1741546800@wg.sunlightchurch.com
SUMMARY:Brasil evening café
DESCRIPTION:
URL:https://wg.sunlightchurch.com/ko/calendar/brasil-evening-cafe-39/
END:VEVENT
BEGIN:VEVENT
DTSTART;TZID=America/New_York:20250309T111500
DTEND;TZID=America/New_York:20250309T123000
DTSTAMP:20260420T194003
CREATED:20240313T200957Z
LAST-MODIFIED:20240610T022532Z
UID:11417-1741518900-1741523400@wg.sunlightchurch.com
SUMMARY:Worship Service
DESCRIPTION:
URL:https://wg.sunlightchurch.com/ko/calendar/worship-service-52/
LOCATION:607 Avalon Rd\, Winter Garden\, FL 34787\, USA
END:VEVENT
BEGIN:VEVENT
DTSTART;TZID=America/New_York:20250309T111500
DTEND;TZID=America/New_York:20250309T121500
DTSTAMP:20260420T194003
CREATED:20240611T033022Z
LAST-MODIFIED:20240829T005625Z
UID:12402-1741518900-1741522500@wg.sunlightchurch.com
SUMMARY:Worship Service-Brasil
DESCRIPTION:
URL:https://wg.sunlightchurch.com/ko/calendar/worship-service-brasil-78/
LOCATION:607 Avalon Rd\, Winter Garden\, FL\, United States
END:VEVENT
BEGIN:VEVENT
DTSTART;TZID=America/New_York:20250309T104500
DTEND;TZID=America/New_York:20250309T111500
DTSTAMP:20260420T194003
CREATED:20240611T033022Z
LAST-MODIFIED:20240829T005624Z
UID:12401-1741517100-1741518900@wg.sunlightchurch.com
SUMMARY:Brasil breakfast café
DESCRIPTION:
URL:https://wg.sunlightchurch.com/ko/calendar/brasil-breakfast-cafe-40/
END:VEVENT
BEGIN:VEVENT
DTSTART;TZID=America/New_York:20250309T101500
DTEND;TZID=America/New_York:20250309T111500
DTSTAMP:20260420T194003
CREATED:20240315T121618Z
LAST-MODIFIED:20240525T202035Z
UID:11698-1741515300-1741518900@wg.sunlightchurch.com
SUMMARY:Adult Sunday School
DESCRIPTION:
URL:https://wg.sunlightchurch.com/ko/calendar/adult-sunday-school-52/
END:VEVENT
BEGIN:VEVENT
DTSTART;TZID=America/New_York:20250309T093000
DTEND;TZID=America/New_York:20250309T104500
DTSTAMP:20260420T194003
CREATED:20240731T222639Z
LAST-MODIFIED:20240829T005624Z
UID:13167-1741512600-1741517100@wg.sunlightchurch.com
SUMMARY:Sunlight English Service
DESCRIPTION:
URL:https://wg.sunlightchurch.com/ko/calendar/sunlight-english-service-20/
END:VEVENT
BEGIN:VEVENT
DTSTART;TZID=America/New_York:20250306T190000
DTEND;TZID=America/New_York:20250306T200000
DTSTAMP:20260420T194003
CREATED:20240315T121617Z
LAST-MODIFIED:20240829T005624Z
UID:11697-1741287600-1741291200@wg.sunlightchurch.com
SUMMARY:Adult Bible Study
DESCRIPTION:
URL:https://wg.sunlightchurch.com/ko/calendar/adult-bible-study-51/
END:VEVENT
BEGIN:VEVENT
DTSTART;TZID=America/New_York:20250305T120000
DTEND;TZID=America/New_York:20250305T130000
DTSTAMP:20260420T194003
CREATED:20240626T045238Z
LAST-MODIFIED:20240821T000241Z
UID:13000-1741176000-1741179600@wg.sunlightchurch.com
SUMMARY:Just Show Up Book Club
DESCRIPTION:Join with Google Meet: https://meet.google.com/uvk-tprk-yhz\nOr dial: (US) +1 843-631-7297 PIN: 545781116#\nMore phone numbers: https://tel.meet/uvk-tprk-yhz?pin=2517996509590&hs=7\nLearn more about Meet at: https://support.google.com/a/users/answer/9282720
URL:https://wg.sunlightchurch.com/ko/calendar/just-show-up-book-club-81/
END:VEVENT
BEGIN:VEVENT
DTSTART;TZID=America/New_York:20250305T120000
DTEND;TZID=America/New_York:20250305T130000
DTSTAMP:20260420T194003
CREATED:20240618T222604Z
LAST-MODIFIED:20240625T035925Z
UID:12815-1741176000-1741179600@wg.sunlightchurch.com
SUMMARY:Just Show Up Book Club
DESCRIPTION:
URL:https://wg.sunlightchurch.com/ko/calendar/just-show-up-book-club-38/
END:VEVENT
BEGIN:VEVENT
DTSTART;TZID=America/New_York:20250304T120000
DTEND;TZID=America/New_York:20250304T130000
DTSTAMP:20260420T194003
CREATED:20240626T045238Z
LAST-MODIFIED:20240829T005623Z
UID:12999-1741089600-1741093200@wg.sunlightchurch.com
SUMMARY:PROS (Public Reading of Scripture)
DESCRIPTION:Join with Google Meet: https://meet.google.com/cpq-gtxv-pcu\nOr dial: (US) +1 904-406-8468 PIN: 842196153#\nMore phone numbers: https://tel.meet/cpq-gtxv-pcu?pin=3768679431320&hs=7\nLearn more about Meet at: https://support.google.com/a/users/answer/9282720
URL:https://wg.sunlightchurch.com/ko/calendar/pros-public-reading-of-scripture-79/
END:VEVENT
BEGIN:VEVENT
DTSTART;TZID=America/New_York:20250304T120000
DTEND;TZID=America/New_York:20250304T130000
DTSTAMP:20260420T194003
CREATED:20240618T222604Z
LAST-MODIFIED:20240625T035925Z
UID:12814-1741089600-1741093200@wg.sunlightchurch.com
SUMMARY:PROS (Public Reading of Scripture)
DESCRIPTION:
URL:https://wg.sunlightchurch.com/ko/calendar/pros-public-reading-of-scripture-37/
END:VEVENT
BEGIN:VEVENT
DTSTART;TZID=America/New_York:20250302T190000
DTEND;TZID=America/New_York:20250302T200000
DTSTAMP:20260420T194003
CREATED:20240611T033022Z
LAST-MODIFIED:20240829T005623Z
UID:12400-1740942000-1740945600@wg.sunlightchurch.com
SUMMARY:Worship service-Brasil
DESCRIPTION:
URL:https://wg.sunlightchurch.com/ko/calendar/worship-service-brasil-77/
LOCATION:607 Avalon Rd\, Winter Garden\, FL\, United States
END:VEVENT
BEGIN:VEVENT
DTSTART;TZID=America/New_York:20250302T183000
DTEND;TZID=America/New_York:20250302T190000
DTSTAMP:20260420T194003
CREATED:20240611T033022Z
LAST-MODIFIED:20240829T005622Z
UID:12399-1740940200-1740942000@wg.sunlightchurch.com
SUMMARY:Brasil evening café
DESCRIPTION:
URL:https://wg.sunlightchurch.com/ko/calendar/brasil-evening-cafe-38/
END:VEVENT
BEGIN:VEVENT
DTSTART;TZID=America/New_York:20250302T111500
DTEND;TZID=America/New_York:20250302T123000
DTSTAMP:20260420T194003
CREATED:20240313T200956Z
LAST-MODIFIED:20240610T022532Z
UID:11416-1740914100-1740918600@wg.sunlightchurch.com
SUMMARY:Worship Service
DESCRIPTION:
URL:https://wg.sunlightchurch.com/ko/calendar/worship-service-51/
LOCATION:607 Avalon Rd\, Winter Garden\, FL 34787\, USA
END:VEVENT
BEGIN:VEVENT
DTSTART;TZID=America/New_York:20250302T111500
DTEND;TZID=America/New_York:20250302T121500
DTSTAMP:20260420T194003
CREATED:20240611T033021Z
LAST-MODIFIED:20240829T005622Z
UID:12398-1740914100-1740917700@wg.sunlightchurch.com
SUMMARY:Worship Service-Brasil
DESCRIPTION:
URL:https://wg.sunlightchurch.com/ko/calendar/worship-service-brasil-76/
LOCATION:607 Avalon Rd\, Winter Garden\, FL\, United States
END:VEVENT
BEGIN:VEVENT
DTSTART;TZID=America/New_York:20250302T104500
DTEND;TZID=America/New_York:20250302T111500
DTSTAMP:20260420T194003
CREATED:20240611T033021Z
LAST-MODIFIED:20240829T005621Z
UID:12397-1740912300-1740914100@wg.sunlightchurch.com
SUMMARY:Brasil breakfast café
DESCRIPTION:
URL:https://wg.sunlightchurch.com/ko/calendar/brasil-breakfast-cafe-39/
END:VEVENT
BEGIN:VEVENT
DTSTART;TZID=America/New_York:20250302T101500
DTEND;TZID=America/New_York:20250302T111500
DTSTAMP:20260420T194003
CREATED:20240315T121617Z
LAST-MODIFIED:20240525T202035Z
UID:11696-1740910500-1740914100@wg.sunlightchurch.com
SUMMARY:Adult Sunday School
DESCRIPTION:
URL:https://wg.sunlightchurch.com/ko/calendar/adult-sunday-school-51/
END:VEVENT
BEGIN:VEVENT
DTSTART;TZID=America/New_York:20250302T093000
DTEND;TZID=America/New_York:20250302T104500
DTSTAMP:20260420T194003
CREATED:20240731T222637Z
LAST-MODIFIED:20240829T005622Z
UID:13166-1740907800-1740912300@wg.sunlightchurch.com
SUMMARY:Sunlight English Service
DESCRIPTION:
URL:https://wg.sunlightchurch.com/ko/calendar/sunlight-english-service-19/
END:VEVENT
BEGIN:VEVENT
DTSTART;TZID=America/New_York:20250227T190000
DTEND;TZID=America/New_York:20250227T200000
DTSTAMP:20260420T194003
CREATED:20240315T121617Z
LAST-MODIFIED:20240829T005621Z
UID:11694-1740682800-1740686400@wg.sunlightchurch.com
SUMMARY:Adult Bible Study
DESCRIPTION:
URL:https://wg.sunlightchurch.com/ko/calendar/adult-bible-study-50/
END:VEVENT
BEGIN:VEVENT
DTSTART;TZID=America/New_York:20250226T120000
DTEND;TZID=America/New_York:20250226T130000
DTSTAMP:20260420T194003
CREATED:20240626T045237Z
LAST-MODIFIED:20240821T000239Z
UID:12998-1740571200-1740574800@wg.sunlightchurch.com
SUMMARY:Just Show Up Book Club
DESCRIPTION:Join with Google Meet: https://meet.google.com/uvk-tprk-yhz\nOr dial: (US) +1 843-631-7297 PIN: 545781116#\nMore phone numbers: https://tel.meet/uvk-tprk-yhz?pin=2517996509590&hs=7\nLearn more about Meet at: https://support.google.com/a/users/answer/9282720
URL:https://wg.sunlightchurch.com/ko/calendar/just-show-up-book-club-80/
END:VEVENT
BEGIN:VEVENT
DTSTART;TZID=America/New_York:20250226T120000
DTEND;TZID=America/New_York:20250226T130000
DTSTAMP:20260420T194003
CREATED:20240618T222603Z
LAST-MODIFIED:20240625T035925Z
UID:12813-1740571200-1740574800@wg.sunlightchurch.com
SUMMARY:Just Show Up Book Club
DESCRIPTION:
URL:https://wg.sunlightchurch.com/ko/calendar/just-show-up-book-club-37/
END:VEVENT
BEGIN:VEVENT
DTSTART;TZID=America/New_York:20250225T120000
DTEND;TZID=America/New_York:20250225T130000
DTSTAMP:20260420T194003
CREATED:20240626T045236Z
LAST-MODIFIED:20240829T005620Z
UID:12997-1740484800-1740488400@wg.sunlightchurch.com
SUMMARY:PROS (Public Reading of Scripture)
DESCRIPTION:Join with Google Meet: https://meet.google.com/cpq-gtxv-pcu\nOr dial: (US) +1 904-406-8468 PIN: 842196153#\nMore phone numbers: https://tel.meet/cpq-gtxv-pcu?pin=3768679431320&hs=7\nLearn more about Meet at: https://support.google.com/a/users/answer/9282720
URL:https://wg.sunlightchurch.com/ko/calendar/pros-public-reading-of-scripture-78/
END:VEVENT
BEGIN:VEVENT
DTSTART;TZID=America/New_York:20250225T120000
DTEND;TZID=America/New_York:20250225T130000
DTSTAMP:20260420T194003
CREATED:20240618T222603Z
LAST-MODIFIED:20240625T035924Z
UID:12812-1740484800-1740488400@wg.sunlightchurch.com
SUMMARY:PROS (Public Reading of Scripture)
DESCRIPTION:
URL:https://wg.sunlightchurch.com/ko/calendar/pros-public-reading-of-scripture-36/
END:VEVENT
BEGIN:VEVENT
DTSTART;TZID=America/New_York:20250223T190000
DTEND;TZID=America/New_York:20250223T200000
DTSTAMP:20260420T194003
CREATED:20240611T033020Z
LAST-MODIFIED:20240829T005618Z
UID:12395-1740337200-1740340800@wg.sunlightchurch.com
SUMMARY:Worship service-Brasil
DESCRIPTION:
URL:https://wg.sunlightchurch.com/ko/calendar/worship-service-brasil-75/
LOCATION:607 Avalon Rd\, Winter Garden\, FL\, United States
END:VEVENT
END:VCALENDAR