BEGIN:VCALENDAR
VERSION:2.0
PRODID:-//Sunlight Community Church at Winter Garden - ECPv6.15.13.1//NONSGML v1.0//EN
CALSCALE:GREGORIAN
METHOD:PUBLISH
X-WR-CALNAME:Sunlight Community Church at Winter Garden
X-ORIGINAL-URL:https://wg.sunlightchurch.com
X-WR-CALDESC:Events for Sunlight Community Church at Winter Garden
REFRESH-INTERVAL;VALUE=DURATION:PT1H
X-Robots-Tag:noindex
X-PUBLISHED-TTL:PT1H
BEGIN:VTIMEZONE
TZID:America/New_York
BEGIN:DAYLIGHT
TZOFFSETFROM:-0500
TZOFFSETTO:-0400
TZNAME:EDT
DTSTART:20230312T070000
END:DAYLIGHT
BEGIN:STANDARD
TZOFFSETFROM:-0400
TZOFFSETTO:-0500
TZNAME:EST
DTSTART:20231105T060000
END:STANDARD
BEGIN:DAYLIGHT
TZOFFSETFROM:-0500
TZOFFSETTO:-0400
TZNAME:EDT
DTSTART:20240310T070000
END:DAYLIGHT
BEGIN:STANDARD
TZOFFSETFROM:-0400
TZOFFSETTO:-0500
TZNAME:EST
DTSTART:20241103T060000
END:STANDARD
BEGIN:DAYLIGHT
TZOFFSETFROM:-0500
TZOFFSETTO:-0400
TZNAME:EDT
DTSTART:20250309T070000
END:DAYLIGHT
BEGIN:STANDARD
TZOFFSETFROM:-0400
TZOFFSETTO:-0500
TZNAME:EST
DTSTART:20251102T060000
END:STANDARD
BEGIN:DAYLIGHT
TZOFFSETFROM:-0500
TZOFFSETTO:-0400
TZNAME:EDT
DTSTART:20260308T070000
END:DAYLIGHT
BEGIN:STANDARD
TZOFFSETFROM:-0400
TZOFFSETTO:-0500
TZNAME:EST
DTSTART:20261101T060000
END:STANDARD
END:VTIMEZONE
BEGIN:VEVENT
DTSTART;TZID=America/New_York:20250116T190000
DTEND;TZID=America/New_York:20250116T200000
DTSTAMP:20260421T124401
CREATED:20240315T121615Z
LAST-MODIFIED:20240829T005601Z
UID:11676-1737054000-1737057600@wg.sunlightchurch.com
SUMMARY:Adult Bible Study
DESCRIPTION:
URL:https://wg.sunlightchurch.com/calendar/adult-bible-study-44/
END:VEVENT
BEGIN:VEVENT
DTSTART;TZID=America/New_York:20250115T120000
DTEND;TZID=America/New_York:20250115T130000
DTSTAMP:20260421T124401
CREATED:20240626T045227Z
LAST-MODIFIED:20240821T000229Z
UID:12985-1736942400-1736946000@wg.sunlightchurch.com
SUMMARY:Just Show Up Book Club
DESCRIPTION:Join with Google Meet: https://meet.google.com/uvk-tprk-yhz\nOr dial: (US) +1 843-631-7297 PIN: 545781116#\nMore phone numbers: https://tel.meet/uvk-tprk-yhz?pin=2517996509590&hs=7\nLearn more about Meet at: https://support.google.com/a/users/answer/9282720
URL:https://wg.sunlightchurch.com/calendar/just-show-up-book-club-74/
END:VEVENT
BEGIN:VEVENT
DTSTART;TZID=America/New_York:20250115T120000
DTEND;TZID=America/New_York:20250115T130000
DTSTAMP:20260421T124401
CREATED:20240618T222559Z
LAST-MODIFIED:20240625T035920Z
UID:12801-1736942400-1736946000@wg.sunlightchurch.com
SUMMARY:Just Show Up Book Club
DESCRIPTION:
URL:https://wg.sunlightchurch.com/calendar/just-show-up-book-club-31/
END:VEVENT
BEGIN:VEVENT
DTSTART;TZID=America/New_York:20250114T120000
DTEND;TZID=America/New_York:20250114T130000
DTSTAMP:20260421T124401
CREATED:20240626T045227Z
LAST-MODIFIED:20240829T005601Z
UID:12983-1736856000-1736859600@wg.sunlightchurch.com
SUMMARY:PROS (Public Reading of Scripture)
DESCRIPTION:Join with Google Meet: https://meet.google.com/cpq-gtxv-pcu\nOr dial: (US) +1 904-406-8468 PIN: 842196153#\nMore phone numbers: https://tel.meet/cpq-gtxv-pcu?pin=3768679431320&hs=7\nLearn more about Meet at: https://support.google.com/a/users/answer/9282720
URL:https://wg.sunlightchurch.com/calendar/pros-public-reading-of-scripture-72/
END:VEVENT
BEGIN:VEVENT
DTSTART;TZID=America/New_York:20250114T120000
DTEND;TZID=America/New_York:20250114T130000
DTSTAMP:20260421T124401
CREATED:20240618T222558Z
LAST-MODIFIED:20240625T035920Z
UID:12800-1736856000-1736859600@wg.sunlightchurch.com
SUMMARY:PROS (Public Reading of Scripture)
DESCRIPTION:
URL:https://wg.sunlightchurch.com/calendar/pros-public-reading-of-scripture-30/
END:VEVENT
BEGIN:VEVENT
DTSTART;TZID=America/New_York:20250112T190000
DTEND;TZID=America/New_York:20250112T200000
DTSTAMP:20260421T124401
CREATED:20240611T033016Z
LAST-MODIFIED:20240829T005600Z
UID:12372-1736708400-1736712000@wg.sunlightchurch.com
SUMMARY:Worship service-Brasil
DESCRIPTION:
URL:https://wg.sunlightchurch.com/calendar/worship-service-brasil-63/
LOCATION:607 Avalon Rd\, Winter Garden\, FL\, United States
END:VEVENT
BEGIN:VEVENT
DTSTART;TZID=America/New_York:20250112T183000
DTEND;TZID=America/New_York:20250112T190000
DTSTAMP:20260421T124401
CREATED:20240611T033015Z
LAST-MODIFIED:20240829T005601Z
UID:12371-1736706600-1736708400@wg.sunlightchurch.com
SUMMARY:Brasil evening café
DESCRIPTION:
URL:https://wg.sunlightchurch.com/calendar/brasil-evening-cafe-31/
END:VEVENT
BEGIN:VEVENT
DTSTART;TZID=America/New_York:20250112T111500
DTEND;TZID=America/New_York:20250112T123000
DTSTAMP:20260421T124401
CREATED:20240313T200955Z
LAST-MODIFIED:20240610T022528Z
UID:11409-1736680500-1736685000@wg.sunlightchurch.com
SUMMARY:Worship Service
DESCRIPTION:
URL:https://wg.sunlightchurch.com/calendar/worship-service-44/
LOCATION:607 Avalon Rd\, Winter Garden\, FL 34787\, USA
END:VEVENT
BEGIN:VEVENT
DTSTART;TZID=America/New_York:20250112T111500
DTEND;TZID=America/New_York:20250112T121500
DTSTAMP:20260421T124401
CREATED:20240611T033015Z
LAST-MODIFIED:20240829T005600Z
UID:12370-1736680500-1736684100@wg.sunlightchurch.com
SUMMARY:Worship Service-Brasil
DESCRIPTION:
URL:https://wg.sunlightchurch.com/calendar/worship-service-brasil-62/
LOCATION:607 Avalon Rd\, Winter Garden\, FL\, United States
END:VEVENT
BEGIN:VEVENT
DTSTART;TZID=America/New_York:20250112T104500
DTEND;TZID=America/New_York:20250112T111500
DTSTAMP:20260421T124401
CREATED:20240611T033015Z
LAST-MODIFIED:20240829T005600Z
UID:12369-1736678700-1736680500@wg.sunlightchurch.com
SUMMARY:Brasil breakfast café
DESCRIPTION:
URL:https://wg.sunlightchurch.com/calendar/brasil-breakfast-cafe-32/
END:VEVENT
BEGIN:VEVENT
DTSTART;TZID=America/New_York:20250112T101500
DTEND;TZID=America/New_York:20250112T111500
DTSTAMP:20260421T124401
CREATED:20240315T121615Z
LAST-MODIFIED:20240525T202033Z
UID:11674-1736676900-1736680500@wg.sunlightchurch.com
SUMMARY:Adult Sunday School
DESCRIPTION:
URL:https://wg.sunlightchurch.com/calendar/adult-sunday-school-44/
END:VEVENT
BEGIN:VEVENT
DTSTART;TZID=America/New_York:20250112T093000
DTEND;TZID=America/New_York:20250112T104500
DTSTAMP:20260421T124401
CREATED:20240731T222622Z
LAST-MODIFIED:20240829T005600Z
UID:13159-1736674200-1736678700@wg.sunlightchurch.com
SUMMARY:Sunlight English Service
DESCRIPTION:
URL:https://wg.sunlightchurch.com/calendar/sunlight-english-service-12/
END:VEVENT
BEGIN:VEVENT
DTSTART;TZID=America/New_York:20250109T190000
DTEND;TZID=America/New_York:20250109T200000
DTSTAMP:20260421T124401
CREATED:20240315T121615Z
LAST-MODIFIED:20240829T005600Z
UID:11673-1736449200-1736452800@wg.sunlightchurch.com
SUMMARY:Adult Bible Study
DESCRIPTION:
URL:https://wg.sunlightchurch.com/calendar/adult-bible-study-43/
END:VEVENT
BEGIN:VEVENT
DTSTART;TZID=America/New_York:20250108T120000
DTEND;TZID=America/New_York:20250108T130000
DTSTAMP:20260421T124401
CREATED:20240626T045225Z
LAST-MODIFIED:20240821T000227Z
UID:12980-1736337600-1736341200@wg.sunlightchurch.com
SUMMARY:Just Show Up Book Club
DESCRIPTION:Join with Google Meet: https://meet.google.com/uvk-tprk-yhz\nOr dial: (US) +1 843-631-7297 PIN: 545781116#\nMore phone numbers: https://tel.meet/uvk-tprk-yhz?pin=2517996509590&hs=7\nLearn more about Meet at: https://support.google.com/a/users/answer/9282720
URL:https://wg.sunlightchurch.com/calendar/just-show-up-book-club-73/
END:VEVENT
BEGIN:VEVENT
DTSTART;TZID=America/New_York:20250108T120000
DTEND;TZID=America/New_York:20250108T130000
DTSTAMP:20260421T124401
CREATED:20240618T222558Z
LAST-MODIFIED:20240625T035920Z
UID:12799-1736337600-1736341200@wg.sunlightchurch.com
SUMMARY:Just Show Up Book Club
DESCRIPTION:
URL:https://wg.sunlightchurch.com/calendar/just-show-up-book-club-30/
END:VEVENT
BEGIN:VEVENT
DTSTART;TZID=America/New_York:20250107T120000
DTEND;TZID=America/New_York:20250107T130000
DTSTAMP:20260421T124401
CREATED:20240626T045225Z
LAST-MODIFIED:20240829T005559Z
UID:12979-1736251200-1736254800@wg.sunlightchurch.com
SUMMARY:PROS (Public Reading of Scripture)
DESCRIPTION:Join with Google Meet: https://meet.google.com/cpq-gtxv-pcu\nOr dial: (US) +1 904-406-8468 PIN: 842196153#\nMore phone numbers: https://tel.meet/cpq-gtxv-pcu?pin=3768679431320&hs=7\nLearn more about Meet at: https://support.google.com/a/users/answer/9282720
URL:https://wg.sunlightchurch.com/calendar/pros-public-reading-of-scripture-71/
END:VEVENT
BEGIN:VEVENT
DTSTART;TZID=America/New_York:20250107T120000
DTEND;TZID=America/New_York:20250107T130000
DTSTAMP:20260421T124401
CREATED:20240618T222558Z
LAST-MODIFIED:20240625T035920Z
UID:12798-1736251200-1736254800@wg.sunlightchurch.com
SUMMARY:PROS (Public Reading of Scripture)
DESCRIPTION:
URL:https://wg.sunlightchurch.com/calendar/pros-public-reading-of-scripture-29/
END:VEVENT
BEGIN:VEVENT
DTSTART;TZID=America/New_York:20250105T190000
DTEND;TZID=America/New_York:20250105T200000
DTSTAMP:20260421T124401
CREATED:20240611T033015Z
LAST-MODIFIED:20240829T005559Z
UID:12368-1736103600-1736107200@wg.sunlightchurch.com
SUMMARY:Worship service-Brasil
DESCRIPTION:
URL:https://wg.sunlightchurch.com/calendar/worship-service-brasil-61/
LOCATION:607 Avalon Rd\, Winter Garden\, FL\, United States
END:VEVENT
BEGIN:VEVENT
DTSTART;TZID=America/New_York:20250105T183000
DTEND;TZID=America/New_York:20250105T190000
DTSTAMP:20260421T124401
CREATED:20240611T033015Z
LAST-MODIFIED:20240829T005558Z
UID:12367-1736101800-1736103600@wg.sunlightchurch.com
SUMMARY:Brasil evening café
DESCRIPTION:
URL:https://wg.sunlightchurch.com/calendar/brasil-evening-cafe-30/
END:VEVENT
BEGIN:VEVENT
DTSTART;TZID=America/New_York:20250105T111500
DTEND;TZID=America/New_York:20250105T123000
DTSTAMP:20260421T124401
CREATED:20240313T200955Z
LAST-MODIFIED:20240610T022527Z
UID:11408-1736075700-1736080200@wg.sunlightchurch.com
SUMMARY:Worship Service
DESCRIPTION:
URL:https://wg.sunlightchurch.com/calendar/worship-service-43/
LOCATION:607 Avalon Rd\, Winter Garden\, FL 34787\, USA
END:VEVENT
BEGIN:VEVENT
DTSTART;TZID=America/New_York:20250105T111500
DTEND;TZID=America/New_York:20250105T121500
DTSTAMP:20260421T124401
CREATED:20240611T033014Z
LAST-MODIFIED:20240829T005558Z
UID:12366-1736075700-1736079300@wg.sunlightchurch.com
SUMMARY:Worship Service-Brasil
DESCRIPTION:
URL:https://wg.sunlightchurch.com/calendar/worship-service-brasil-60/
LOCATION:607 Avalon Rd\, Winter Garden\, FL\, United States
END:VEVENT
BEGIN:VEVENT
DTSTART;TZID=America/New_York:20250105T104500
DTEND;TZID=America/New_York:20250105T111500
DTSTAMP:20260421T124401
CREATED:20240611T033014Z
LAST-MODIFIED:20240829T005558Z
UID:12365-1736073900-1736075700@wg.sunlightchurch.com
SUMMARY:Brasil breakfast café
DESCRIPTION:
URL:https://wg.sunlightchurch.com/calendar/brasil-breakfast-cafe-31/
END:VEVENT
BEGIN:VEVENT
DTSTART;TZID=America/New_York:20250105T101500
DTEND;TZID=America/New_York:20250105T111500
DTSTAMP:20260421T124401
CREATED:20240315T121615Z
LAST-MODIFIED:20240525T202033Z
UID:11672-1736072100-1736075700@wg.sunlightchurch.com
SUMMARY:Adult Sunday School
DESCRIPTION:
URL:https://wg.sunlightchurch.com/calendar/adult-sunday-school-43/
END:VEVENT
BEGIN:VEVENT
DTSTART;TZID=America/New_York:20250105T093000
DTEND;TZID=America/New_York:20250105T104500
DTSTAMP:20260421T124401
CREATED:20240731T222620Z
LAST-MODIFIED:20240829T005558Z
UID:13158-1736069400-1736073900@wg.sunlightchurch.com
SUMMARY:Sunlight English Service
DESCRIPTION:
URL:https://wg.sunlightchurch.com/calendar/sunlight-english-service-11/
END:VEVENT
BEGIN:VEVENT
DTSTART;TZID=America/New_York:20250102T190000
DTEND;TZID=America/New_York:20250102T200000
DTSTAMP:20260421T124401
CREATED:20240315T121614Z
LAST-MODIFIED:20240829T005557Z
UID:11670-1735844400-1735848000@wg.sunlightchurch.com
SUMMARY:Adult Bible Study
DESCRIPTION:
URL:https://wg.sunlightchurch.com/calendar/adult-bible-study-42/
END:VEVENT
BEGIN:VEVENT
DTSTART;TZID=America/New_York:20250101T120000
DTEND;TZID=America/New_York:20250101T130000
DTSTAMP:20260421T124401
CREATED:20240626T045224Z
LAST-MODIFIED:20240821T000225Z
UID:12978-1735732800-1735736400@wg.sunlightchurch.com
SUMMARY:Just Show Up Book Club
DESCRIPTION:Join with Google Meet: https://meet.google.com/uvk-tprk-yhz\nOr dial: (US) +1 843-631-7297 PIN: 545781116#\nMore phone numbers: https://tel.meet/uvk-tprk-yhz?pin=2517996509590&hs=7\nLearn more about Meet at: https://support.google.com/a/users/answer/9282720
URL:https://wg.sunlightchurch.com/calendar/just-show-up-book-club-72/
END:VEVENT
BEGIN:VEVENT
DTSTART;TZID=America/New_York:20250101T120000
DTEND;TZID=America/New_York:20250101T130000
DTSTAMP:20260421T124401
CREATED:20240618T222557Z
LAST-MODIFIED:20240625T035919Z
UID:12797-1735732800-1735736400@wg.sunlightchurch.com
SUMMARY:Just Show Up Book Club
DESCRIPTION:
URL:https://wg.sunlightchurch.com/calendar/just-show-up-book-club-29/
END:VEVENT
BEGIN:VEVENT
DTSTART;TZID=America/New_York:20241231T120000
DTEND;TZID=America/New_York:20241231T130000
DTSTAMP:20260421T124401
CREATED:20240626T045224Z
LAST-MODIFIED:20240829T005557Z
UID:12977-1735646400-1735650000@wg.sunlightchurch.com
SUMMARY:PROS (Public Reading of Scripture)
DESCRIPTION:Join with Google Meet: https://meet.google.com/cpq-gtxv-pcu\nOr dial: (US) +1 904-406-8468 PIN: 842196153#\nMore phone numbers: https://tel.meet/cpq-gtxv-pcu?pin=3768679431320&hs=7\nLearn more about Meet at: https://support.google.com/a/users/answer/9282720
URL:https://wg.sunlightchurch.com/calendar/pros-public-reading-of-scripture-70/
END:VEVENT
BEGIN:VEVENT
DTSTART;TZID=America/New_York:20241231T120000
DTEND;TZID=America/New_York:20241231T130000
DTSTAMP:20260421T124401
CREATED:20240618T222557Z
LAST-MODIFIED:20240625T035919Z
UID:12796-1735646400-1735650000@wg.sunlightchurch.com
SUMMARY:PROS (Public Reading of Scripture)
DESCRIPTION:
URL:https://wg.sunlightchurch.com/calendar/pros-public-reading-of-scripture-28/
END:VEVENT
BEGIN:VEVENT
DTSTART;TZID=America/New_York:20241229T190000
DTEND;TZID=America/New_York:20241229T200000
DTSTAMP:20260421T124401
CREATED:20240611T033014Z
LAST-MODIFIED:20240829T005557Z
UID:12363-1735498800-1735502400@wg.sunlightchurch.com
SUMMARY:Worship service-Brasil
DESCRIPTION:
URL:https://wg.sunlightchurch.com/calendar/worship-service-brasil-59/
LOCATION:607 Avalon Rd\, Winter Garden\, FL\, United States
END:VEVENT
END:VCALENDAR