BEGIN:VCALENDAR
VERSION:2.0
PRODID:-//Sunlight Community Church at Winter Garden - ECPv6.15.20//NONSGML v1.0//EN
CALSCALE:GREGORIAN
METHOD:PUBLISH
X-WR-CALNAME:Sunlight Community Church at Winter Garden
X-ORIGINAL-URL:https://wg.sunlightchurch.com
X-WR-CALDESC:Events for Sunlight Community Church at Winter Garden
REFRESH-INTERVAL;VALUE=DURATION:PT1H
X-Robots-Tag:noindex
X-PUBLISHED-TTL:PT1H
BEGIN:VTIMEZONE
TZID:America/New_York
BEGIN:DAYLIGHT
TZOFFSETFROM:-0500
TZOFFSETTO:-0400
TZNAME:EDT
DTSTART:20230312T070000
END:DAYLIGHT
BEGIN:STANDARD
TZOFFSETFROM:-0400
TZOFFSETTO:-0500
TZNAME:EST
DTSTART:20231105T060000
END:STANDARD
BEGIN:DAYLIGHT
TZOFFSETFROM:-0500
TZOFFSETTO:-0400
TZNAME:EDT
DTSTART:20240310T070000
END:DAYLIGHT
BEGIN:STANDARD
TZOFFSETFROM:-0400
TZOFFSETTO:-0500
TZNAME:EST
DTSTART:20241103T060000
END:STANDARD
BEGIN:DAYLIGHT
TZOFFSETFROM:-0500
TZOFFSETTO:-0400
TZNAME:EDT
DTSTART:20250309T070000
END:DAYLIGHT
BEGIN:STANDARD
TZOFFSETFROM:-0400
TZOFFSETTO:-0500
TZNAME:EST
DTSTART:20251102T060000
END:STANDARD
END:VTIMEZONE
BEGIN:VEVENT
DTSTART;TZID=America/New_York:20241023T120000
DTEND;TZID=America/New_York:20241023T130000
DTSTAMP:20260425T225847
CREATED:20240618T222546Z
LAST-MODIFIED:20240625T035914Z
UID:10002483-1729684800-1729688400@wg.sunlightchurch.com
SUMMARY:Just Show Up Book Club
DESCRIPTION:
URL:https://wg.sunlightchurch.com/calendar/just-show-up-book-club-19/
END:VEVENT
BEGIN:VEVENT
DTSTART;TZID=America/New_York:20241022T120000
DTEND;TZID=America/New_York:20241022T130000
DTSTAMP:20260425T225847
CREATED:20240626T045210Z
LAST-MODIFIED:20240829T005653Z
UID:10002567-1729598400-1729602000@wg.sunlightchurch.com
SUMMARY:PROS (Public Reading of Scripture)
DESCRIPTION:Join with Google Meet: https://meet.google.com/cpq-gtxv-pcu\nOr dial: (US) +1 904-406-8468 PIN: 842196153#\nMore phone numbers: https://tel.meet/cpq-gtxv-pcu?pin=3768679431320&hs=7\nLearn more about Meet at: https://support.google.com/a/users/answer/9282720
URL:https://wg.sunlightchurch.com/calendar/pros-public-reading-of-scripture-60/
END:VEVENT
BEGIN:VEVENT
DTSTART;TZID=America/New_York:20241022T120000
DTEND;TZID=America/New_York:20241022T130000
DTSTAMP:20260425T225847
CREATED:20240618T222545Z
LAST-MODIFIED:20240625T035914Z
UID:10002482-1729598400-1729602000@wg.sunlightchurch.com
SUMMARY:PROS (Public Reading of Scripture)
DESCRIPTION:
URL:https://wg.sunlightchurch.com/calendar/pros-public-reading-of-scripture-18/
END:VEVENT
BEGIN:VEVENT
DTSTART;TZID=America/New_York:20241020T190000
DTEND;TZID=America/New_York:20241020T200000
DTSTAMP:20260425T225847
CREATED:20240611T033006Z
LAST-MODIFIED:20240829T005652Z
UID:10002278-1729450800-1729454400@wg.sunlightchurch.com
SUMMARY:Worship service-Brasil
DESCRIPTION:
URL:https://wg.sunlightchurch.com/calendar/worship-service-brasil-39/
LOCATION:607 Avalon Rd\, Winter Garden\, FL\, United States
GEO:28.484973;-81.619298
END:VEVENT
BEGIN:VEVENT
DTSTART;TZID=America/New_York:20241020T183000
DTEND;TZID=America/New_York:20241020T190000
DTSTAMP:20260425T225847
CREATED:20240611T033006Z
LAST-MODIFIED:20240829T005652Z
UID:10002277-1729449000-1729450800@wg.sunlightchurch.com
SUMMARY:Brasil evening café
DESCRIPTION:
URL:https://wg.sunlightchurch.com/calendar/brasil-evening-cafe-19/
END:VEVENT
BEGIN:VEVENT
DTSTART;TZID=America/New_York:20241020T111500
DTEND;TZID=America/New_York:20241020T123000
DTSTAMP:20260425T225847
CREATED:20240313T200953Z
LAST-MODIFIED:20240610T022546Z
UID:10001888-1729422900-1729427400@wg.sunlightchurch.com
SUMMARY:Worship Service
DESCRIPTION:
URL:https://wg.sunlightchurch.com/calendar/worship-service-32/
LOCATION:607 Avalon Rd\, Winter Garden\, FL 34787\, USA
END:VEVENT
BEGIN:VEVENT
DTSTART;TZID=America/New_York:20241020T111500
DTEND;TZID=America/New_York:20241020T121500
DTSTAMP:20260425T225847
CREATED:20240611T033005Z
LAST-MODIFIED:20240829T005635Z
UID:10002275-1729422900-1729426500@wg.sunlightchurch.com
SUMMARY:Worship Service-Brasil
DESCRIPTION:
URL:https://wg.sunlightchurch.com/calendar/worship-service-brasil-38/
LOCATION:607 Avalon Rd\, Winter Garden\, FL\, United States
GEO:28.484973;-81.619298
END:VEVENT
BEGIN:VEVENT
DTSTART;TZID=America/New_York:20241020T104500
DTEND;TZID=America/New_York:20241020T111500
DTSTAMP:20260425T225847
CREATED:20240611T033006Z
LAST-MODIFIED:20240829T005635Z
UID:10002276-1729421100-1729422900@wg.sunlightchurch.com
SUMMARY:Brasil breakfast café
DESCRIPTION:
URL:https://wg.sunlightchurch.com/calendar/brasil-breakfast-cafe-20/
END:VEVENT
BEGIN:VEVENT
DTSTART;TZID=America/New_York:20241020T101500
DTEND;TZID=America/New_York:20241020T111500
DTSTAMP:20260425T225847
CREATED:20240315T121610Z
LAST-MODIFIED:20240525T202030Z
UID:10002023-1729419300-1729422900@wg.sunlightchurch.com
SUMMARY:Adult Sunday School
DESCRIPTION:
URL:https://wg.sunlightchurch.com/calendar/adult-sunday-school-32/
END:VEVENT
BEGIN:VEVENT
DTSTART;TZID=America/New_York:20241019T150000
DTEND;TZID=America/New_York:20241019T180000
DTSTAMP:20260425T225847
CREATED:20240731T222602Z
LAST-MODIFIED:20240829T005634Z
UID:10002634-1729350000-1729360800@wg.sunlightchurch.com
SUMMARY:Sunlight Fall Festival
DESCRIPTION:
URL:https://wg.sunlightchurch.com/calendar/sunlight-fall-festival/
END:VEVENT
BEGIN:VEVENT
DTSTART;TZID=America/New_York:20241017T190000
DTEND;TZID=America/New_York:20241017T200000
DTSTAMP:20260425T225847
CREATED:20240315T121609Z
LAST-MODIFIED:20240829T005634Z
UID:10002022-1729191600-1729195200@wg.sunlightchurch.com
SUMMARY:Adult Bible Study
DESCRIPTION:
URL:https://wg.sunlightchurch.com/calendar/adult-bible-study-31/
END:VEVENT
BEGIN:VEVENT
DTSTART;TZID=America/New_York:20241016T120000
DTEND;TZID=America/New_York:20241016T130000
DTSTAMP:20260425T225847
CREATED:20240626T045209Z
LAST-MODIFIED:20240821T000206Z
UID:10002566-1729080000-1729083600@wg.sunlightchurch.com
SUMMARY:Just Show Up Book Club
DESCRIPTION:Join with Google Meet: https://meet.google.com/uvk-tprk-yhz\nOr dial: (US) +1 843-631-7297 PIN: 545781116#\nMore phone numbers: https://tel.meet/uvk-tprk-yhz?pin=2517996509590&hs=7\nLearn more about Meet at: https://support.google.com/a/users/answer/9282720
URL:https://wg.sunlightchurch.com/calendar/just-show-up-book-club-61/
END:VEVENT
BEGIN:VEVENT
DTSTART;TZID=America/New_York:20241016T120000
DTEND;TZID=America/New_York:20241016T130000
DTSTAMP:20260425T225847
CREATED:20240618T222545Z
LAST-MODIFIED:20240625T035913Z
UID:10002481-1729080000-1729083600@wg.sunlightchurch.com
SUMMARY:Just Show Up Book Club
DESCRIPTION:
URL:https://wg.sunlightchurch.com/calendar/just-show-up-book-club-18/
END:VEVENT
BEGIN:VEVENT
DTSTART;TZID=America/New_York:20241015T120000
DTEND;TZID=America/New_York:20241015T130000
DTSTAMP:20260425T225847
CREATED:20240626T045209Z
LAST-MODIFIED:20240829T005634Z
UID:10002565-1728993600-1728997200@wg.sunlightchurch.com
SUMMARY:PROS (Public Reading of Scripture)
DESCRIPTION:Join with Google Meet: https://meet.google.com/cpq-gtxv-pcu\nOr dial: (US) +1 904-406-8468 PIN: 842196153#\nMore phone numbers: https://tel.meet/cpq-gtxv-pcu?pin=3768679431320&hs=7\nLearn more about Meet at: https://support.google.com/a/users/answer/9282720
URL:https://wg.sunlightchurch.com/calendar/pros-public-reading-of-scripture-59/
END:VEVENT
BEGIN:VEVENT
DTSTART;TZID=America/New_York:20241015T120000
DTEND;TZID=America/New_York:20241015T130000
DTSTAMP:20260425T225847
CREATED:20240618T222544Z
LAST-MODIFIED:20240625T035913Z
UID:10002480-1728993600-1728997200@wg.sunlightchurch.com
SUMMARY:PROS (Public Reading of Scripture)
DESCRIPTION:
URL:https://wg.sunlightchurch.com/calendar/pros-public-reading-of-scripture-17/
END:VEVENT
BEGIN:VEVENT
DTSTART;TZID=America/New_York:20241013T190000
DTEND;TZID=America/New_York:20241013T200000
DTSTAMP:20260425T225847
CREATED:20240611T033005Z
LAST-MODIFIED:20240829T005633Z
UID:10002274-1728846000-1728849600@wg.sunlightchurch.com
SUMMARY:Worship service-Brasil
DESCRIPTION:
URL:https://wg.sunlightchurch.com/calendar/worship-service-brasil-37/
LOCATION:607 Avalon Rd\, Winter Garden\, FL\, United States
GEO:28.484973;-81.619298
END:VEVENT
BEGIN:VEVENT
DTSTART;TZID=America/New_York:20241013T183000
DTEND;TZID=America/New_York:20241013T190000
DTSTAMP:20260425T225847
CREATED:20240611T033005Z
LAST-MODIFIED:20240829T005634Z
UID:10002273-1728844200-1728846000@wg.sunlightchurch.com
SUMMARY:Brasil evening café
DESCRIPTION:
URL:https://wg.sunlightchurch.com/calendar/brasil-evening-cafe-18/
END:VEVENT
BEGIN:VEVENT
DTSTART;TZID=America/New_York:20241013T111500
DTEND;TZID=America/New_York:20241013T123000
DTSTAMP:20260425T225847
CREATED:20240313T200953Z
LAST-MODIFIED:20240610T022546Z
UID:10001887-1728818100-1728822600@wg.sunlightchurch.com
SUMMARY:Worship Service
DESCRIPTION:
URL:https://wg.sunlightchurch.com/calendar/worship-service-31/
LOCATION:607 Avalon Rd\, Winter Garden\, FL 34787\, USA
END:VEVENT
BEGIN:VEVENT
DTSTART;TZID=America/New_York:20241013T111500
DTEND;TZID=America/New_York:20241013T121500
DTSTAMP:20260425T225847
CREATED:20240611T033005Z
LAST-MODIFIED:20240829T005632Z
UID:10002272-1728818100-1728821700@wg.sunlightchurch.com
SUMMARY:Worship Service-Brasil
DESCRIPTION:
URL:https://wg.sunlightchurch.com/calendar/worship-service-brasil-36/
LOCATION:607 Avalon Rd\, Winter Garden\, FL\, United States
GEO:28.484973;-81.619298
END:VEVENT
BEGIN:VEVENT
DTSTART;TZID=America/New_York:20241013T104500
DTEND;TZID=America/New_York:20241013T111500
DTSTAMP:20260425T225847
CREATED:20240611T033004Z
LAST-MODIFIED:20240829T005633Z
UID:10002271-1728816300-1728818100@wg.sunlightchurch.com
SUMMARY:Brasil breakfast café
DESCRIPTION:
URL:https://wg.sunlightchurch.com/calendar/brasil-breakfast-cafe-19/
END:VEVENT
BEGIN:VEVENT
DTSTART;TZID=America/New_York:20241013T101500
DTEND;TZID=America/New_York:20241013T111500
DTSTAMP:20260425T225847
CREATED:20240315T121609Z
LAST-MODIFIED:20240525T202030Z
UID:10002021-1728814500-1728818100@wg.sunlightchurch.com
SUMMARY:Adult Sunday School
DESCRIPTION:
URL:https://wg.sunlightchurch.com/calendar/adult-sunday-school-31/
END:VEVENT
BEGIN:VEVENT
DTSTART;TZID=America/New_York:20241010T190000
DTEND;TZID=America/New_York:20241010T200000
DTSTAMP:20260425T225847
CREATED:20240315T121609Z
LAST-MODIFIED:20240829T005632Z
UID:10002020-1728586800-1728590400@wg.sunlightchurch.com
SUMMARY:Adult Bible Study
DESCRIPTION:
URL:https://wg.sunlightchurch.com/calendar/adult-bible-study-30/
END:VEVENT
BEGIN:VEVENT
DTSTART;TZID=America/New_York:20241009T120000
DTEND;TZID=America/New_York:20241009T130000
DTSTAMP:20260425T225847
CREATED:20240626T045208Z
LAST-MODIFIED:20240821T000204Z
UID:10002564-1728475200-1728478800@wg.sunlightchurch.com
SUMMARY:Just Show Up Book Club
DESCRIPTION:Join with Google Meet: https://meet.google.com/uvk-tprk-yhz\nOr dial: (US) +1 843-631-7297 PIN: 545781116#\nMore phone numbers: https://tel.meet/uvk-tprk-yhz?pin=2517996509590&hs=7\nLearn more about Meet at: https://support.google.com/a/users/answer/9282720
URL:https://wg.sunlightchurch.com/calendar/just-show-up-book-club-60/
END:VEVENT
BEGIN:VEVENT
DTSTART;TZID=America/New_York:20241009T120000
DTEND;TZID=America/New_York:20241009T130000
DTSTAMP:20260425T225847
CREATED:20240618T222543Z
LAST-MODIFIED:20240625T035912Z
UID:10002479-1728475200-1728478800@wg.sunlightchurch.com
SUMMARY:Just Show Up Book Club
DESCRIPTION:
URL:https://wg.sunlightchurch.com/calendar/just-show-up-book-club-17/
END:VEVENT
BEGIN:VEVENT
DTSTART;TZID=America/New_York:20241008T120000
DTEND;TZID=America/New_York:20241008T130000
DTSTAMP:20260425T225847
CREATED:20240626T045208Z
LAST-MODIFIED:20240829T005613Z
UID:10002563-1728388800-1728392400@wg.sunlightchurch.com
SUMMARY:PROS (Public Reading of Scripture)
DESCRIPTION:Join with Google Meet: https://meet.google.com/cpq-gtxv-pcu\nOr dial: (US) +1 904-406-8468 PIN: 842196153#\nMore phone numbers: https://tel.meet/cpq-gtxv-pcu?pin=3768679431320&hs=7\nLearn more about Meet at: https://support.google.com/a/users/answer/9282720
URL:https://wg.sunlightchurch.com/calendar/pros-public-reading-of-scripture-58/
END:VEVENT
BEGIN:VEVENT
DTSTART;TZID=America/New_York:20241008T120000
DTEND;TZID=America/New_York:20241008T130000
DTSTAMP:20260425T225847
CREATED:20240618T222543Z
LAST-MODIFIED:20240625T035912Z
UID:10002478-1728388800-1728392400@wg.sunlightchurch.com
SUMMARY:PROS (Public Reading of Scripture)
DESCRIPTION:
URL:https://wg.sunlightchurch.com/calendar/pros-public-reading-of-scripture-16/
END:VEVENT
BEGIN:VEVENT
DTSTART;TZID=America/New_York:20241006T190000
DTEND;TZID=America/New_York:20241006T200000
DTSTAMP:20260425T225847
CREATED:20240611T033004Z
LAST-MODIFIED:20240829T005613Z
UID:10002270-1728241200-1728244800@wg.sunlightchurch.com
SUMMARY:Worship service-Brasil
DESCRIPTION:
URL:https://wg.sunlightchurch.com/calendar/worship-service-brasil-35/
LOCATION:607 Avalon Rd\, Winter Garden\, FL\, United States
GEO:28.484973;-81.619298
END:VEVENT
BEGIN:VEVENT
DTSTART;TZID=America/New_York:20241006T183000
DTEND;TZID=America/New_York:20241006T190000
DTSTAMP:20260425T225847
CREATED:20240611T033004Z
LAST-MODIFIED:20240829T005613Z
UID:10002269-1728239400-1728241200@wg.sunlightchurch.com
SUMMARY:Brasil evening café
DESCRIPTION:
URL:https://wg.sunlightchurch.com/calendar/brasil-evening-cafe-17/
END:VEVENT
BEGIN:VEVENT
DTSTART;TZID=America/New_York:20241006T111500
DTEND;TZID=America/New_York:20241006T123000
DTSTAMP:20260425T225847
CREATED:20240313T200952Z
LAST-MODIFIED:20240610T022546Z
UID:10001886-1728213300-1728217800@wg.sunlightchurch.com
SUMMARY:Worship Service
DESCRIPTION:
URL:https://wg.sunlightchurch.com/calendar/worship-service-30/
LOCATION:607 Avalon Rd\, Winter Garden\, FL 34787\, USA
END:VEVENT
BEGIN:VEVENT
DTSTART;TZID=America/New_York:20241006T111500
DTEND;TZID=America/New_York:20241006T121500
DTSTAMP:20260425T225847
CREATED:20240611T033003Z
LAST-MODIFIED:20240829T005612Z
UID:10002267-1728213300-1728216900@wg.sunlightchurch.com
SUMMARY:Worship Service-Brasil
DESCRIPTION:
URL:https://wg.sunlightchurch.com/calendar/worship-service-brasil-34/
LOCATION:607 Avalon Rd\, Winter Garden\, FL\, United States
GEO:28.484973;-81.619298
END:VEVENT
END:VCALENDAR