BEGIN:VCALENDAR
VERSION:2.0
PRODID:-//Sunlight Community Church at Winter Garden - ECPv6.15.20//NONSGML v1.0//EN
CALSCALE:GREGORIAN
METHOD:PUBLISH
X-WR-CALNAME:Sunlight Community Church at Winter Garden
X-ORIGINAL-URL:https://wg.sunlightchurch.com
X-WR-CALDESC:Events for Sunlight Community Church at Winter Garden
REFRESH-INTERVAL;VALUE=DURATION:PT1H
X-Robots-Tag:noindex
X-PUBLISHED-TTL:PT1H
BEGIN:VTIMEZONE
TZID:America/New_York
BEGIN:DAYLIGHT
TZOFFSETFROM:-0500
TZOFFSETTO:-0400
TZNAME:EDT
DTSTART:20230312T070000
END:DAYLIGHT
BEGIN:STANDARD
TZOFFSETFROM:-0400
TZOFFSETTO:-0500
TZNAME:EST
DTSTART:20231105T060000
END:STANDARD
BEGIN:DAYLIGHT
TZOFFSETFROM:-0500
TZOFFSETTO:-0400
TZNAME:EDT
DTSTART:20240310T070000
END:DAYLIGHT
BEGIN:STANDARD
TZOFFSETFROM:-0400
TZOFFSETTO:-0500
TZNAME:EST
DTSTART:20241103T060000
END:STANDARD
BEGIN:DAYLIGHT
TZOFFSETFROM:-0500
TZOFFSETTO:-0400
TZNAME:EDT
DTSTART:20250309T070000
END:DAYLIGHT
BEGIN:STANDARD
TZOFFSETFROM:-0400
TZOFFSETTO:-0500
TZNAME:EST
DTSTART:20251102T060000
END:STANDARD
END:VTIMEZONE
BEGIN:VEVENT
DTSTART;TZID=America/New_York:20240623T190000
DTEND;TZID=America/New_York:20240623T200000
DTSTAMP:20260425T184945
CREATED:20240611T032952Z
LAST-MODIFIED:20240623T032452Z
UID:10002209-1719169200-1719172800@wg.sunlightchurch.com
SUMMARY:Worship service-Brasil
DESCRIPTION:
URL:https://wg.sunlightchurch.com/calendar/worship-service-brasil-5/
LOCATION:607 Avalon Rd\, Winter Garden\, FL\, United States
GEO:28.484973;-81.619298
END:VEVENT
BEGIN:VEVENT
DTSTART;TZID=America/New_York:20240623T190000
DTEND;TZID=America/New_York:20240623T200000
DTSTAMP:20260425T184945
CREATED:20240611T032952Z
LAST-MODIFIED:20240611T032952Z
UID:10002207-1719169200-1719172800@wg.sunlightchurch.com
SUMMARY:Worship service-Brasil
DESCRIPTION:
URL:https://wg.sunlightchurch.com/calendar/worship-service-brasil-4/
LOCATION:607 Avalon Rd\, Winter Garden\, FL 34787\, USA
END:VEVENT
BEGIN:VEVENT
DTSTART;TZID=America/New_York:20240623T183000
DTEND;TZID=America/New_York:20240623T190000
DTSTAMP:20260425T184945
CREATED:20240611T032952Z
LAST-MODIFIED:20240623T032452Z
UID:10002210-1719167400-1719169200@wg.sunlightchurch.com
SUMMARY:Brasil evening café
DESCRIPTION:
URL:https://wg.sunlightchurch.com/calendar/brasil-evening-cafe-2/
END:VEVENT
BEGIN:VEVENT
DTSTART;TZID=America/New_York:20240623T111500
DTEND;TZID=America/New_York:20240623T123000
DTSTAMP:20260425T184945
CREATED:20240313T200949Z
LAST-MODIFIED:20240610T022516Z
UID:10001871-1719141300-1719145800@wg.sunlightchurch.com
SUMMARY:Worship Service
DESCRIPTION:
URL:https://wg.sunlightchurch.com/calendar/worship-service-15/
LOCATION:607 Avalon Rd\, Winter Garden\, FL 34787\, USA
END:VEVENT
BEGIN:VEVENT
DTSTART;TZID=America/New_York:20240623T111500
DTEND;TZID=America/New_York:20240623T121500
DTSTAMP:20260425T184945
CREATED:20240611T032952Z
LAST-MODIFIED:20240623T032452Z
UID:10002205-1719141300-1719144900@wg.sunlightchurch.com
SUMMARY:Worship Service-Brasil
DESCRIPTION:
URL:https://wg.sunlightchurch.com/calendar/worship-service-brasil-3/
LOCATION:607 Avalon Rd\, Winter Garden\, FL\, United States
GEO:28.484973;-81.619298
END:VEVENT
BEGIN:VEVENT
DTSTART;TZID=America/New_York:20240623T104500
DTEND;TZID=America/New_York:20240623T111500
DTSTAMP:20260425T184945
CREATED:20240611T032952Z
LAST-MODIFIED:20240611T032952Z
UID:10002208-1719139500-1719141300@wg.sunlightchurch.com
SUMMARY:Brasil breakfast café
DESCRIPTION:
URL:https://wg.sunlightchurch.com/calendar/brasil-breakfast-cafe-3/
END:VEVENT
BEGIN:VEVENT
DTSTART;TZID=America/New_York:20240623T104500
DTEND;TZID=America/New_York:20240623T111500
DTSTAMP:20260425T184945
CREATED:20240611T032952Z
LAST-MODIFIED:20240623T032451Z
UID:10002206-1719139500-1719141300@wg.sunlightchurch.com
SUMMARY:Brasil breakfast café
DESCRIPTION:
URL:https://wg.sunlightchurch.com/calendar/brasil-breakfast-cafe-2/
END:VEVENT
BEGIN:VEVENT
DTSTART;TZID=America/New_York:20240623T101500
DTEND;TZID=America/New_York:20240623T111500
DTSTAMP:20260425T184945
CREATED:20240315T121603Z
LAST-MODIFIED:20240525T202026Z
UID:10001989-1719137700-1719141300@wg.sunlightchurch.com
SUMMARY:Adult Sunday School
DESCRIPTION:
URL:https://wg.sunlightchurch.com/calendar/adult-sunday-school-15/
END:VEVENT
BEGIN:VEVENT
DTSTART;TZID=America/New_York:20240620T190000
DTEND;TZID=America/New_York:20240620T200000
DTSTAMP:20260425T184945
CREATED:20240315T121603Z
LAST-MODIFIED:20240620T233054Z
UID:10001988-1718910000-1718913600@wg.sunlightchurch.com
SUMMARY:Adult Bible Study
DESCRIPTION:
URL:https://wg.sunlightchurch.com/calendar/adult-bible-study-14/
END:VEVENT
BEGIN:VEVENT
DTSTART;TZID=America/New_York:20240619T120000
DTEND;TZID=America/New_York:20240619T130000
DTSTAMP:20260425T184945
CREATED:20240618T222531Z
LAST-MODIFIED:20240618T222532Z
UID:10002447-1718798400-1718802000@wg.sunlightchurch.com
SUMMARY:Just Show Up Book Club
DESCRIPTION:
URL:https://wg.sunlightchurch.com/calendar/just-show-up-book-club/
END:VEVENT
BEGIN:VEVENT
DTSTART;TZID=America/New_York:20240616T190000
DTEND;TZID=America/New_York:20240616T200000
DTSTAMP:20260425T184945
CREATED:20240611T032951Z
LAST-MODIFIED:20240616T203147Z
UID:10002203-1718564400-1718568000@wg.sunlightchurch.com
SUMMARY:Worship service-Brasil
DESCRIPTION:
URL:https://wg.sunlightchurch.com/calendar/worship-service-brasil-2/
LOCATION:607 Avalon Rd\, Winter Garden\, FL\, United States
GEO:28.484973;-81.619298
END:VEVENT
BEGIN:VEVENT
DTSTART;TZID=America/New_York:20240616T183000
DTEND;TZID=America/New_York:20240616T190000
DTSTAMP:20260425T184945
CREATED:20240611T032951Z
LAST-MODIFIED:20240616T203147Z
UID:10002204-1718562600-1718564400@wg.sunlightchurch.com
SUMMARY:Brasil evening café
DESCRIPTION:
URL:https://wg.sunlightchurch.com/calendar/brasil-evening-cafe/
END:VEVENT
BEGIN:VEVENT
DTSTART;TZID=America/New_York:20240616T111500
DTEND;TZID=America/New_York:20240616T123000
DTSTAMP:20260425T184945
CREATED:20240313T200949Z
LAST-MODIFIED:20240610T022516Z
UID:10001870-1718536500-1718541000@wg.sunlightchurch.com
SUMMARY:Worship Service
DESCRIPTION:
URL:https://wg.sunlightchurch.com/calendar/worship-service-14/
LOCATION:607 Avalon Rd\, Winter Garden\, FL 34787\, USA
END:VEVENT
BEGIN:VEVENT
DTSTART;TZID=America/New_York:20240616T111500
DTEND;TZID=America/New_York:20240616T121500
DTSTAMP:20260425T184945
CREATED:20240611T032951Z
LAST-MODIFIED:20240615T194851Z
UID:10002201-1718536500-1718540100@wg.sunlightchurch.com
SUMMARY:Worship Service-Brasil
DESCRIPTION:
URL:https://wg.sunlightchurch.com/calendar/worship-service-brasil/
LOCATION:607 Avalon Rd\, Winter Garden\, FL\, United States
GEO:28.484973;-81.619298
END:VEVENT
BEGIN:VEVENT
DTSTART;TZID=America/New_York:20240616T104500
DTEND;TZID=America/New_York:20240616T111500
DTSTAMP:20260425T184945
CREATED:20240611T032951Z
LAST-MODIFIED:20240615T194851Z
UID:10002202-1718534700-1718536500@wg.sunlightchurch.com
SUMMARY:Brasil breakfast café
DESCRIPTION:
URL:https://wg.sunlightchurch.com/calendar/brasil-breakfast-cafe/
END:VEVENT
BEGIN:VEVENT
DTSTART;TZID=America/New_York:20240616T101500
DTEND;TZID=America/New_York:20240616T111500
DTSTAMP:20260425T184945
CREATED:20240315T121603Z
LAST-MODIFIED:20240525T202025Z
UID:10001987-1718532900-1718536500@wg.sunlightchurch.com
SUMMARY:Adult Sunday School
DESCRIPTION:
URL:https://wg.sunlightchurch.com/calendar/adult-sunday-school-14/
END:VEVENT
BEGIN:VEVENT
DTSTART;TZID=America/New_York:20240614T191500
DTEND;TZID=America/New_York:20240614T220000
DTSTAMP:20260425T184945
CREATED:20240611T032950Z
LAST-MODIFIED:20240614T184412Z
UID:10002200-1718392500-1718402400@wg.sunlightchurch.com
SUMMARY:Youth Service - WG Brasil
DESCRIPTION:
URL:https://wg.sunlightchurch.com/calendar/youth-service-wg-brasil/
LOCATION:sanctuary
END:VEVENT
BEGIN:VEVENT
DTSTART;TZID=America/New_York:20240613T190000
DTEND;TZID=America/New_York:20240613T200000
DTSTAMP:20260425T184945
CREATED:20240315T121603Z
LAST-MODIFIED:20240613T172218Z
UID:10001986-1718305200-1718308800@wg.sunlightchurch.com
SUMMARY:Adult Bible Study
DESCRIPTION:
URL:https://wg.sunlightchurch.com/calendar/adult-bible-study-13/
END:VEVENT
BEGIN:VEVENT
DTSTART;TZID=America/New_York:20240609T111500
DTEND;TZID=America/New_York:20240609T123000
DTSTAMP:20260425T184945
CREATED:20240313T200949Z
LAST-MODIFIED:20240609T020129Z
UID:10001869-1717931700-1717936200@wg.sunlightchurch.com
SUMMARY:Worship Service
DESCRIPTION:
URL:https://wg.sunlightchurch.com/calendar/worship-service-13/
LOCATION:607 Avalon Rd\, Winter Garden\, FL 34787\, USA
END:VEVENT
BEGIN:VEVENT
DTSTART;TZID=America/New_York:20240609T101500
DTEND;TZID=America/New_York:20240609T111500
DTSTAMP:20260425T184945
CREATED:20240315T121602Z
LAST-MODIFIED:20240525T202025Z
UID:10001985-1717928100-1717931700@wg.sunlightchurch.com
SUMMARY:Adult Sunday School
DESCRIPTION:
URL:https://wg.sunlightchurch.com/calendar/adult-sunday-school-13/
END:VEVENT
BEGIN:VEVENT
DTSTART;TZID=America/New_York:20240606T190000
DTEND;TZID=America/New_York:20240606T200000
DTSTAMP:20260425T184945
CREATED:20240315T121602Z
LAST-MODIFIED:20240605T235737Z
UID:10001984-1717700400-1717704000@wg.sunlightchurch.com
SUMMARY:Adult Bible Study
DESCRIPTION:
URL:https://wg.sunlightchurch.com/calendar/adult-bible-study-12/
END:VEVENT
BEGIN:VEVENT
DTSTART;TZID=America/New_York:20240602T111500
DTEND;TZID=America/New_York:20240602T123000
DTSTAMP:20260425T184945
CREATED:20240313T200948Z
LAST-MODIFIED:20240601T224732Z
UID:10001868-1717326900-1717331400@wg.sunlightchurch.com
SUMMARY:Worship Service
DESCRIPTION:
URL:https://wg.sunlightchurch.com/calendar/worship-service-12/
LOCATION:607 Avalon Rd\, Winter Garden\, FL 34787\, USA
END:VEVENT
BEGIN:VEVENT
DTSTART;TZID=America/New_York:20240602T101500
DTEND;TZID=America/New_York:20240602T111500
DTSTAMP:20260425T184945
CREATED:20240315T121602Z
LAST-MODIFIED:20240525T202025Z
UID:10001983-1717323300-1717326900@wg.sunlightchurch.com
SUMMARY:Adult Sunday School
DESCRIPTION:
URL:https://wg.sunlightchurch.com/calendar/adult-sunday-school-12/
END:VEVENT
BEGIN:VEVENT
DTSTART;TZID=America/New_York:20240530T190000
DTEND;TZID=America/New_York:20240530T200000
DTSTAMP:20260425T184945
CREATED:20240315T121601Z
LAST-MODIFIED:20240530T220758Z
UID:10001982-1717095600-1717099200@wg.sunlightchurch.com
SUMMARY:Adult Bible Study
DESCRIPTION:
URL:https://wg.sunlightchurch.com/calendar/adult-bible-study-11/
END:VEVENT
BEGIN:VEVENT
DTSTART;TZID=America/New_York:20240526T111500
DTEND;TZID=America/New_York:20240526T123000
DTSTAMP:20260425T184945
CREATED:20240313T200948Z
LAST-MODIFIED:20240525T202024Z
UID:10001867-1716722100-1716726600@wg.sunlightchurch.com
SUMMARY:Worship Service
DESCRIPTION:
URL:https://wg.sunlightchurch.com/calendar/worship-service-11/
LOCATION:607 Avalon Rd\, Winter Garden\, FL 34787\, USA
END:VEVENT
BEGIN:VEVENT
DTSTART;TZID=America/New_York:20240526T101500
DTEND;TZID=America/New_York:20240526T111500
DTSTAMP:20260425T184945
CREATED:20240315T121601Z
LAST-MODIFIED:20240525T202024Z
UID:10001981-1716718500-1716722100@wg.sunlightchurch.com
SUMMARY:Adult Sunday School
DESCRIPTION:
URL:https://wg.sunlightchurch.com/calendar/adult-sunday-school-11/
END:VEVENT
BEGIN:VEVENT
DTSTART;TZID=America/New_York:20240523T190000
DTEND;TZID=America/New_York:20240523T200000
DTSTAMP:20260425T184945
CREATED:20240315T121601Z
LAST-MODIFIED:20240523T200429Z
UID:10001980-1716490800-1716494400@wg.sunlightchurch.com
SUMMARY:Adult Bible Study
DESCRIPTION:
URL:https://wg.sunlightchurch.com/calendar/adult-bible-study-10/
END:VEVENT
BEGIN:VEVENT
DTSTART;TZID=America/New_York:20240519T111500
DTEND;TZID=America/New_York:20240519T123000
DTSTAMP:20260425T184945
CREATED:20240313T200947Z
LAST-MODIFIED:20240518T183723Z
UID:10001866-1716117300-1716121800@wg.sunlightchurch.com
SUMMARY:Worship Service
DESCRIPTION:
URL:https://wg.sunlightchurch.com/calendar/worship-service-10/
LOCATION:607 Avalon Rd\, Winter Garden\, FL 34787\, USA
END:VEVENT
BEGIN:VEVENT
DTSTART;TZID=America/New_York:20240519T101500
DTEND;TZID=America/New_York:20240519T111500
DTSTAMP:20260425T184945
CREATED:20240315T121601Z
LAST-MODIFIED:20240518T183723Z
UID:10001979-1716113700-1716117300@wg.sunlightchurch.com
SUMMARY:Adult Sunday School
DESCRIPTION:
URL:https://wg.sunlightchurch.com/calendar/adult-sunday-school-10/
END:VEVENT
BEGIN:VEVENT
DTSTART;TZID=America/New_York:20240516T190000
DTEND;TZID=America/New_York:20240516T200000
DTSTAMP:20260425T184945
CREATED:20240315T121600Z
LAST-MODIFIED:20240516T183534Z
UID:10001978-1715886000-1715889600@wg.sunlightchurch.com
SUMMARY:Adult Bible Study
DESCRIPTION:
URL:https://wg.sunlightchurch.com/calendar/adult-bible-study-9/
END:VEVENT
END:VCALENDAR