BEGIN:VCALENDAR
VERSION:2.0
PRODID:-//Sunlight Community Church at Winter Garden - ECPv6.15.20//NONSGML v1.0//EN
CALSCALE:GREGORIAN
METHOD:PUBLISH
X-WR-CALNAME:Sunlight Community Church at Winter Garden
X-ORIGINAL-URL:https://wg.sunlightchurch.com
X-WR-CALDESC:Events for Sunlight Community Church at Winter Garden
REFRESH-INTERVAL;VALUE=DURATION:PT1H
X-Robots-Tag:noindex
X-PUBLISHED-TTL:PT1H
BEGIN:VTIMEZONE
TZID:America/New_York
BEGIN:DAYLIGHT
TZOFFSETFROM:-0500
TZOFFSETTO:-0400
TZNAME:EDT
DTSTART:20230312T070000
END:DAYLIGHT
BEGIN:STANDARD
TZOFFSETFROM:-0400
TZOFFSETTO:-0500
TZNAME:EST
DTSTART:20231105T060000
END:STANDARD
BEGIN:DAYLIGHT
TZOFFSETFROM:-0500
TZOFFSETTO:-0400
TZNAME:EDT
DTSTART:20240310T070000
END:DAYLIGHT
BEGIN:STANDARD
TZOFFSETFROM:-0400
TZOFFSETTO:-0500
TZNAME:EST
DTSTART:20241103T060000
END:STANDARD
BEGIN:DAYLIGHT
TZOFFSETFROM:-0500
TZOFFSETTO:-0400
TZNAME:EDT
DTSTART:20250309T070000
END:DAYLIGHT
BEGIN:STANDARD
TZOFFSETFROM:-0400
TZOFFSETTO:-0500
TZNAME:EST
DTSTART:20251102T060000
END:STANDARD
END:VTIMEZONE
BEGIN:VEVENT
DTSTART;TZID=America/New_York:20241127T120000
DTEND;TZID=America/New_York:20241127T130000
DTSTAMP:20260424T001852
CREATED:20240626T045218Z
LAST-MODIFIED:20240821T000217Z
UID:10002578-1732708800-1732712400@wg.sunlightchurch.com
SUMMARY:Just Show Up Book Club
DESCRIPTION:Join with Google Meet: https://meet.google.com/uvk-tprk-yhz\nOr dial: (US) +1 843-631-7297 PIN: 545781116#\nMore phone numbers: https://tel.meet/uvk-tprk-yhz?pin=2517996509590&hs=7\nLearn more about Meet at: https://support.google.com/a/users/answer/9282720
URL:https://wg.sunlightchurch.com/calendar/just-show-up-book-club-67/
END:VEVENT
BEGIN:VEVENT
DTSTART;TZID=America/New_York:20241127T120000
DTEND;TZID=America/New_York:20241127T130000
DTSTAMP:20260424T001852
CREATED:20240618T222550Z
LAST-MODIFIED:20240625T035916Z
UID:10002493-1732708800-1732712400@wg.sunlightchurch.com
SUMMARY:Just Show Up Book Club
DESCRIPTION:
URL:https://wg.sunlightchurch.com/calendar/just-show-up-book-club-24/
END:VEVENT
BEGIN:VEVENT
DTSTART;TZID=America/New_York:20241126T120000
DTEND;TZID=America/New_York:20241126T130000
DTSTAMP:20260424T001852
CREATED:20240626T045217Z
LAST-MODIFIED:20240829T005547Z
UID:10002577-1732622400-1732626000@wg.sunlightchurch.com
SUMMARY:PROS (Public Reading of Scripture)
DESCRIPTION:Join with Google Meet: https://meet.google.com/cpq-gtxv-pcu\nOr dial: (US) +1 904-406-8468 PIN: 842196153#\nMore phone numbers: https://tel.meet/cpq-gtxv-pcu?pin=3768679431320&hs=7\nLearn more about Meet at: https://support.google.com/a/users/answer/9282720
URL:https://wg.sunlightchurch.com/calendar/pros-public-reading-of-scripture-65/
END:VEVENT
BEGIN:VEVENT
DTSTART;TZID=America/New_York:20241126T120000
DTEND;TZID=America/New_York:20241126T130000
DTSTAMP:20260424T001852
CREATED:20240618T222549Z
LAST-MODIFIED:20240625T035916Z
UID:10002492-1732622400-1732626000@wg.sunlightchurch.com
SUMMARY:PROS (Public Reading of Scripture)
DESCRIPTION:
URL:https://wg.sunlightchurch.com/calendar/pros-public-reading-of-scripture-23/
END:VEVENT
BEGIN:VEVENT
DTSTART;TZID=America/New_York:20241124T190000
DTEND;TZID=America/New_York:20241124T200000
DTSTAMP:20260424T001852
CREATED:20240611T033010Z
LAST-MODIFIED:20240829T005546Z
UID:10002297-1732474800-1732478400@wg.sunlightchurch.com
SUMMARY:Worship service-Brasil
DESCRIPTION:
URL:https://wg.sunlightchurch.com/calendar/worship-service-brasil-49/
LOCATION:607 Avalon Rd\, Winter Garden\, FL\, United States
GEO:28.484973;-81.619298
END:VEVENT
BEGIN:VEVENT
DTSTART;TZID=America/New_York:20241124T183000
DTEND;TZID=America/New_York:20241124T190000
DTSTAMP:20260424T001852
CREATED:20240611T033010Z
LAST-MODIFIED:20240829T005546Z
UID:10002298-1732473000-1732474800@wg.sunlightchurch.com
SUMMARY:Brasil evening café
DESCRIPTION:
URL:https://wg.sunlightchurch.com/calendar/brasil-evening-cafe-24/
END:VEVENT
BEGIN:VEVENT
DTSTART;TZID=America/New_York:20241124T111500
DTEND;TZID=America/New_York:20241124T123000
DTSTAMP:20260424T001852
CREATED:20240313T200954Z
LAST-MODIFIED:20240610T022525Z
UID:10001893-1732446900-1732451400@wg.sunlightchurch.com
SUMMARY:Worship Service
DESCRIPTION:
URL:https://wg.sunlightchurch.com/calendar/worship-service-37/
LOCATION:607 Avalon Rd\, Winter Garden\, FL 34787\, USA
END:VEVENT
BEGIN:VEVENT
DTSTART;TZID=America/New_York:20241124T111500
DTEND;TZID=America/New_York:20241124T121500
DTSTAMP:20260424T001852
CREATED:20240611T033010Z
LAST-MODIFIED:20240829T005546Z
UID:10002296-1732446900-1732450500@wg.sunlightchurch.com
SUMMARY:Worship Service-Brasil
DESCRIPTION:
URL:https://wg.sunlightchurch.com/calendar/worship-service-brasil-48/
LOCATION:607 Avalon Rd\, Winter Garden\, FL\, United States
GEO:28.484973;-81.619298
END:VEVENT
BEGIN:VEVENT
DTSTART;TZID=America/New_York:20241124T104500
DTEND;TZID=America/New_York:20241124T111500
DTSTAMP:20260424T001852
CREATED:20240611T033009Z
LAST-MODIFIED:20240829T005545Z
UID:10002295-1732445100-1732446900@wg.sunlightchurch.com
SUMMARY:Brasil breakfast café
DESCRIPTION:
URL:https://wg.sunlightchurch.com/calendar/brasil-breakfast-cafe-25/
END:VEVENT
BEGIN:VEVENT
DTSTART;TZID=America/New_York:20241124T101500
DTEND;TZID=America/New_York:20241124T111500
DTSTAMP:20260424T001852
CREATED:20240315T121612Z
LAST-MODIFIED:20240525T202031Z
UID:10002033-1732443300-1732446900@wg.sunlightchurch.com
SUMMARY:Adult Sunday School
DESCRIPTION:
URL:https://wg.sunlightchurch.com/calendar/adult-sunday-school-37/
END:VEVENT
BEGIN:VEVENT
DTSTART;TZID=America/New_York:20241124T093000
DTEND;TZID=America/New_York:20241124T104500
DTSTAMP:20260424T001852
CREATED:20240731T222611Z
LAST-MODIFIED:20240829T005545Z
UID:10002639-1732440600-1732445100@wg.sunlightchurch.com
SUMMARY:Sunlight English Service
DESCRIPTION:
URL:https://wg.sunlightchurch.com/calendar/sunlight-english-service-5/
END:VEVENT
BEGIN:VEVENT
DTSTART;TZID=America/New_York:20241121T190000
DTEND;TZID=America/New_York:20241121T200000
DTSTAMP:20260424T001852
CREATED:20240315T121611Z
LAST-MODIFIED:20240829T005545Z
UID:10002032-1732215600-1732219200@wg.sunlightchurch.com
SUMMARY:Adult Bible Study
DESCRIPTION:
URL:https://wg.sunlightchurch.com/calendar/adult-bible-study-36/
END:VEVENT
BEGIN:VEVENT
DTSTART;TZID=America/New_York:20241120T120000
DTEND;TZID=America/New_York:20241120T130000
DTSTAMP:20260424T001852
CREATED:20240626T045216Z
LAST-MODIFIED:20240821T000215Z
UID:10002576-1732104000-1732107600@wg.sunlightchurch.com
SUMMARY:Just Show Up Book Club
DESCRIPTION:Join with Google Meet: https://meet.google.com/uvk-tprk-yhz\nOr dial: (US) +1 843-631-7297 PIN: 545781116#\nMore phone numbers: https://tel.meet/uvk-tprk-yhz?pin=2517996509590&hs=7\nLearn more about Meet at: https://support.google.com/a/users/answer/9282720
URL:https://wg.sunlightchurch.com/calendar/just-show-up-book-club-66/
END:VEVENT
BEGIN:VEVENT
DTSTART;TZID=America/New_York:20241120T120000
DTEND;TZID=America/New_York:20241120T130000
DTSTAMP:20260424T001852
CREATED:20240618T222549Z
LAST-MODIFIED:20240625T035916Z
UID:10002491-1732104000-1732107600@wg.sunlightchurch.com
SUMMARY:Just Show Up Book Club
DESCRIPTION:
URL:https://wg.sunlightchurch.com/calendar/just-show-up-book-club-23/
END:VEVENT
BEGIN:VEVENT
DTSTART;TZID=America/New_York:20241119T120000
DTEND;TZID=America/New_York:20241119T130000
DTSTAMP:20260424T001852
CREATED:20240626T045216Z
LAST-MODIFIED:20240829T005544Z
UID:10002575-1732017600-1732021200@wg.sunlightchurch.com
SUMMARY:PROS (Public Reading of Scripture)
DESCRIPTION:Join with Google Meet: https://meet.google.com/cpq-gtxv-pcu\nOr dial: (US) +1 904-406-8468 PIN: 842196153#\nMore phone numbers: https://tel.meet/cpq-gtxv-pcu?pin=3768679431320&hs=7\nLearn more about Meet at: https://support.google.com/a/users/answer/9282720
URL:https://wg.sunlightchurch.com/calendar/pros-public-reading-of-scripture-64/
END:VEVENT
BEGIN:VEVENT
DTSTART;TZID=America/New_York:20241119T120000
DTEND;TZID=America/New_York:20241119T130000
DTSTAMP:20260424T001852
CREATED:20240618T222549Z
LAST-MODIFIED:20240625T035916Z
UID:10002490-1732017600-1732021200@wg.sunlightchurch.com
SUMMARY:PROS (Public Reading of Scripture)
DESCRIPTION:
URL:https://wg.sunlightchurch.com/calendar/pros-public-reading-of-scripture-22/
END:VEVENT
BEGIN:VEVENT
DTSTART;TZID=America/New_York:20241117T190000
DTEND;TZID=America/New_York:20241117T200000
DTSTAMP:20260424T001852
CREATED:20240611T033009Z
LAST-MODIFIED:20240829T005544Z
UID:10002294-1731870000-1731873600@wg.sunlightchurch.com
SUMMARY:Worship service-Brasil
DESCRIPTION:
URL:https://wg.sunlightchurch.com/calendar/worship-service-brasil-47/
LOCATION:607 Avalon Rd\, Winter Garden\, FL\, United States
GEO:28.484973;-81.619298
END:VEVENT
BEGIN:VEVENT
DTSTART;TZID=America/New_York:20241117T183000
DTEND;TZID=America/New_York:20241117T190000
DTSTAMP:20260424T001852
CREATED:20240611T033009Z
LAST-MODIFIED:20240829T005544Z
UID:10002293-1731868200-1731870000@wg.sunlightchurch.com
SUMMARY:Brasil evening café
DESCRIPTION:
URL:https://wg.sunlightchurch.com/calendar/brasil-evening-cafe-23/
END:VEVENT
BEGIN:VEVENT
DTSTART;TZID=America/New_York:20241117T111500
DTEND;TZID=America/New_York:20241117T123000
DTSTAMP:20260424T001852
CREATED:20240313T200954Z
LAST-MODIFIED:20240610T022524Z
UID:10001892-1731842100-1731846600@wg.sunlightchurch.com
SUMMARY:Worship Service
DESCRIPTION:
URL:https://wg.sunlightchurch.com/calendar/worship-service-36/
LOCATION:607 Avalon Rd\, Winter Garden\, FL 34787\, USA
END:VEVENT
BEGIN:VEVENT
DTSTART;TZID=America/New_York:20241117T111500
DTEND;TZID=America/New_York:20241117T121500
DTSTAMP:20260424T001852
CREATED:20240611T033009Z
LAST-MODIFIED:20240829T005543Z
UID:10002292-1731842100-1731845700@wg.sunlightchurch.com
SUMMARY:Worship Service-Brasil
DESCRIPTION:
URL:https://wg.sunlightchurch.com/calendar/worship-service-brasil-46/
LOCATION:607 Avalon Rd\, Winter Garden\, FL\, United States
GEO:28.484973;-81.619298
END:VEVENT
BEGIN:VEVENT
DTSTART;TZID=America/New_York:20241117T104500
DTEND;TZID=America/New_York:20241117T111500
DTSTAMP:20260424T001852
CREATED:20240611T033009Z
LAST-MODIFIED:20240829T005543Z
UID:10002291-1731840300-1731842100@wg.sunlightchurch.com
SUMMARY:Brasil breakfast café
DESCRIPTION:
URL:https://wg.sunlightchurch.com/calendar/brasil-breakfast-cafe-24/
END:VEVENT
BEGIN:VEVENT
DTSTART;TZID=America/New_York:20241117T101500
DTEND;TZID=America/New_York:20241117T111500
DTSTAMP:20260424T001852
CREATED:20240315T121611Z
LAST-MODIFIED:20240525T202031Z
UID:10002031-1731838500-1731842100@wg.sunlightchurch.com
SUMMARY:Adult Sunday School
DESCRIPTION:
URL:https://wg.sunlightchurch.com/calendar/adult-sunday-school-36/
END:VEVENT
BEGIN:VEVENT
DTSTART;TZID=America/New_York:20241117T093000
DTEND;TZID=America/New_York:20241117T104500
DTSTAMP:20260424T001852
CREATED:20240731T222609Z
LAST-MODIFIED:20240829T005543Z
UID:10002638-1731835800-1731840300@wg.sunlightchurch.com
SUMMARY:Sunlight English Service
DESCRIPTION:
URL:https://wg.sunlightchurch.com/calendar/sunlight-english-service-4/
END:VEVENT
BEGIN:VEVENT
DTSTART;TZID=America/New_York:20241116T193000
DTEND;TZID=America/New_York:20241116T220000
DTSTAMP:20260424T001852
CREATED:20240808T231114Z
LAST-MODIFIED:20240829T005542Z
UID:10002667-1731785400-1731794400@wg.sunlightchurch.com
SUMMARY:Couples Night-Brasil
DESCRIPTION:
URL:https://wg.sunlightchurch.com/calendar/couples-night-brasil-3/
END:VEVENT
BEGIN:VEVENT
DTSTART;TZID=America/New_York:20241114T190000
DTEND;TZID=America/New_York:20241114T200000
DTSTAMP:20260424T001852
CREATED:20240315T121611Z
LAST-MODIFIED:20240829T005542Z
UID:10002030-1731610800-1731614400@wg.sunlightchurch.com
SUMMARY:Adult Bible Study
DESCRIPTION:
URL:https://wg.sunlightchurch.com/calendar/adult-bible-study-35/
END:VEVENT
BEGIN:VEVENT
DTSTART;TZID=America/New_York:20241113T120000
DTEND;TZID=America/New_York:20241113T130000
DTSTAMP:20260424T001852
CREATED:20240626T045215Z
LAST-MODIFIED:20240821T000214Z
UID:10002574-1731499200-1731502800@wg.sunlightchurch.com
SUMMARY:Just Show Up Book Club
DESCRIPTION:Join with Google Meet: https://meet.google.com/uvk-tprk-yhz\nOr dial: (US) +1 843-631-7297 PIN: 545781116#\nMore phone numbers: https://tel.meet/uvk-tprk-yhz?pin=2517996509590&hs=7\nLearn more about Meet at: https://support.google.com/a/users/answer/9282720
URL:https://wg.sunlightchurch.com/calendar/just-show-up-book-club-65/
END:VEVENT
BEGIN:VEVENT
DTSTART;TZID=America/New_York:20241113T120000
DTEND;TZID=America/New_York:20241113T130000
DTSTAMP:20260424T001852
CREATED:20240618T222548Z
LAST-MODIFIED:20240625T035915Z
UID:10002489-1731499200-1731502800@wg.sunlightchurch.com
SUMMARY:Just Show Up Book Club
DESCRIPTION:
URL:https://wg.sunlightchurch.com/calendar/just-show-up-book-club-22/
END:VEVENT
BEGIN:VEVENT
DTSTART;TZID=America/New_York:20241112T120000
DTEND;TZID=America/New_York:20241112T130000
DTSTAMP:20260424T001852
CREATED:20240626T045214Z
LAST-MODIFIED:20240829T005542Z
UID:10002573-1731412800-1731416400@wg.sunlightchurch.com
SUMMARY:PROS (Public Reading of Scripture)
DESCRIPTION:Join with Google Meet: https://meet.google.com/cpq-gtxv-pcu\nOr dial: (US) +1 904-406-8468 PIN: 842196153#\nMore phone numbers: https://tel.meet/cpq-gtxv-pcu?pin=3768679431320&hs=7\nLearn more about Meet at: https://support.google.com/a/users/answer/9282720
URL:https://wg.sunlightchurch.com/calendar/pros-public-reading-of-scripture-63/
END:VEVENT
BEGIN:VEVENT
DTSTART;TZID=America/New_York:20241112T120000
DTEND;TZID=America/New_York:20241112T130000
DTSTAMP:20260424T001852
CREATED:20240618T222548Z
LAST-MODIFIED:20240625T035915Z
UID:10002488-1731412800-1731416400@wg.sunlightchurch.com
SUMMARY:PROS (Public Reading of Scripture)
DESCRIPTION:
URL:https://wg.sunlightchurch.com/calendar/pros-public-reading-of-scripture-21/
END:VEVENT
BEGIN:VEVENT
DTSTART;TZID=America/New_York:20241110T190000
DTEND;TZID=America/New_York:20241110T200000
DTSTAMP:20260424T001852
CREATED:20240611T033008Z
LAST-MODIFIED:20240829T005541Z
UID:10002290-1731265200-1731268800@wg.sunlightchurch.com
SUMMARY:Worship service-Brasil
DESCRIPTION:
URL:https://wg.sunlightchurch.com/calendar/worship-service-brasil-45/
LOCATION:607 Avalon Rd\, Winter Garden\, FL\, United States
GEO:28.484973;-81.619298
END:VEVENT
END:VCALENDAR