BEGIN:VCALENDAR
VERSION:2.0
PRODID:-//Sunlight Community Church at Winter Garden - ECPv6.15.13.1//NONSGML v1.0//EN
CALSCALE:GREGORIAN
METHOD:PUBLISH
X-WR-CALNAME:Sunlight Community Church at Winter Garden
X-ORIGINAL-URL:https://wg.sunlightchurch.com
X-WR-CALDESC:Events for Sunlight Community Church at Winter Garden
REFRESH-INTERVAL;VALUE=DURATION:PT1H
X-Robots-Tag:noindex
X-PUBLISHED-TTL:PT1H
BEGIN:VTIMEZONE
TZID:America/New_York
BEGIN:DAYLIGHT
TZOFFSETFROM:-0500
TZOFFSETTO:-0400
TZNAME:EDT
DTSTART:20240310T070000
END:DAYLIGHT
BEGIN:STANDARD
TZOFFSETFROM:-0400
TZOFFSETTO:-0500
TZNAME:EST
DTSTART:20241103T060000
END:STANDARD
BEGIN:DAYLIGHT
TZOFFSETFROM:-0500
TZOFFSETTO:-0400
TZNAME:EDT
DTSTART:20250309T070000
END:DAYLIGHT
BEGIN:STANDARD
TZOFFSETFROM:-0400
TZOFFSETTO:-0500
TZNAME:EST
DTSTART:20251102T060000
END:STANDARD
BEGIN:DAYLIGHT
TZOFFSETFROM:-0500
TZOFFSETTO:-0400
TZNAME:EDT
DTSTART:20260308T070000
END:DAYLIGHT
BEGIN:STANDARD
TZOFFSETFROM:-0400
TZOFFSETTO:-0500
TZNAME:EST
DTSTART:20261101T060000
END:STANDARD
END:VTIMEZONE
BEGIN:VEVENT
DTSTART;TZID=America/New_York:20250220T190000
DTEND;TZID=America/New_York:20250220T200000
DTSTAMP:20260420T231604
CREATED:20240315T121617Z
LAST-MODIFIED:20240829T005615Z
UID:11691-1740078000-1740081600@wg.sunlightchurch.com
SUMMARY:Adult Bible Study
DESCRIPTION:
URL:https://wg.sunlightchurch.com/calendar/adult-bible-study-49/
END:VEVENT
BEGIN:VEVENT
DTSTART;TZID=America/New_York:20250219T120000
DTEND;TZID=America/New_York:20250219T130000
DTSTAMP:20260420T231604
CREATED:20240626T045236Z
LAST-MODIFIED:20240821T000238Z
UID:12996-1739966400-1739970000@wg.sunlightchurch.com
SUMMARY:Just Show Up Book Club
DESCRIPTION:Join with Google Meet: https://meet.google.com/uvk-tprk-yhz\nOr dial: (US) +1 843-631-7297 PIN: 545781116#\nMore phone numbers: https://tel.meet/uvk-tprk-yhz?pin=2517996509590&hs=7\nLearn more about Meet at: https://support.google.com/a/users/answer/9282720
URL:https://wg.sunlightchurch.com/calendar/just-show-up-book-club-79/
END:VEVENT
BEGIN:VEVENT
DTSTART;TZID=America/New_York:20250219T120000
DTEND;TZID=America/New_York:20250219T130000
DTSTAMP:20260420T231604
CREATED:20240618T222602Z
LAST-MODIFIED:20240625T035924Z
UID:12811-1739966400-1739970000@wg.sunlightchurch.com
SUMMARY:Just Show Up Book Club
DESCRIPTION:
URL:https://wg.sunlightchurch.com/calendar/just-show-up-book-club-36/
END:VEVENT
BEGIN:VEVENT
DTSTART;TZID=America/New_York:20250218T120000
DTEND;TZID=America/New_York:20250218T130000
DTSTAMP:20260420T231604
CREATED:20240626T045235Z
LAST-MODIFIED:20240829T005614Z
UID:12995-1739880000-1739883600@wg.sunlightchurch.com
SUMMARY:PROS (Public Reading of Scripture)
DESCRIPTION:Join with Google Meet: https://meet.google.com/cpq-gtxv-pcu\nOr dial: (US) +1 904-406-8468 PIN: 842196153#\nMore phone numbers: https://tel.meet/cpq-gtxv-pcu?pin=3768679431320&hs=7\nLearn more about Meet at: https://support.google.com/a/users/answer/9282720
URL:https://wg.sunlightchurch.com/calendar/pros-public-reading-of-scripture-77/
END:VEVENT
BEGIN:VEVENT
DTSTART;TZID=America/New_York:20250218T120000
DTEND;TZID=America/New_York:20250218T130000
DTSTAMP:20260420T231604
CREATED:20240618T222602Z
LAST-MODIFIED:20240625T035924Z
UID:12810-1739880000-1739883600@wg.sunlightchurch.com
SUMMARY:PROS (Public Reading of Scripture)
DESCRIPTION:
URL:https://wg.sunlightchurch.com/calendar/pros-public-reading-of-scripture-35/
END:VEVENT
BEGIN:VEVENT
DTSTART;TZID=America/New_York:20250216T190000
DTEND;TZID=America/New_York:20250216T200000
DTSTAMP:20260420T231604
CREATED:20240611T033020Z
LAST-MODIFIED:20240829T005614Z
UID:12391-1739732400-1739736000@wg.sunlightchurch.com
SUMMARY:Worship service-Brasil
DESCRIPTION:
URL:https://wg.sunlightchurch.com/calendar/worship-service-brasil-73/
LOCATION:607 Avalon Rd\, Winter Garden\, FL\, United States
END:VEVENT
BEGIN:VEVENT
DTSTART;TZID=America/New_York:20250216T183000
DTEND;TZID=America/New_York:20250216T190000
DTSTAMP:20260420T231604
CREATED:20240611T033020Z
LAST-MODIFIED:20240829T005613Z
UID:12392-1739730600-1739732400@wg.sunlightchurch.com
SUMMARY:Brasil evening café
DESCRIPTION:
URL:https://wg.sunlightchurch.com/calendar/brasil-evening-cafe-36/
END:VEVENT
BEGIN:VEVENT
DTSTART;TZID=America/New_York:20250216T111500
DTEND;TZID=America/New_York:20250216T123000
DTSTAMP:20260420T231604
CREATED:20240313T200956Z
LAST-MODIFIED:20240610T022531Z
UID:11414-1739704500-1739709000@wg.sunlightchurch.com
SUMMARY:Worship Service
DESCRIPTION:
URL:https://wg.sunlightchurch.com/calendar/worship-service-49/
LOCATION:607 Avalon Rd\, Winter Garden\, FL 34787\, USA
END:VEVENT
BEGIN:VEVENT
DTSTART;TZID=America/New_York:20250216T111500
DTEND;TZID=America/New_York:20250216T121500
DTSTAMP:20260420T231604
CREATED:20240611T033019Z
LAST-MODIFIED:20240829T005613Z
UID:12389-1739704500-1739708100@wg.sunlightchurch.com
SUMMARY:Worship Service-Brasil
DESCRIPTION:
URL:https://wg.sunlightchurch.com/calendar/worship-service-brasil-72/
LOCATION:607 Avalon Rd\, Winter Garden\, FL\, United States
END:VEVENT
BEGIN:VEVENT
DTSTART;TZID=America/New_York:20250216T104500
DTEND;TZID=America/New_York:20250216T111500
DTSTAMP:20260420T231604
CREATED:20240611T033019Z
LAST-MODIFIED:20240829T005612Z
UID:12390-1739702700-1739704500@wg.sunlightchurch.com
SUMMARY:Brasil breakfast café
DESCRIPTION:
URL:https://wg.sunlightchurch.com/calendar/brasil-breakfast-cafe-37/
END:VEVENT
BEGIN:VEVENT
DTSTART;TZID=America/New_York:20250216T101500
DTEND;TZID=America/New_York:20250216T111500
DTSTAMP:20260420T231604
CREATED:20240315T121617Z
LAST-MODIFIED:20240525T202034Z
UID:11690-1739700900-1739704500@wg.sunlightchurch.com
SUMMARY:Adult Sunday School
DESCRIPTION:
URL:https://wg.sunlightchurch.com/calendar/adult-sunday-school-49/
END:VEVENT
BEGIN:VEVENT
DTSTART;TZID=America/New_York:20250216T093000
DTEND;TZID=America/New_York:20250216T104500
DTSTAMP:20260420T231604
CREATED:20240731T222632Z
LAST-MODIFIED:20240829T005613Z
UID:13164-1739698200-1739702700@wg.sunlightchurch.com
SUMMARY:Sunlight English Service
DESCRIPTION:
URL:https://wg.sunlightchurch.com/calendar/sunlight-english-service-17/
END:VEVENT
BEGIN:VEVENT
DTSTART;TZID=America/New_York:20250213T190000
DTEND;TZID=America/New_York:20250213T200000
DTSTAMP:20260420T231604
CREATED:20240315T121616Z
LAST-MODIFIED:20240829T005612Z
UID:11688-1739473200-1739476800@wg.sunlightchurch.com
SUMMARY:Adult Bible Study
DESCRIPTION:
URL:https://wg.sunlightchurch.com/calendar/adult-bible-study-48/
END:VEVENT
BEGIN:VEVENT
DTSTART;TZID=America/New_York:20250212T120000
DTEND;TZID=America/New_York:20250212T130000
DTSTAMP:20260420T231604
CREATED:20240626T045234Z
LAST-MODIFIED:20240821T000236Z
UID:12994-1739361600-1739365200@wg.sunlightchurch.com
SUMMARY:Just Show Up Book Club
DESCRIPTION:Join with Google Meet: https://meet.google.com/uvk-tprk-yhz\nOr dial: (US) +1 843-631-7297 PIN: 545781116#\nMore phone numbers: https://tel.meet/uvk-tprk-yhz?pin=2517996509590&hs=7\nLearn more about Meet at: https://support.google.com/a/users/answer/9282720
URL:https://wg.sunlightchurch.com/calendar/just-show-up-book-club-78/
END:VEVENT
BEGIN:VEVENT
DTSTART;TZID=America/New_York:20250212T120000
DTEND;TZID=America/New_York:20250212T130000
DTSTAMP:20260420T231604
CREATED:20240618T222601Z
LAST-MODIFIED:20240625T035923Z
UID:12809-1739361600-1739365200@wg.sunlightchurch.com
SUMMARY:Just Show Up Book Club
DESCRIPTION:
URL:https://wg.sunlightchurch.com/calendar/just-show-up-book-club-35/
END:VEVENT
BEGIN:VEVENT
DTSTART;TZID=America/New_York:20250211T120000
DTEND;TZID=America/New_York:20250211T130000
DTSTAMP:20260420T231604
CREATED:20240626T045233Z
LAST-MODIFIED:20240829T005611Z
UID:12993-1739275200-1739278800@wg.sunlightchurch.com
SUMMARY:PROS (Public Reading of Scripture)
DESCRIPTION:Join with Google Meet: https://meet.google.com/cpq-gtxv-pcu\nOr dial: (US) +1 904-406-8468 PIN: 842196153#\nMore phone numbers: https://tel.meet/cpq-gtxv-pcu?pin=3768679431320&hs=7\nLearn more about Meet at: https://support.google.com/a/users/answer/9282720
URL:https://wg.sunlightchurch.com/calendar/pros-public-reading-of-scripture-76/
END:VEVENT
BEGIN:VEVENT
DTSTART;TZID=America/New_York:20250211T120000
DTEND;TZID=America/New_York:20250211T130000
DTSTAMP:20260420T231604
CREATED:20240618T222601Z
LAST-MODIFIED:20240625T035923Z
UID:12808-1739275200-1739278800@wg.sunlightchurch.com
SUMMARY:PROS (Public Reading of Scripture)
DESCRIPTION:
URL:https://wg.sunlightchurch.com/calendar/pros-public-reading-of-scripture-34/
END:VEVENT
BEGIN:VEVENT
DTSTART;TZID=America/New_York:20250209T190000
DTEND;TZID=America/New_York:20250209T200000
DTSTAMP:20260420T231604
CREATED:20240611T033019Z
LAST-MODIFIED:20240829T005611Z
UID:12387-1739127600-1739131200@wg.sunlightchurch.com
SUMMARY:Worship service-Brasil
DESCRIPTION:
URL:https://wg.sunlightchurch.com/calendar/worship-service-brasil-71/
LOCATION:607 Avalon Rd\, Winter Garden\, FL\, United States
END:VEVENT
BEGIN:VEVENT
DTSTART;TZID=America/New_York:20250209T183000
DTEND;TZID=America/New_York:20250209T190000
DTSTAMP:20260420T231604
CREATED:20240611T033019Z
LAST-MODIFIED:20240829T005611Z
UID:12388-1739125800-1739127600@wg.sunlightchurch.com
SUMMARY:Brasil evening café
DESCRIPTION:
URL:https://wg.sunlightchurch.com/calendar/brasil-evening-cafe-35/
END:VEVENT
BEGIN:VEVENT
DTSTART;TZID=America/New_York:20250209T111500
DTEND;TZID=America/New_York:20250209T123000
DTSTAMP:20260420T231604
CREATED:20240313T200956Z
LAST-MODIFIED:20240610T022530Z
UID:11413-1739099700-1739104200@wg.sunlightchurch.com
SUMMARY:Worship Service
DESCRIPTION:
URL:https://wg.sunlightchurch.com/calendar/worship-service-48/
LOCATION:607 Avalon Rd\, Winter Garden\, FL 34787\, USA
END:VEVENT
BEGIN:VEVENT
DTSTART;TZID=America/New_York:20250209T111500
DTEND;TZID=America/New_York:20250209T121500
DTSTAMP:20260420T231604
CREATED:20240611T033018Z
LAST-MODIFIED:20240829T005610Z
UID:12385-1739099700-1739103300@wg.sunlightchurch.com
SUMMARY:Worship Service-Brasil
DESCRIPTION:
URL:https://wg.sunlightchurch.com/calendar/worship-service-brasil-70/
LOCATION:607 Avalon Rd\, Winter Garden\, FL\, United States
END:VEVENT
BEGIN:VEVENT
DTSTART;TZID=America/New_York:20250209T104500
DTEND;TZID=America/New_York:20250209T111500
DTSTAMP:20260420T231604
CREATED:20240611T033018Z
LAST-MODIFIED:20240829T005610Z
UID:12386-1739097900-1739099700@wg.sunlightchurch.com
SUMMARY:Brasil breakfast café
DESCRIPTION:
URL:https://wg.sunlightchurch.com/calendar/brasil-breakfast-cafe-36/
END:VEVENT
BEGIN:VEVENT
DTSTART;TZID=America/New_York:20250209T101500
DTEND;TZID=America/New_York:20250209T111500
DTSTAMP:20260420T231604
CREATED:20240315T121616Z
LAST-MODIFIED:20240525T202034Z
UID:11687-1739096100-1739099700@wg.sunlightchurch.com
SUMMARY:Adult Sunday School
DESCRIPTION:
URL:https://wg.sunlightchurch.com/calendar/adult-sunday-school-48/
END:VEVENT
BEGIN:VEVENT
DTSTART;TZID=America/New_York:20250209T093000
DTEND;TZID=America/New_York:20250209T104500
DTSTAMP:20260420T231604
CREATED:20240731T222629Z
LAST-MODIFIED:20240829T005610Z
UID:13163-1739093400-1739097900@wg.sunlightchurch.com
SUMMARY:Sunlight English Service
DESCRIPTION:
URL:https://wg.sunlightchurch.com/calendar/sunlight-english-service-16/
END:VEVENT
BEGIN:VEVENT
DTSTART;TZID=America/New_York:20250206T190000
DTEND;TZID=America/New_York:20250206T200000
DTSTAMP:20260420T231604
CREATED:20240315T121616Z
LAST-MODIFIED:20240829T005609Z
UID:11685-1738868400-1738872000@wg.sunlightchurch.com
SUMMARY:Adult Bible Study
DESCRIPTION:
URL:https://wg.sunlightchurch.com/calendar/adult-bible-study-47/
END:VEVENT
BEGIN:VEVENT
DTSTART;TZID=America/New_York:20250205T120000
DTEND;TZID=America/New_York:20250205T130000
DTSTAMP:20260420T231604
CREATED:20240626T045232Z
LAST-MODIFIED:20240821T000234Z
UID:12992-1738756800-1738760400@wg.sunlightchurch.com
SUMMARY:Just Show Up Book Club
DESCRIPTION:Join with Google Meet: https://meet.google.com/uvk-tprk-yhz\nOr dial: (US) +1 843-631-7297 PIN: 545781116#\nMore phone numbers: https://tel.meet/uvk-tprk-yhz?pin=2517996509590&hs=7\nLearn more about Meet at: https://support.google.com/a/users/answer/9282720
URL:https://wg.sunlightchurch.com/calendar/just-show-up-book-club-77/
END:VEVENT
BEGIN:VEVENT
DTSTART;TZID=America/New_York:20250205T120000
DTEND;TZID=America/New_York:20250205T130000
DTSTAMP:20260420T231604
CREATED:20240618T222601Z
LAST-MODIFIED:20240625T035922Z
UID:12807-1738756800-1738760400@wg.sunlightchurch.com
SUMMARY:Just Show Up Book Club
DESCRIPTION:
URL:https://wg.sunlightchurch.com/calendar/just-show-up-book-club-34/
END:VEVENT
BEGIN:VEVENT
DTSTART;TZID=America/New_York:20250204T120000
DTEND;TZID=America/New_York:20250204T130000
DTSTAMP:20260420T231604
CREATED:20240626T045231Z
LAST-MODIFIED:20240829T005609Z
UID:12991-1738670400-1738674000@wg.sunlightchurch.com
SUMMARY:PROS (Public Reading of Scripture)
DESCRIPTION:Join with Google Meet: https://meet.google.com/cpq-gtxv-pcu\nOr dial: (US) +1 904-406-8468 PIN: 842196153#\nMore phone numbers: https://tel.meet/cpq-gtxv-pcu?pin=3768679431320&hs=7\nLearn more about Meet at: https://support.google.com/a/users/answer/9282720
URL:https://wg.sunlightchurch.com/calendar/pros-public-reading-of-scripture-75/
END:VEVENT
BEGIN:VEVENT
DTSTART;TZID=America/New_York:20250204T120000
DTEND;TZID=America/New_York:20250204T130000
DTSTAMP:20260420T231604
CREATED:20240618T222600Z
LAST-MODIFIED:20240625T035922Z
UID:12806-1738670400-1738674000@wg.sunlightchurch.com
SUMMARY:PROS (Public Reading of Scripture)
DESCRIPTION:
URL:https://wg.sunlightchurch.com/calendar/pros-public-reading-of-scripture-33/
END:VEVENT
BEGIN:VEVENT
DTSTART;TZID=America/New_York:20250202T190000
DTEND;TZID=America/New_York:20250202T200000
DTSTAMP:20260420T231604
CREATED:20240611T033018Z
LAST-MODIFIED:20240829T005609Z
UID:12383-1738522800-1738526400@wg.sunlightchurch.com
SUMMARY:Worship service-Brasil
DESCRIPTION:
URL:https://wg.sunlightchurch.com/calendar/worship-service-brasil-69/
LOCATION:607 Avalon Rd\, Winter Garden\, FL\, United States
END:VEVENT
END:VCALENDAR