BEGIN:VCALENDAR
VERSION:2.0
PRODID:-//Sunlight Community Church at Winter Garden - ECPv6.15.20//NONSGML v1.0//EN
CALSCALE:GREGORIAN
METHOD:PUBLISH
X-WR-CALNAME:Sunlight Community Church at Winter Garden
X-ORIGINAL-URL:https://wg.sunlightchurch.com
X-WR-CALDESC:Events for Sunlight Community Church at Winter Garden
REFRESH-INTERVAL;VALUE=DURATION:PT1H
X-Robots-Tag:noindex
X-PUBLISHED-TTL:PT1H
BEGIN:VTIMEZONE
TZID:America/New_York
BEGIN:DAYLIGHT
TZOFFSETFROM:-0500
TZOFFSETTO:-0400
TZNAME:EDT
DTSTART:20230312T070000
END:DAYLIGHT
BEGIN:STANDARD
TZOFFSETFROM:-0400
TZOFFSETTO:-0500
TZNAME:EST
DTSTART:20231105T060000
END:STANDARD
BEGIN:DAYLIGHT
TZOFFSETFROM:-0500
TZOFFSETTO:-0400
TZNAME:EDT
DTSTART:20240310T070000
END:DAYLIGHT
BEGIN:STANDARD
TZOFFSETFROM:-0400
TZOFFSETTO:-0500
TZNAME:EST
DTSTART:20241103T060000
END:STANDARD
BEGIN:DAYLIGHT
TZOFFSETFROM:-0500
TZOFFSETTO:-0400
TZNAME:EDT
DTSTART:20250309T070000
END:DAYLIGHT
BEGIN:STANDARD
TZOFFSETFROM:-0400
TZOFFSETTO:-0500
TZNAME:EST
DTSTART:20251102T060000
END:STANDARD
END:VTIMEZONE
BEGIN:VEVENT
DTSTART;TZID=America/New_York:20240725T190000
DTEND;TZID=America/New_York:20240725T200000
DTSTAMP:20260425T105216
CREATED:20240315T121605Z
LAST-MODIFIED:20240725T211614Z
UID:10001998-1721934000-1721937600@wg.sunlightchurch.com
SUMMARY:Adult Bible Study
DESCRIPTION:
URL:https://wg.sunlightchurch.com/calendar/adult-bible-study-19/
END:VEVENT
BEGIN:VEVENT
DTSTART;TZID=America/New_York:20240724T120000
DTEND;TZID=America/New_York:20240724T130000
DTSTAMP:20260425T105216
CREATED:20240626T045142Z
LAST-MODIFIED:20240723T193507Z
UID:10002542-1721822400-1721826000@wg.sunlightchurch.com
SUMMARY:Just Show Up Book Club
DESCRIPTION:Join with Google Meet: https://meet.google.com/uvk-tprk-yhz\nOr dial: (US) +1 843-631-7297 PIN: 545781116#\nMore phone numbers: https://tel.meet/uvk-tprk-yhz?pin=2517996509590&hs=7\nLearn more about Meet at: https://support.google.com/a/users/answer/9282720
URL:https://wg.sunlightchurch.com/calendar/just-show-up-book-club-49/
END:VEVENT
BEGIN:VEVENT
DTSTART;TZID=America/New_York:20240724T120000
DTEND;TZID=America/New_York:20240724T130000
DTSTAMP:20260425T105216
CREATED:20240618T222536Z
LAST-MODIFIED:20240625T035928Z
UID:10002457-1721822400-1721826000@wg.sunlightchurch.com
SUMMARY:Just Show Up Book Club
DESCRIPTION:
URL:https://wg.sunlightchurch.com/calendar/just-show-up-book-club-6/
END:VEVENT
BEGIN:VEVENT
DTSTART;TZID=America/New_York:20240723T120000
DTEND;TZID=America/New_York:20240723T130000
DTSTAMP:20260425T105216
CREATED:20240626T045141Z
LAST-MODIFIED:20240722T192108Z
UID:10002541-1721736000-1721739600@wg.sunlightchurch.com
SUMMARY:PROS (Public Reading of Scripture)
DESCRIPTION:Join with Google Meet: https://meet.google.com/cpq-gtxv-pcu\nOr dial: (US) +1 904-406-8468 PIN: 842196153#\nMore phone numbers: https://tel.meet/cpq-gtxv-pcu?pin=3768679431320&hs=7\nLearn more about Meet at: https://support.google.com/a/users/answer/9282720
URL:https://wg.sunlightchurch.com/calendar/pros-public-reading-of-scripture-47/
END:VEVENT
BEGIN:VEVENT
DTSTART;TZID=America/New_York:20240723T120000
DTEND;TZID=America/New_York:20240723T130000
DTSTAMP:20260425T105216
CREATED:20240618T222536Z
LAST-MODIFIED:20240625T035928Z
UID:10002456-1721736000-1721739600@wg.sunlightchurch.com
SUMMARY:PROS (Public Reading of Scripture)
DESCRIPTION:
URL:https://wg.sunlightchurch.com/calendar/pros-public-reading-of-scripture-5/
END:VEVENT
BEGIN:VEVENT
DTSTART;TZID=America/New_York:20240721T190000
DTEND;TZID=America/New_York:20240721T200000
DTSTAMP:20260425T105216
CREATED:20240611T032955Z
LAST-MODIFIED:20240721T181534Z
UID:10002226-1721588400-1721592000@wg.sunlightchurch.com
SUMMARY:Worship service-Brasil
DESCRIPTION:
URL:https://wg.sunlightchurch.com/calendar/worship-service-brasil-13/
LOCATION:607 Avalon Rd\, Winter Garden\, FL\, United States
GEO:28.484973;-81.619298
END:VEVENT
BEGIN:VEVENT
DTSTART;TZID=America/New_York:20240721T183000
DTEND;TZID=America/New_York:20240721T190000
DTSTAMP:20260425T105216
CREATED:20240611T032955Z
LAST-MODIFIED:20240721T181534Z
UID:10002225-1721586600-1721588400@wg.sunlightchurch.com
SUMMARY:Brasil evening café
DESCRIPTION:
URL:https://wg.sunlightchurch.com/calendar/brasil-evening-cafe-6/
END:VEVENT
BEGIN:VEVENT
DTSTART;TZID=America/New_York:20240721T111500
DTEND;TZID=America/New_York:20240721T123000
DTSTAMP:20260425T105216
CREATED:20240313T200950Z
LAST-MODIFIED:20240610T022517Z
UID:10001875-1721560500-1721565000@wg.sunlightchurch.com
SUMMARY:Worship Service
DESCRIPTION:
URL:https://wg.sunlightchurch.com/calendar/worship-service-19/
LOCATION:607 Avalon Rd\, Winter Garden\, FL 34787\, USA
END:VEVENT
BEGIN:VEVENT
DTSTART;TZID=America/New_York:20240721T111500
DTEND;TZID=America/New_York:20240721T121500
DTSTAMP:20260425T105216
CREATED:20240611T032955Z
LAST-MODIFIED:20240720T175808Z
UID:10002224-1721560500-1721564100@wg.sunlightchurch.com
SUMMARY:Worship Service-Brasil
DESCRIPTION:
URL:https://wg.sunlightchurch.com/calendar/worship-service-brasil-12/
LOCATION:607 Avalon Rd\, Winter Garden\, FL\, United States
GEO:28.484973;-81.619298
END:VEVENT
BEGIN:VEVENT
DTSTART;TZID=America/New_York:20240721T104500
DTEND;TZID=America/New_York:20240721T111500
DTSTAMP:20260425T105216
CREATED:20240611T032955Z
LAST-MODIFIED:20240720T175808Z
UID:10002223-1721558700-1721560500@wg.sunlightchurch.com
SUMMARY:Brasil breakfast café
DESCRIPTION:
URL:https://wg.sunlightchurch.com/calendar/brasil-breakfast-cafe-7/
END:VEVENT
BEGIN:VEVENT
DTSTART;TZID=America/New_York:20240721T101500
DTEND;TZID=America/New_York:20240721T111500
DTSTAMP:20260425T105216
CREATED:20240315T121605Z
LAST-MODIFIED:20240525T202027Z
UID:10001997-1721556900-1721560500@wg.sunlightchurch.com
SUMMARY:Adult Sunday School
DESCRIPTION:
URL:https://wg.sunlightchurch.com/calendar/adult-sunday-school-19/
END:VEVENT
BEGIN:VEVENT
DTSTART;TZID=America/New_York:20240718T190000
DTEND;TZID=America/New_York:20240718T200000
DTSTAMP:20260425T105216
CREATED:20240315T121605Z
LAST-MODIFIED:20240718T171028Z
UID:10001996-1721329200-1721332800@wg.sunlightchurch.com
SUMMARY:Adult Bible Study
DESCRIPTION:
URL:https://wg.sunlightchurch.com/calendar/adult-bible-study-18/
END:VEVENT
BEGIN:VEVENT
DTSTART;TZID=America/New_York:20240717T120000
DTEND;TZID=America/New_York:20240717T130000
DTSTAMP:20260425T105216
CREATED:20240626T045139Z
LAST-MODIFIED:20240716T161337Z
UID:10002540-1721217600-1721221200@wg.sunlightchurch.com
SUMMARY:Just Show Up Book Club
DESCRIPTION:Join with Google Meet: https://meet.google.com/uvk-tprk-yhz\nOr dial: (US) +1 843-631-7297 PIN: 545781116#\nMore phone numbers: https://tel.meet/uvk-tprk-yhz?pin=2517996509590&hs=7\nLearn more about Meet at: https://support.google.com/a/users/answer/9282720
URL:https://wg.sunlightchurch.com/calendar/just-show-up-book-club-48/
END:VEVENT
BEGIN:VEVENT
DTSTART;TZID=America/New_York:20240717T120000
DTEND;TZID=America/New_York:20240717T130000
DTSTAMP:20260425T105216
CREATED:20240618T222535Z
LAST-MODIFIED:20240625T035928Z
UID:10002455-1721217600-1721221200@wg.sunlightchurch.com
SUMMARY:Just Show Up Book Club
DESCRIPTION:
URL:https://wg.sunlightchurch.com/calendar/just-show-up-book-club-5/
END:VEVENT
BEGIN:VEVENT
DTSTART;TZID=America/New_York:20240716T120000
DTEND;TZID=America/New_York:20240716T130000
DTSTAMP:20260425T105216
CREATED:20240626T045138Z
LAST-MODIFIED:20240716T161336Z
UID:10002539-1721131200-1721134800@wg.sunlightchurch.com
SUMMARY:PROS (Public Reading of Scripture)
DESCRIPTION:Join with Google Meet: https://meet.google.com/cpq-gtxv-pcu\nOr dial: (US) +1 904-406-8468 PIN: 842196153#\nMore phone numbers: https://tel.meet/cpq-gtxv-pcu?pin=3768679431320&hs=7\nLearn more about Meet at: https://support.google.com/a/users/answer/9282720
URL:https://wg.sunlightchurch.com/calendar/pros-public-reading-of-scripture-46/
END:VEVENT
BEGIN:VEVENT
DTSTART;TZID=America/New_York:20240716T120000
DTEND;TZID=America/New_York:20240716T130000
DTSTAMP:20260425T105216
CREATED:20240618T222535Z
LAST-MODIFIED:20240625T035928Z
UID:10002454-1721131200-1721134800@wg.sunlightchurch.com
SUMMARY:PROS (Public Reading of Scripture)
DESCRIPTION:
URL:https://wg.sunlightchurch.com/calendar/pros-public-reading-of-scripture-4/
END:VEVENT
BEGIN:VEVENT
DTSTART;TZID=America/New_York:20240714T190000
DTEND;TZID=America/New_York:20240714T200000
DTSTAMP:20260425T105216
CREATED:20240611T032954Z
LAST-MODIFIED:20240714T151450Z
UID:10002221-1720983600-1720987200@wg.sunlightchurch.com
SUMMARY:Worship service-Brasil
DESCRIPTION:
URL:https://wg.sunlightchurch.com/calendar/worship-service-brasil-11/
LOCATION:607 Avalon Rd\, Winter Garden\, FL\, United States
GEO:28.484973;-81.619298
END:VEVENT
BEGIN:VEVENT
DTSTART;TZID=America/New_York:20240714T183000
DTEND;TZID=America/New_York:20240714T190000
DTSTAMP:20260425T105216
CREATED:20240611T032954Z
LAST-MODIFIED:20240714T151450Z
UID:10002222-1720981800-1720983600@wg.sunlightchurch.com
SUMMARY:Brasil evening café
DESCRIPTION:
URL:https://wg.sunlightchurch.com/calendar/brasil-evening-cafe-5/
END:VEVENT
BEGIN:VEVENT
DTSTART;TZID=America/New_York:20240714T111500
DTEND;TZID=America/New_York:20240714T123000
DTSTAMP:20260425T105216
CREATED:20240313T200950Z
LAST-MODIFIED:20240610T022516Z
UID:10001874-1720955700-1720960200@wg.sunlightchurch.com
SUMMARY:Worship Service
DESCRIPTION:
URL:https://wg.sunlightchurch.com/calendar/worship-service-18/
LOCATION:607 Avalon Rd\, Winter Garden\, FL 34787\, USA
END:VEVENT
BEGIN:VEVENT
DTSTART;TZID=America/New_York:20240714T111500
DTEND;TZID=America/New_York:20240714T121500
DTSTAMP:20260425T105216
CREATED:20240611T032954Z
LAST-MODIFIED:20240714T151450Z
UID:10002220-1720955700-1720959300@wg.sunlightchurch.com
SUMMARY:Worship Service-Brasil
DESCRIPTION:
URL:https://wg.sunlightchurch.com/calendar/worship-service-brasil-10/
LOCATION:607 Avalon Rd\, Winter Garden\, FL\, United States
GEO:28.484973;-81.619298
END:VEVENT
BEGIN:VEVENT
DTSTART;TZID=America/New_York:20240714T104500
DTEND;TZID=America/New_York:20240714T111500
DTSTAMP:20260425T105216
CREATED:20240611T032954Z
LAST-MODIFIED:20240714T151450Z
UID:10002219-1720953900-1720955700@wg.sunlightchurch.com
SUMMARY:Brasil breakfast café
DESCRIPTION:
URL:https://wg.sunlightchurch.com/calendar/brasil-breakfast-cafe-6/
END:VEVENT
BEGIN:VEVENT
DTSTART;TZID=America/New_York:20240714T101500
DTEND;TZID=America/New_York:20240714T111500
DTSTAMP:20260425T105216
CREATED:20240315T121604Z
LAST-MODIFIED:20240525T202026Z
UID:10001995-1720952100-1720955700@wg.sunlightchurch.com
SUMMARY:Adult Sunday School
DESCRIPTION:
URL:https://wg.sunlightchurch.com/calendar/adult-sunday-school-18/
END:VEVENT
BEGIN:VEVENT
DTSTART;TZID=America/New_York:20240711T190000
DTEND;TZID=America/New_York:20240711T200000
DTSTAMP:20260425T105216
CREATED:20240315T121604Z
LAST-MODIFIED:20240711T135524Z
UID:10001994-1720724400-1720728000@wg.sunlightchurch.com
SUMMARY:Adult Bible Study
DESCRIPTION:
URL:https://wg.sunlightchurch.com/calendar/adult-bible-study-17/
END:VEVENT
BEGIN:VEVENT
DTSTART;TZID=America/New_York:20240710T120000
DTEND;TZID=America/New_York:20240710T130000
DTSTAMP:20260425T105216
CREATED:20240626T045136Z
LAST-MODIFIED:20240710T135315Z
UID:10002538-1720612800-1720616400@wg.sunlightchurch.com
SUMMARY:Just Show Up Book Club
DESCRIPTION:Join with Google Meet: https://meet.google.com/uvk-tprk-yhz\nOr dial: (US) +1 843-631-7297 PIN: 545781116#\nMore phone numbers: https://tel.meet/uvk-tprk-yhz?pin=2517996509590&hs=7\nLearn more about Meet at: https://support.google.com/a/users/answer/9282720
URL:https://wg.sunlightchurch.com/calendar/just-show-up-book-club-47/
END:VEVENT
BEGIN:VEVENT
DTSTART;TZID=America/New_York:20240710T120000
DTEND;TZID=America/New_York:20240710T130000
DTSTAMP:20260425T105216
CREATED:20240618T222534Z
LAST-MODIFIED:20240625T035915Z
UID:10002453-1720612800-1720616400@wg.sunlightchurch.com
SUMMARY:Just Show Up Book Club
DESCRIPTION:
URL:https://wg.sunlightchurch.com/calendar/just-show-up-book-club-4/
END:VEVENT
BEGIN:VEVENT
DTSTART;TZID=America/New_York:20240709T120000
DTEND;TZID=America/New_York:20240709T130000
DTSTAMP:20260425T105216
CREATED:20240626T045136Z
LAST-MODIFIED:20240709T130049Z
UID:10002537-1720526400-1720530000@wg.sunlightchurch.com
SUMMARY:PROS (Public Reading of Scripture)
DESCRIPTION:Join with Google Meet: https://meet.google.com/cpq-gtxv-pcu\nOr dial: (US) +1 904-406-8468 PIN: 842196153#\nMore phone numbers: https://tel.meet/cpq-gtxv-pcu?pin=3768679431320&hs=7\nLearn more about Meet at: https://support.google.com/a/users/answer/9282720
URL:https://wg.sunlightchurch.com/calendar/pros-public-reading-of-scripture-45/
END:VEVENT
BEGIN:VEVENT
DTSTART;TZID=America/New_York:20240709T120000
DTEND;TZID=America/New_York:20240709T130000
DTSTAMP:20260425T105216
CREATED:20240618T222534Z
LAST-MODIFIED:20240625T035915Z
UID:10002452-1720526400-1720530000@wg.sunlightchurch.com
SUMMARY:PROS (Public Reading of Scripture)
DESCRIPTION:
URL:https://wg.sunlightchurch.com/calendar/pros-public-reading-of-scripture-3/
END:VEVENT
BEGIN:VEVENT
DTSTART;TZID=America/New_York:20240707T190000
DTEND;TZID=America/New_York:20240707T200000
DTSTAMP:20260425T105216
CREATED:20240611T032954Z
LAST-MODIFIED:20240707T115438Z
UID:10002217-1720378800-1720382400@wg.sunlightchurch.com
SUMMARY:Worship service-Brasil
DESCRIPTION:
URL:https://wg.sunlightchurch.com/calendar/worship-service-brasil-9/
LOCATION:607 Avalon Rd\, Winter Garden\, FL\, United States
GEO:28.484973;-81.619298
END:VEVENT
BEGIN:VEVENT
DTSTART;TZID=America/New_York:20240707T183000
DTEND;TZID=America/New_York:20240707T190000
DTSTAMP:20260425T105216
CREATED:20240611T032954Z
LAST-MODIFIED:20240707T115438Z
UID:10002218-1720377000-1720378800@wg.sunlightchurch.com
SUMMARY:Brasil evening café
DESCRIPTION:
URL:https://wg.sunlightchurch.com/calendar/brasil-evening-cafe-4/
END:VEVENT
BEGIN:VEVENT
DTSTART;TZID=America/New_York:20240707T111500
DTEND;TZID=America/New_York:20240707T123000
DTSTAMP:20260425T105216
CREATED:20240313T200949Z
LAST-MODIFIED:20240610T022516Z
UID:10001873-1720350900-1720355400@wg.sunlightchurch.com
SUMMARY:Worship Service
DESCRIPTION:
URL:https://wg.sunlightchurch.com/calendar/worship-service-17/
LOCATION:607 Avalon Rd\, Winter Garden\, FL 34787\, USA
END:VEVENT
END:VCALENDAR