BEGIN:VCALENDAR
VERSION:2.0
PRODID:-//Sunlight Community Church at Winter Garden - ECPv6.15.20//NONSGML v1.0//EN
CALSCALE:GREGORIAN
METHOD:PUBLISH
X-WR-CALNAME:Sunlight Community Church at Winter Garden
X-ORIGINAL-URL:https://wg.sunlightchurch.com
X-WR-CALDESC:Events for Sunlight Community Church at Winter Garden
REFRESH-INTERVAL;VALUE=DURATION:PT1H
X-Robots-Tag:noindex
X-PUBLISHED-TTL:PT1H
BEGIN:VTIMEZONE
TZID:America/New_York
BEGIN:DAYLIGHT
TZOFFSETFROM:-0500
TZOFFSETTO:-0400
TZNAME:EDT
DTSTART:20230312T070000
END:DAYLIGHT
BEGIN:STANDARD
TZOFFSETFROM:-0400
TZOFFSETTO:-0500
TZNAME:EST
DTSTART:20231105T060000
END:STANDARD
BEGIN:DAYLIGHT
TZOFFSETFROM:-0500
TZOFFSETTO:-0400
TZNAME:EDT
DTSTART:20240310T070000
END:DAYLIGHT
BEGIN:STANDARD
TZOFFSETFROM:-0400
TZOFFSETTO:-0500
TZNAME:EST
DTSTART:20241103T060000
END:STANDARD
BEGIN:DAYLIGHT
TZOFFSETFROM:-0500
TZOFFSETTO:-0400
TZNAME:EDT
DTSTART:20250309T070000
END:DAYLIGHT
BEGIN:STANDARD
TZOFFSETFROM:-0400
TZOFFSETTO:-0500
TZNAME:EST
DTSTART:20251102T060000
END:STANDARD
END:VTIMEZONE
BEGIN:VEVENT
DTSTART;TZID=America/New_York:20240808T190000
DTEND;TZID=America/New_York:20240808T200000
DTSTAMP:20260425T074759
CREATED:20240315T121605Z
LAST-MODIFIED:20240808T230835Z
UID:10002002-1723143600-1723147200@wg.sunlightchurch.com
SUMMARY:Adult Bible Study
DESCRIPTION:
URL:https://wg.sunlightchurch.com/calendar/adult-bible-study-21/
LOCATION:FL
END:VEVENT
BEGIN:VEVENT
DTSTART;TZID=America/New_York:20240807T120000
DTEND;TZID=America/New_York:20240807T130000
DTSTAMP:20260425T074759
CREATED:20240626T045147Z
LAST-MODIFIED:20240806T225312Z
UID:10002546-1723032000-1723035600@wg.sunlightchurch.com
SUMMARY:Just Show Up Book Club
DESCRIPTION:Join with Google Meet: https://meet.google.com/uvk-tprk-yhz\nOr dial: (US) +1 843-631-7297 PIN: 545781116#\nMore phone numbers: https://tel.meet/uvk-tprk-yhz?pin=2517996509590&hs=7\nLearn more about Meet at: https://support.google.com/a/users/answer/9282720
URL:https://wg.sunlightchurch.com/calendar/just-show-up-book-club-51/
LOCATION:FL
END:VEVENT
BEGIN:VEVENT
DTSTART;TZID=America/New_York:20240807T120000
DTEND;TZID=America/New_York:20240807T130000
DTSTAMP:20260425T074759
CREATED:20240618T222537Z
LAST-MODIFIED:20240625T035907Z
UID:10002461-1723032000-1723035600@wg.sunlightchurch.com
SUMMARY:Just Show Up Book Club
DESCRIPTION:
URL:https://wg.sunlightchurch.com/calendar/just-show-up-book-club-8/
LOCATION:FL
END:VEVENT
BEGIN:VEVENT
DTSTART;TZID=America/New_York:20240806T120000
DTEND;TZID=America/New_York:20240806T130000
DTSTAMP:20260425T074759
CREATED:20240626T045147Z
LAST-MODIFIED:20240805T223912Z
UID:10002545-1722945600-1722949200@wg.sunlightchurch.com
SUMMARY:PROS (Public Reading of Scripture)
DESCRIPTION:Join with Google Meet: https://meet.google.com/cpq-gtxv-pcu\nOr dial: (US) +1 904-406-8468 PIN: 842196153#\nMore phone numbers: https://tel.meet/cpq-gtxv-pcu?pin=3768679431320&hs=7\nLearn more about Meet at: https://support.google.com/a/users/answer/9282720
URL:https://wg.sunlightchurch.com/calendar/pros-public-reading-of-scripture-49/
LOCATION:FL
END:VEVENT
BEGIN:VEVENT
DTSTART;TZID=America/New_York:20240806T120000
DTEND;TZID=America/New_York:20240806T130000
DTSTAMP:20260425T074759
CREATED:20240618T222537Z
LAST-MODIFIED:20240625T035907Z
UID:10002460-1722945600-1722949200@wg.sunlightchurch.com
SUMMARY:PROS (Public Reading of Scripture)
DESCRIPTION:
URL:https://wg.sunlightchurch.com/calendar/pros-public-reading-of-scripture-7/
LOCATION:FL
END:VEVENT
BEGIN:VEVENT
DTSTART;TZID=America/New_York:20240804T190000
DTEND;TZID=America/New_York:20240804T200000
DTSTAMP:20260425T074759
CREATED:20240611T032957Z
LAST-MODIFIED:20240804T222318Z
UID:10002234-1722798000-1722801600@wg.sunlightchurch.com
SUMMARY:Worship service-Brasil
DESCRIPTION:
URL:https://wg.sunlightchurch.com/calendar/worship-service-brasil-17/
LOCATION:607 Avalon Rd\, Winter Garden\, FL\, United States
GEO:28.484973;-81.619298
END:VEVENT
BEGIN:VEVENT
DTSTART;TZID=America/New_York:20240804T183000
DTEND;TZID=America/New_York:20240804T190000
DTSTAMP:20260425T074759
CREATED:20240611T032956Z
LAST-MODIFIED:20240804T222317Z
UID:10002233-1722796200-1722798000@wg.sunlightchurch.com
SUMMARY:Brasil evening café
DESCRIPTION:
URL:https://wg.sunlightchurch.com/calendar/brasil-evening-cafe-8/
LOCATION:FL
END:VEVENT
BEGIN:VEVENT
DTSTART;TZID=America/New_York:20240804T111500
DTEND;TZID=America/New_York:20240804T123000
DTSTAMP:20260425T074759
CREATED:20240313T200950Z
LAST-MODIFIED:20240610T022517Z
UID:10001877-1722770100-1722774600@wg.sunlightchurch.com
SUMMARY:Worship Service
DESCRIPTION:
URL:https://wg.sunlightchurch.com/calendar/worship-service-21/
LOCATION:607 Avalon Rd\, Winter Garden\, FL 34787\, USA
END:VEVENT
BEGIN:VEVENT
DTSTART;TZID=America/New_York:20240804T111500
DTEND;TZID=America/New_York:20240804T121500
DTSTAMP:20260425T074759
CREATED:20240611T032956Z
LAST-MODIFIED:20240803T222318Z
UID:10002232-1722770100-1722773700@wg.sunlightchurch.com
SUMMARY:Worship Service-Brasil
DESCRIPTION:
URL:https://wg.sunlightchurch.com/calendar/worship-service-brasil-16/
LOCATION:607 Avalon Rd\, Winter Garden\, FL\, United States
GEO:28.484973;-81.619298
END:VEVENT
BEGIN:VEVENT
DTSTART;TZID=America/New_York:20240804T104500
DTEND;TZID=America/New_York:20240804T111500
DTSTAMP:20260425T074759
CREATED:20240611T032956Z
LAST-MODIFIED:20240803T222318Z
UID:10002231-1722768300-1722770100@wg.sunlightchurch.com
SUMMARY:Brasil breakfast café
DESCRIPTION:
URL:https://wg.sunlightchurch.com/calendar/brasil-breakfast-cafe-9/
LOCATION:FL
END:VEVENT
BEGIN:VEVENT
DTSTART;TZID=America/New_York:20240804T101500
DTEND;TZID=America/New_York:20240804T111500
DTSTAMP:20260425T074759
CREATED:20240315T121605Z
LAST-MODIFIED:20240525T202027Z
UID:10002001-1722766500-1722770100@wg.sunlightchurch.com
SUMMARY:Adult Sunday School
DESCRIPTION:
URL:https://wg.sunlightchurch.com/calendar/adult-sunday-school-21/
LOCATION:FL
END:VEVENT
BEGIN:VEVENT
DTSTART;TZID=America/New_York:20240802T193000
DTEND;TZID=America/New_York:20240802T220000
DTSTAMP:20260425T074759
CREATED:20240728T215038Z
LAST-MODIFIED:20240802T222325Z
UID:10002629-1722627000-1722636000@wg.sunlightchurch.com
SUMMARY:Special Friday presentation
DESCRIPTION:
URL:https://wg.sunlightchurch.com/calendar/special-friday-presentation/
LOCATION:FL
END:VEVENT
BEGIN:VEVENT
DTSTART;TZID=America/New_York:20240801T190000
DTEND;TZID=America/New_York:20240801T200000
DTSTAMP:20260425T074759
CREATED:20240315T121605Z
LAST-MODIFIED:20240801T222628Z
UID:10002000-1722538800-1722542400@wg.sunlightchurch.com
SUMMARY:Adult Bible Study
DESCRIPTION:
URL:https://wg.sunlightchurch.com/calendar/adult-bible-study-20/
LOCATION:FL
END:VEVENT
BEGIN:VEVENT
DTSTART;TZID=America/New_York:20240731T120000
DTEND;TZID=America/New_York:20240731T130000
DTSTAMP:20260425T074759
CREATED:20240626T045145Z
LAST-MODIFIED:20240730T221539Z
UID:10002544-1722427200-1722430800@wg.sunlightchurch.com
SUMMARY:Just Show Up Book Club
DESCRIPTION:Join with Google Meet: https://meet.google.com/uvk-tprk-yhz\nOr dial: (US) +1 843-631-7297 PIN: 545781116#\nMore phone numbers: https://tel.meet/uvk-tprk-yhz?pin=2517996509590&hs=7\nLearn more about Meet at: https://support.google.com/a/users/answer/9282720
URL:https://wg.sunlightchurch.com/calendar/just-show-up-book-club-50/
LOCATION:FL
END:VEVENT
BEGIN:VEVENT
DTSTART;TZID=America/New_York:20240731T120000
DTEND;TZID=America/New_York:20240731T130000
DTSTAMP:20260425T074759
CREATED:20240618T222536Z
LAST-MODIFIED:20240625T035906Z
UID:10002459-1722427200-1722430800@wg.sunlightchurch.com
SUMMARY:Just Show Up Book Club
DESCRIPTION:
URL:https://wg.sunlightchurch.com/calendar/just-show-up-book-club-7/
LOCATION:FL
END:VEVENT
BEGIN:VEVENT
DTSTART;TZID=America/New_York:20240730T120000
DTEND;TZID=America/New_York:20240730T130000
DTSTAMP:20260425T074759
CREATED:20240626T045144Z
LAST-MODIFIED:20240729T215846Z
UID:10002543-1722340800-1722344400@wg.sunlightchurch.com
SUMMARY:PROS (Public Reading of Scripture)
DESCRIPTION:Join with Google Meet: https://meet.google.com/cpq-gtxv-pcu\nOr dial: (US) +1 904-406-8468 PIN: 842196153#\nMore phone numbers: https://tel.meet/cpq-gtxv-pcu?pin=3768679431320&hs=7\nLearn more about Meet at: https://support.google.com/a/users/answer/9282720
URL:https://wg.sunlightchurch.com/calendar/pros-public-reading-of-scripture-48/
LOCATION:FL
END:VEVENT
BEGIN:VEVENT
DTSTART;TZID=America/New_York:20240730T120000
DTEND;TZID=America/New_York:20240730T130000
DTSTAMP:20260425T074759
CREATED:20240618T222536Z
LAST-MODIFIED:20240625T035906Z
UID:10002458-1722340800-1722344400@wg.sunlightchurch.com
SUMMARY:PROS (Public Reading of Scripture)
DESCRIPTION:
URL:https://wg.sunlightchurch.com/calendar/pros-public-reading-of-scripture-6/
LOCATION:FL
END:VEVENT
BEGIN:VEVENT
DTSTART;TZID=America/New_York:20240728T190000
DTEND;TZID=America/New_York:20240728T200000
DTSTAMP:20260425T074759
CREATED:20240611T032956Z
LAST-MODIFIED:20240728T215038Z
UID:10002229-1722193200-1722196800@wg.sunlightchurch.com
SUMMARY:Worship service-Brasil
DESCRIPTION:
URL:https://wg.sunlightchurch.com/calendar/worship-service-brasil-15/
LOCATION:607 Avalon Rd\, Winter Garden\, FL\, United States
GEO:28.484973;-81.619298
END:VEVENT
BEGIN:VEVENT
DTSTART;TZID=America/New_York:20240728T183000
DTEND;TZID=America/New_York:20240728T190000
DTSTAMP:20260425T074759
CREATED:20240611T032956Z
LAST-MODIFIED:20240728T215038Z
UID:10002230-1722191400-1722193200@wg.sunlightchurch.com
SUMMARY:Brasil evening café
DESCRIPTION:
URL:https://wg.sunlightchurch.com/calendar/brasil-evening-cafe-7/
LOCATION:FL
END:VEVENT
BEGIN:VEVENT
DTSTART;TZID=America/New_York:20240728T111500
DTEND;TZID=America/New_York:20240728T123000
DTSTAMP:20260425T074759
CREATED:20240313T200950Z
LAST-MODIFIED:20240610T022517Z
UID:10001876-1722165300-1722169800@wg.sunlightchurch.com
SUMMARY:Worship Service
DESCRIPTION:
URL:https://wg.sunlightchurch.com/calendar/worship-service-20/
LOCATION:607 Avalon Rd\, Winter Garden\, FL 34787\, USA
END:VEVENT
BEGIN:VEVENT
DTSTART;TZID=America/New_York:20240728T111500
DTEND;TZID=America/New_York:20240728T121500
DTSTAMP:20260425T074759
CREATED:20240611T032956Z
LAST-MODIFIED:20240727T214154Z
UID:10002228-1722165300-1722168900@wg.sunlightchurch.com
SUMMARY:Worship Service-Brasil
DESCRIPTION:
URL:https://wg.sunlightchurch.com/calendar/worship-service-brasil-14/
LOCATION:607 Avalon Rd\, Winter Garden\, FL\, United States
GEO:28.484973;-81.619298
END:VEVENT
BEGIN:VEVENT
DTSTART;TZID=America/New_York:20240728T104500
DTEND;TZID=America/New_York:20240728T111500
DTSTAMP:20260425T074759
CREATED:20240611T032955Z
LAST-MODIFIED:20240727T214154Z
UID:10002227-1722163500-1722165300@wg.sunlightchurch.com
SUMMARY:Brasil breakfast café
DESCRIPTION:
URL:https://wg.sunlightchurch.com/calendar/brasil-breakfast-cafe-8/
LOCATION:FL
END:VEVENT
BEGIN:VEVENT
DTSTART;TZID=America/New_York:20240728T101500
DTEND;TZID=America/New_York:20240728T111500
DTSTAMP:20260425T074759
CREATED:20240315T121605Z
LAST-MODIFIED:20240525T202027Z
UID:10001999-1722161700-1722165300@wg.sunlightchurch.com
SUMMARY:Adult Sunday School
DESCRIPTION:
URL:https://wg.sunlightchurch.com/calendar/adult-sunday-school-20/
LOCATION:FL
END:VEVENT
BEGIN:VEVENT
DTSTART;TZID=America/New_York:20240727T160000
DTEND;TZID=America/New_York:20240727T200000
DTSTAMP:20260425T074759
CREATED:20240710T135319Z
LAST-MODIFIED:20240727T214153Z
UID:10002624-1722096000-1722110400@wg.sunlightchurch.com
SUMMARY:Sunlight Saturday family event
DESCRIPTION:
URL:https://wg.sunlightchurch.com/calendar/sunlight-saturday-family-event/
LOCATION:FL
END:VEVENT
BEGIN:VEVENT
DTSTART;TZID=America/New_York:20240725T190000
DTEND;TZID=America/New_York:20240725T200000
DTSTAMP:20260425T074759
CREATED:20240315T121605Z
LAST-MODIFIED:20240725T211614Z
UID:10001998-1721934000-1721937600@wg.sunlightchurch.com
SUMMARY:Adult Bible Study
DESCRIPTION:
URL:https://wg.sunlightchurch.com/calendar/adult-bible-study-19/
LOCATION:FL
END:VEVENT
BEGIN:VEVENT
DTSTART;TZID=America/New_York:20240724T120000
DTEND;TZID=America/New_York:20240724T130000
DTSTAMP:20260425T074759
CREATED:20240626T045142Z
LAST-MODIFIED:20240723T193507Z
UID:10002542-1721822400-1721826000@wg.sunlightchurch.com
SUMMARY:Just Show Up Book Club
DESCRIPTION:Join with Google Meet: https://meet.google.com/uvk-tprk-yhz\nOr dial: (US) +1 843-631-7297 PIN: 545781116#\nMore phone numbers: https://tel.meet/uvk-tprk-yhz?pin=2517996509590&hs=7\nLearn more about Meet at: https://support.google.com/a/users/answer/9282720
URL:https://wg.sunlightchurch.com/calendar/just-show-up-book-club-49/
LOCATION:FL
END:VEVENT
BEGIN:VEVENT
DTSTART;TZID=America/New_York:20240724T120000
DTEND;TZID=America/New_York:20240724T130000
DTSTAMP:20260425T074759
CREATED:20240618T222536Z
LAST-MODIFIED:20240625T035928Z
UID:10002457-1721822400-1721826000@wg.sunlightchurch.com
SUMMARY:Just Show Up Book Club
DESCRIPTION:
URL:https://wg.sunlightchurch.com/calendar/just-show-up-book-club-6/
LOCATION:FL
END:VEVENT
BEGIN:VEVENT
DTSTART;TZID=America/New_York:20240723T120000
DTEND;TZID=America/New_York:20240723T130000
DTSTAMP:20260425T074759
CREATED:20240626T045141Z
LAST-MODIFIED:20240722T192108Z
UID:10002541-1721736000-1721739600@wg.sunlightchurch.com
SUMMARY:PROS (Public Reading of Scripture)
DESCRIPTION:Join with Google Meet: https://meet.google.com/cpq-gtxv-pcu\nOr dial: (US) +1 904-406-8468 PIN: 842196153#\nMore phone numbers: https://tel.meet/cpq-gtxv-pcu?pin=3768679431320&hs=7\nLearn more about Meet at: https://support.google.com/a/users/answer/9282720
URL:https://wg.sunlightchurch.com/calendar/pros-public-reading-of-scripture-47/
LOCATION:FL
END:VEVENT
BEGIN:VEVENT
DTSTART;TZID=America/New_York:20240723T120000
DTEND;TZID=America/New_York:20240723T130000
DTSTAMP:20260425T074759
CREATED:20240618T222536Z
LAST-MODIFIED:20240625T035928Z
UID:10002456-1721736000-1721739600@wg.sunlightchurch.com
SUMMARY:PROS (Public Reading of Scripture)
DESCRIPTION:
URL:https://wg.sunlightchurch.com/calendar/pros-public-reading-of-scripture-5/
LOCATION:FL
END:VEVENT
BEGIN:VEVENT
DTSTART;TZID=America/New_York:20240721T190000
DTEND;TZID=America/New_York:20240721T200000
DTSTAMP:20260425T074759
CREATED:20240611T032955Z
LAST-MODIFIED:20240721T181534Z
UID:10002226-1721588400-1721592000@wg.sunlightchurch.com
SUMMARY:Worship service-Brasil
DESCRIPTION:
URL:https://wg.sunlightchurch.com/calendar/worship-service-brasil-13/
LOCATION:607 Avalon Rd\, Winter Garden\, FL\, United States
GEO:28.484973;-81.619298
END:VEVENT
END:VCALENDAR