BEGIN:VCALENDAR
VERSION:2.0
PRODID:-//Sunlight Community Church at Winter Garden - ECPv6.15.20//NONSGML v1.0//EN
CALSCALE:GREGORIAN
METHOD:PUBLISH
X-WR-CALNAME:Sunlight Community Church at Winter Garden
X-ORIGINAL-URL:https://wg.sunlightchurch.com
X-WR-CALDESC:Events for Sunlight Community Church at Winter Garden
REFRESH-INTERVAL;VALUE=DURATION:PT1H
X-Robots-Tag:noindex
X-PUBLISHED-TTL:PT1H
BEGIN:VTIMEZONE
TZID:America/New_York
BEGIN:DAYLIGHT
TZOFFSETFROM:-0500
TZOFFSETTO:-0400
TZNAME:EDT
DTSTART:20240310T070000
END:DAYLIGHT
BEGIN:STANDARD
TZOFFSETFROM:-0400
TZOFFSETTO:-0500
TZNAME:EST
DTSTART:20241103T060000
END:STANDARD
BEGIN:DAYLIGHT
TZOFFSETFROM:-0500
TZOFFSETTO:-0400
TZNAME:EDT
DTSTART:20250309T070000
END:DAYLIGHT
BEGIN:STANDARD
TZOFFSETFROM:-0400
TZOFFSETTO:-0500
TZNAME:EST
DTSTART:20251102T060000
END:STANDARD
BEGIN:DAYLIGHT
TZOFFSETFROM:-0500
TZOFFSETTO:-0400
TZNAME:EDT
DTSTART:20260308T070000
END:DAYLIGHT
BEGIN:STANDARD
TZOFFSETFROM:-0400
TZOFFSETTO:-0500
TZNAME:EST
DTSTART:20261101T060000
END:STANDARD
END:VTIMEZONE
BEGIN:VEVENT
DTSTART;TZID=America/New_York:20250209T101500
DTEND;TZID=America/New_York:20250209T111500
DTSTAMP:20260423T051931
CREATED:20240315T121616Z
LAST-MODIFIED:20240525T202034Z
UID:10002055-1739096100-1739099700@wg.sunlightchurch.com
SUMMARY:Adult Sunday School
DESCRIPTION:
URL:https://wg.sunlightchurch.com/calendar/adult-sunday-school-48/
END:VEVENT
BEGIN:VEVENT
DTSTART;TZID=America/New_York:20250209T093000
DTEND;TZID=America/New_York:20250209T104500
DTSTAMP:20260423T051931
CREATED:20240731T222629Z
LAST-MODIFIED:20240829T005610Z
UID:10002650-1739093400-1739097900@wg.sunlightchurch.com
SUMMARY:Sunlight English Service
DESCRIPTION:
URL:https://wg.sunlightchurch.com/calendar/sunlight-english-service-16/
END:VEVENT
BEGIN:VEVENT
DTSTART;TZID=America/New_York:20250206T190000
DTEND;TZID=America/New_York:20250206T200000
DTSTAMP:20260423T051931
CREATED:20240315T121616Z
LAST-MODIFIED:20240829T005609Z
UID:10002054-1738868400-1738872000@wg.sunlightchurch.com
SUMMARY:Adult Bible Study
DESCRIPTION:
URL:https://wg.sunlightchurch.com/calendar/adult-bible-study-47/
END:VEVENT
BEGIN:VEVENT
DTSTART;TZID=America/New_York:20250205T120000
DTEND;TZID=America/New_York:20250205T130000
DTSTAMP:20260423T051931
CREATED:20240626T045232Z
LAST-MODIFIED:20240821T000234Z
UID:10002598-1738756800-1738760400@wg.sunlightchurch.com
SUMMARY:Just Show Up Book Club
DESCRIPTION:Join with Google Meet: https://meet.google.com/uvk-tprk-yhz\nOr dial: (US) +1 843-631-7297 PIN: 545781116#\nMore phone numbers: https://tel.meet/uvk-tprk-yhz?pin=2517996509590&hs=7\nLearn more about Meet at: https://support.google.com/a/users/answer/9282720
URL:https://wg.sunlightchurch.com/calendar/just-show-up-book-club-77/
END:VEVENT
BEGIN:VEVENT
DTSTART;TZID=America/New_York:20250205T120000
DTEND;TZID=America/New_York:20250205T130000
DTSTAMP:20260423T051931
CREATED:20240618T222601Z
LAST-MODIFIED:20240625T035922Z
UID:10002513-1738756800-1738760400@wg.sunlightchurch.com
SUMMARY:Just Show Up Book Club
DESCRIPTION:
URL:https://wg.sunlightchurch.com/calendar/just-show-up-book-club-34/
END:VEVENT
BEGIN:VEVENT
DTSTART;TZID=America/New_York:20250204T120000
DTEND;TZID=America/New_York:20250204T130000
DTSTAMP:20260423T051931
CREATED:20240626T045231Z
LAST-MODIFIED:20240829T005609Z
UID:10002597-1738670400-1738674000@wg.sunlightchurch.com
SUMMARY:PROS (Public Reading of Scripture)
DESCRIPTION:Join with Google Meet: https://meet.google.com/cpq-gtxv-pcu\nOr dial: (US) +1 904-406-8468 PIN: 842196153#\nMore phone numbers: https://tel.meet/cpq-gtxv-pcu?pin=3768679431320&hs=7\nLearn more about Meet at: https://support.google.com/a/users/answer/9282720
URL:https://wg.sunlightchurch.com/calendar/pros-public-reading-of-scripture-75/
END:VEVENT
BEGIN:VEVENT
DTSTART;TZID=America/New_York:20250204T120000
DTEND;TZID=America/New_York:20250204T130000
DTSTAMP:20260423T051931
CREATED:20240618T222600Z
LAST-MODIFIED:20240625T035922Z
UID:10002512-1738670400-1738674000@wg.sunlightchurch.com
SUMMARY:PROS (Public Reading of Scripture)
DESCRIPTION:
URL:https://wg.sunlightchurch.com/calendar/pros-public-reading-of-scripture-33/
END:VEVENT
BEGIN:VEVENT
DTSTART;TZID=America/New_York:20250202T190000
DTEND;TZID=America/New_York:20250202T200000
DTSTAMP:20260423T051931
CREATED:20240611T033018Z
LAST-MODIFIED:20240829T005609Z
UID:10002337-1738522800-1738526400@wg.sunlightchurch.com
SUMMARY:Worship service-Brasil
DESCRIPTION:
URL:https://wg.sunlightchurch.com/calendar/worship-service-brasil-69/
LOCATION:607 Avalon Rd\, Winter Garden\, FL\, United States
GEO:28.484973;-81.619298
END:VEVENT
BEGIN:VEVENT
DTSTART;TZID=America/New_York:20250202T183000
DTEND;TZID=America/New_York:20250202T190000
DTSTAMP:20260423T051931
CREATED:20240611T033018Z
LAST-MODIFIED:20240829T005608Z
UID:10002338-1738521000-1738522800@wg.sunlightchurch.com
SUMMARY:Brasil evening café
DESCRIPTION:
URL:https://wg.sunlightchurch.com/calendar/brasil-evening-cafe-34/
END:VEVENT
BEGIN:VEVENT
DTSTART;TZID=America/New_York:20250202T111500
DTEND;TZID=America/New_York:20250202T123000
DTSTAMP:20260423T051931
CREATED:20240313T200956Z
LAST-MODIFIED:20240610T022530Z
UID:10001903-1738494900-1738499400@wg.sunlightchurch.com
SUMMARY:Worship Service
DESCRIPTION:
URL:https://wg.sunlightchurch.com/calendar/worship-service-47/
LOCATION:607 Avalon Rd\, Winter Garden\, FL 34787\, USA
END:VEVENT
BEGIN:VEVENT
DTSTART;TZID=America/New_York:20250202T111500
DTEND;TZID=America/New_York:20250202T121500
DTSTAMP:20260423T051931
CREATED:20240611T033017Z
LAST-MODIFIED:20240829T005608Z
UID:10002335-1738494900-1738498500@wg.sunlightchurch.com
SUMMARY:Worship Service-Brasil
DESCRIPTION:
URL:https://wg.sunlightchurch.com/calendar/worship-service-brasil-68/
LOCATION:607 Avalon Rd\, Winter Garden\, FL\, United States
GEO:28.484973;-81.619298
END:VEVENT
BEGIN:VEVENT
DTSTART;TZID=America/New_York:20250202T104500
DTEND;TZID=America/New_York:20250202T111500
DTSTAMP:20260423T051931
CREATED:20240611T033018Z
LAST-MODIFIED:20240829T005608Z
UID:10002336-1738493100-1738494900@wg.sunlightchurch.com
SUMMARY:Brasil breakfast café
DESCRIPTION:
URL:https://wg.sunlightchurch.com/calendar/brasil-breakfast-cafe-35/
END:VEVENT
BEGIN:VEVENT
DTSTART;TZID=America/New_York:20250202T101500
DTEND;TZID=America/New_York:20250202T111500
DTSTAMP:20260423T051931
CREATED:20240315T121616Z
LAST-MODIFIED:20240525T202034Z
UID:10002053-1738491300-1738494900@wg.sunlightchurch.com
SUMMARY:Adult Sunday School
DESCRIPTION:
URL:https://wg.sunlightchurch.com/calendar/adult-sunday-school-47/
END:VEVENT
BEGIN:VEVENT
DTSTART;TZID=America/New_York:20250202T093000
DTEND;TZID=America/New_York:20250202T104500
DTSTAMP:20260423T051931
CREATED:20240731T222627Z
LAST-MODIFIED:20240829T005607Z
UID:10002649-1738488600-1738493100@wg.sunlightchurch.com
SUMMARY:Sunlight English Service
DESCRIPTION:
URL:https://wg.sunlightchurch.com/calendar/sunlight-english-service-15/
END:VEVENT
BEGIN:VEVENT
DTSTART;TZID=America/New_York:20250130T190000
DTEND;TZID=America/New_York:20250130T200000
DTSTAMP:20260423T051931
CREATED:20240315T121616Z
LAST-MODIFIED:20240829T005607Z
UID:10002052-1738263600-1738267200@wg.sunlightchurch.com
SUMMARY:Adult Bible Study
DESCRIPTION:
URL:https://wg.sunlightchurch.com/calendar/adult-bible-study-46/
END:VEVENT
BEGIN:VEVENT
DTSTART;TZID=America/New_York:20250129T120000
DTEND;TZID=America/New_York:20250129T130000
DTSTAMP:20260423T051931
CREATED:20240626T045230Z
LAST-MODIFIED:20240821T000232Z
UID:10002596-1738152000-1738155600@wg.sunlightchurch.com
SUMMARY:Just Show Up Book Club
DESCRIPTION:Join with Google Meet: https://meet.google.com/uvk-tprk-yhz\nOr dial: (US) +1 843-631-7297 PIN: 545781116#\nMore phone numbers: https://tel.meet/uvk-tprk-yhz?pin=2517996509590&hs=7\nLearn more about Meet at: https://support.google.com/a/users/answer/9282720
URL:https://wg.sunlightchurch.com/calendar/just-show-up-book-club-76/
END:VEVENT
BEGIN:VEVENT
DTSTART;TZID=America/New_York:20250129T120000
DTEND;TZID=America/New_York:20250129T130000
DTSTAMP:20260423T051931
CREATED:20240618T222600Z
LAST-MODIFIED:20240625T035922Z
UID:10002511-1738152000-1738155600@wg.sunlightchurch.com
SUMMARY:Just Show Up Book Club
DESCRIPTION:
URL:https://wg.sunlightchurch.com/calendar/just-show-up-book-club-33/
END:VEVENT
BEGIN:VEVENT
DTSTART;TZID=America/New_York:20250128T120000
DTEND;TZID=America/New_York:20250128T130000
DTSTAMP:20260423T051931
CREATED:20240626T045230Z
LAST-MODIFIED:20240829T005607Z
UID:10002595-1738065600-1738069200@wg.sunlightchurch.com
SUMMARY:PROS (Public Reading of Scripture)
DESCRIPTION:Join with Google Meet: https://meet.google.com/cpq-gtxv-pcu\nOr dial: (US) +1 904-406-8468 PIN: 842196153#\nMore phone numbers: https://tel.meet/cpq-gtxv-pcu?pin=3768679431320&hs=7\nLearn more about Meet at: https://support.google.com/a/users/answer/9282720
URL:https://wg.sunlightchurch.com/calendar/pros-public-reading-of-scripture-74/
END:VEVENT
BEGIN:VEVENT
DTSTART;TZID=America/New_York:20250128T120000
DTEND;TZID=America/New_York:20250128T130000
DTSTAMP:20260423T051931
CREATED:20240618T222600Z
LAST-MODIFIED:20240625T035922Z
UID:10002510-1738065600-1738069200@wg.sunlightchurch.com
SUMMARY:PROS (Public Reading of Scripture)
DESCRIPTION:
URL:https://wg.sunlightchurch.com/calendar/pros-public-reading-of-scripture-32/
END:VEVENT
BEGIN:VEVENT
DTSTART;TZID=America/New_York:20250126T190000
DTEND;TZID=America/New_York:20250126T200000
DTSTAMP:20260423T051931
CREATED:20240611T033017Z
LAST-MODIFIED:20240829T005606Z
UID:10002333-1737918000-1737921600@wg.sunlightchurch.com
SUMMARY:Worship service-Brasil
DESCRIPTION:
URL:https://wg.sunlightchurch.com/calendar/worship-service-brasil-67/
LOCATION:607 Avalon Rd\, Winter Garden\, FL\, United States
GEO:28.484973;-81.619298
END:VEVENT
BEGIN:VEVENT
DTSTART;TZID=America/New_York:20250126T183000
DTEND;TZID=America/New_York:20250126T190000
DTSTAMP:20260423T051931
CREATED:20240611T033017Z
LAST-MODIFIED:20240829T005607Z
UID:10002334-1737916200-1737918000@wg.sunlightchurch.com
SUMMARY:Brasil evening café
DESCRIPTION:
URL:https://wg.sunlightchurch.com/calendar/brasil-evening-cafe-33/
END:VEVENT
BEGIN:VEVENT
DTSTART;TZID=America/New_York:20250126T111500
DTEND;TZID=America/New_York:20250126T123000
DTSTAMP:20260423T051931
CREATED:20240313T200955Z
LAST-MODIFIED:20240610T022530Z
UID:10001902-1737890100-1737894600@wg.sunlightchurch.com
SUMMARY:Worship Service
DESCRIPTION:
URL:https://wg.sunlightchurch.com/calendar/worship-service-46/
LOCATION:607 Avalon Rd\, Winter Garden\, FL 34787\, USA
END:VEVENT
BEGIN:VEVENT
DTSTART;TZID=America/New_York:20250126T111500
DTEND;TZID=America/New_York:20250126T121500
DTSTAMP:20260423T051931
CREATED:20240611T033017Z
LAST-MODIFIED:20240829T005605Z
UID:10002332-1737890100-1737893700@wg.sunlightchurch.com
SUMMARY:Worship Service-Brasil
DESCRIPTION:
URL:https://wg.sunlightchurch.com/calendar/worship-service-brasil-66/
LOCATION:607 Avalon Rd\, Winter Garden\, FL\, United States
GEO:28.484973;-81.619298
END:VEVENT
BEGIN:VEVENT
DTSTART;TZID=America/New_York:20250126T104500
DTEND;TZID=America/New_York:20250126T111500
DTSTAMP:20260423T051931
CREATED:20240611T033017Z
LAST-MODIFIED:20240829T005605Z
UID:10002331-1737888300-1737890100@wg.sunlightchurch.com
SUMMARY:Brasil breakfast café
DESCRIPTION:
URL:https://wg.sunlightchurch.com/calendar/brasil-breakfast-cafe-34/
END:VEVENT
BEGIN:VEVENT
DTSTART;TZID=America/New_York:20250126T101500
DTEND;TZID=America/New_York:20250126T111500
DTSTAMP:20260423T051931
CREATED:20240315T121616Z
LAST-MODIFIED:20240525T202034Z
UID:10002051-1737886500-1737890100@wg.sunlightchurch.com
SUMMARY:Adult Sunday School
DESCRIPTION:
URL:https://wg.sunlightchurch.com/calendar/adult-sunday-school-46/
END:VEVENT
BEGIN:VEVENT
DTSTART;TZID=America/New_York:20250126T093000
DTEND;TZID=America/New_York:20250126T104500
DTSTAMP:20260423T051931
CREATED:20240731T222625Z
LAST-MODIFIED:20240829T005604Z
UID:10002648-1737883800-1737888300@wg.sunlightchurch.com
SUMMARY:Sunlight English Service
DESCRIPTION:
URL:https://wg.sunlightchurch.com/calendar/sunlight-english-service-14/
END:VEVENT
BEGIN:VEVENT
DTSTART;TZID=America/New_York:20250123T190000
DTEND;TZID=America/New_York:20250123T200000
DTSTAMP:20260423T051931
CREATED:20240315T121615Z
LAST-MODIFIED:20240829T005604Z
UID:10002050-1737658800-1737662400@wg.sunlightchurch.com
SUMMARY:Adult Bible Study
DESCRIPTION:
URL:https://wg.sunlightchurch.com/calendar/adult-bible-study-45/
END:VEVENT
BEGIN:VEVENT
DTSTART;TZID=America/New_York:20250122T120000
DTEND;TZID=America/New_York:20250122T130000
DTSTAMP:20260423T051931
CREATED:20240626T045229Z
LAST-MODIFIED:20240821T000231Z
UID:10002594-1737547200-1737550800@wg.sunlightchurch.com
SUMMARY:Just Show Up Book Club
DESCRIPTION:Join with Google Meet: https://meet.google.com/uvk-tprk-yhz\nOr dial: (US) +1 843-631-7297 PIN: 545781116#\nMore phone numbers: https://tel.meet/uvk-tprk-yhz?pin=2517996509590&hs=7\nLearn more about Meet at: https://support.google.com/a/users/answer/9282720
URL:https://wg.sunlightchurch.com/calendar/just-show-up-book-club-75/
END:VEVENT
BEGIN:VEVENT
DTSTART;TZID=America/New_York:20250122T120000
DTEND;TZID=America/New_York:20250122T130000
DTSTAMP:20260423T051931
CREATED:20240618T222559Z
LAST-MODIFIED:20240625T035921Z
UID:10002509-1737547200-1737550800@wg.sunlightchurch.com
SUMMARY:Just Show Up Book Club
DESCRIPTION:
URL:https://wg.sunlightchurch.com/calendar/just-show-up-book-club-32/
END:VEVENT
BEGIN:VEVENT
DTSTART;TZID=America/New_York:20250121T120000
DTEND;TZID=America/New_York:20250121T130000
DTSTAMP:20260423T051931
CREATED:20240626T045229Z
LAST-MODIFIED:20240829T005603Z
UID:10002593-1737460800-1737464400@wg.sunlightchurch.com
SUMMARY:PROS (Public Reading of Scripture)
DESCRIPTION:Join with Google Meet: https://meet.google.com/cpq-gtxv-pcu\nOr dial: (US) +1 904-406-8468 PIN: 842196153#\nMore phone numbers: https://tel.meet/cpq-gtxv-pcu?pin=3768679431320&hs=7\nLearn more about Meet at: https://support.google.com/a/users/answer/9282720
URL:https://wg.sunlightchurch.com/calendar/pros-public-reading-of-scripture-73/
END:VEVENT
END:VCALENDAR