BEGIN:VCALENDAR
VERSION:2.0
PRODID:-//Sunlight Community Church at Winter Garden - ECPv6.15.20//NONSGML v1.0//EN
CALSCALE:GREGORIAN
METHOD:PUBLISH
X-WR-CALNAME:Sunlight Community Church at Winter Garden
X-ORIGINAL-URL:https://wg.sunlightchurch.com
X-WR-CALDESC:Events for Sunlight Community Church at Winter Garden
REFRESH-INTERVAL;VALUE=DURATION:PT1H
X-Robots-Tag:noindex
X-PUBLISHED-TTL:PT1H
BEGIN:VTIMEZONE
TZID:America/New_York
BEGIN:DAYLIGHT
TZOFFSETFROM:-0500
TZOFFSETTO:-0400
TZNAME:EDT
DTSTART:20230312T070000
END:DAYLIGHT
BEGIN:STANDARD
TZOFFSETFROM:-0400
TZOFFSETTO:-0500
TZNAME:EST
DTSTART:20231105T060000
END:STANDARD
BEGIN:DAYLIGHT
TZOFFSETFROM:-0500
TZOFFSETTO:-0400
TZNAME:EDT
DTSTART:20240310T070000
END:DAYLIGHT
BEGIN:STANDARD
TZOFFSETFROM:-0400
TZOFFSETTO:-0500
TZNAME:EST
DTSTART:20241103T060000
END:STANDARD
BEGIN:DAYLIGHT
TZOFFSETFROM:-0500
TZOFFSETTO:-0400
TZNAME:EDT
DTSTART:20250309T070000
END:DAYLIGHT
BEGIN:STANDARD
TZOFFSETFROM:-0400
TZOFFSETTO:-0500
TZNAME:EST
DTSTART:20251102T060000
END:STANDARD
END:VTIMEZONE
BEGIN:VEVENT
DTSTART;TZID=America/New_York:20240912T190000
DTEND;TZID=America/New_York:20240912T200000
DTSTAMP:20260424T232742
CREATED:20240315T121607Z
LAST-MODIFIED:20240829T005536Z
UID:10002012-1726167600-1726171200@wg.sunlightchurch.com
SUMMARY:Adult Bible Study
DESCRIPTION:
URL:https://wg.sunlightchurch.com/calendar/adult-bible-study-26/
END:VEVENT
BEGIN:VEVENT
DTSTART;TZID=America/New_York:20240911T120000
DTEND;TZID=America/New_York:20240911T130000
DTSTAMP:20260424T232742
CREATED:20240626T045159Z
LAST-MODIFIED:20240821T000226Z
UID:10002556-1726056000-1726059600@wg.sunlightchurch.com
SUMMARY:Just Show Up Book Club
DESCRIPTION:Join with Google Meet: https://meet.google.com/uvk-tprk-yhz\nOr dial: (US) +1 843-631-7297 PIN: 545781116#\nMore phone numbers: https://tel.meet/uvk-tprk-yhz?pin=2517996509590&hs=7\nLearn more about Meet at: https://support.google.com/a/users/answer/9282720
URL:https://wg.sunlightchurch.com/calendar/just-show-up-book-club-56/
END:VEVENT
BEGIN:VEVENT
DTSTART;TZID=America/New_York:20240911T120000
DTEND;TZID=America/New_York:20240911T130000
DTSTAMP:20260424T232742
CREATED:20240618T222540Z
LAST-MODIFIED:20240625T035910Z
UID:10002471-1726056000-1726059600@wg.sunlightchurch.com
SUMMARY:Just Show Up Book Club
DESCRIPTION:
URL:https://wg.sunlightchurch.com/calendar/just-show-up-book-club-13/
END:VEVENT
BEGIN:VEVENT
DTSTART;TZID=America/New_York:20240910T120000
DTEND;TZID=America/New_York:20240910T130000
DTSTAMP:20260424T232742
CREATED:20240626T045158Z
LAST-MODIFIED:20240829T005536Z
UID:10002555-1725969600-1725973200@wg.sunlightchurch.com
SUMMARY:PROS (Public Reading of Scripture)
DESCRIPTION:Join with Google Meet: https://meet.google.com/cpq-gtxv-pcu\nOr dial: (US) +1 904-406-8468 PIN: 842196153#\nMore phone numbers: https://tel.meet/cpq-gtxv-pcu?pin=3768679431320&hs=7\nLearn more about Meet at: https://support.google.com/a/users/answer/9282720
URL:https://wg.sunlightchurch.com/calendar/pros-public-reading-of-scripture-54/
END:VEVENT
BEGIN:VEVENT
DTSTART;TZID=America/New_York:20240910T120000
DTEND;TZID=America/New_York:20240910T130000
DTSTAMP:20260424T232742
CREATED:20240618T222540Z
LAST-MODIFIED:20240625T035910Z
UID:10002470-1725969600-1725973200@wg.sunlightchurch.com
SUMMARY:PROS (Public Reading of Scripture)
DESCRIPTION:
URL:https://wg.sunlightchurch.com/calendar/pros-public-reading-of-scripture-12/
END:VEVENT
BEGIN:VEVENT
DTSTART;TZID=America/New_York:20240908T190000
DTEND;TZID=America/New_York:20240908T200000
DTSTAMP:20260424T232742
CREATED:20240611T033000Z
LAST-MODIFIED:20240829T005535Z
UID:10002253-1725822000-1725825600@wg.sunlightchurch.com
SUMMARY:Worship service-Brasil
DESCRIPTION:
URL:https://wg.sunlightchurch.com/calendar/worship-service-brasil-27/
LOCATION:607 Avalon Rd\, Winter Garden\, FL\, United States
GEO:28.484973;-81.619298
END:VEVENT
BEGIN:VEVENT
DTSTART;TZID=America/New_York:20240908T183000
DTEND;TZID=America/New_York:20240908T190000
DTSTAMP:20260424T232742
CREATED:20240611T033000Z
LAST-MODIFIED:20240829T005535Z
UID:10002254-1725820200-1725822000@wg.sunlightchurch.com
SUMMARY:Brasil evening café
DESCRIPTION:
URL:https://wg.sunlightchurch.com/calendar/brasil-evening-cafe-13/
END:VEVENT
BEGIN:VEVENT
DTSTART;TZID=America/New_York:20240908T111500
DTEND;TZID=America/New_York:20240908T123000
DTSTAMP:20260424T232742
CREATED:20240313T200952Z
LAST-MODIFIED:20240610T022530Z
UID:10001882-1725794100-1725798600@wg.sunlightchurch.com
SUMMARY:Worship Service
DESCRIPTION:
URL:https://wg.sunlightchurch.com/calendar/worship-service-26/
LOCATION:607 Avalon Rd\, Winter Garden\, FL 34787\, USA
END:VEVENT
BEGIN:VEVENT
DTSTART;TZID=America/New_York:20240908T111500
DTEND;TZID=America/New_York:20240908T121500
DTSTAMP:20260424T232742
CREATED:20240611T033000Z
LAST-MODIFIED:20240829T005522Z
UID:10002251-1725794100-1725797700@wg.sunlightchurch.com
SUMMARY:Worship Service-Brasil
DESCRIPTION:
URL:https://wg.sunlightchurch.com/calendar/worship-service-brasil-26/
LOCATION:607 Avalon Rd\, Winter Garden\, FL\, United States
GEO:28.484973;-81.619298
END:VEVENT
BEGIN:VEVENT
DTSTART;TZID=America/New_York:20240908T104500
DTEND;TZID=America/New_York:20240908T111500
DTSTAMP:20260424T232742
CREATED:20240611T033000Z
LAST-MODIFIED:20240829T005535Z
UID:10002252-1725792300-1725794100@wg.sunlightchurch.com
SUMMARY:Brasil breakfast café
DESCRIPTION:
URL:https://wg.sunlightchurch.com/calendar/brasil-breakfast-cafe-14/
END:VEVENT
BEGIN:VEVENT
DTSTART;TZID=America/New_York:20240908T101500
DTEND;TZID=America/New_York:20240908T111500
DTSTAMP:20260424T232742
CREATED:20240315T121607Z
LAST-MODIFIED:20240525T202028Z
UID:10002011-1725790500-1725794100@wg.sunlightchurch.com
SUMMARY:Adult Sunday School
DESCRIPTION:
URL:https://wg.sunlightchurch.com/calendar/adult-sunday-school-26/
END:VEVENT
BEGIN:VEVENT
DTSTART;TZID=America/New_York:20240905T190000
DTEND;TZID=America/New_York:20240905T200000
DTSTAMP:20260424T232742
CREATED:20240315T121607Z
LAST-MODIFIED:20240829T005521Z
UID:10002010-1725562800-1725566400@wg.sunlightchurch.com
SUMMARY:Adult Bible Study
DESCRIPTION:
URL:https://wg.sunlightchurch.com/calendar/adult-bible-study-25/
END:VEVENT
BEGIN:VEVENT
DTSTART;TZID=America/New_York:20240904T120000
DTEND;TZID=America/New_York:20240904T130000
DTSTAMP:20260424T232742
CREATED:20240626T045156Z
LAST-MODIFIED:20240821T000209Z
UID:10002554-1725451200-1725454800@wg.sunlightchurch.com
SUMMARY:Just Show Up Book Club
DESCRIPTION:Join with Google Meet: https://meet.google.com/uvk-tprk-yhz\nOr dial: (US) +1 843-631-7297 PIN: 545781116#\nMore phone numbers: https://tel.meet/uvk-tprk-yhz?pin=2517996509590&hs=7\nLearn more about Meet at: https://support.google.com/a/users/answer/9282720
URL:https://wg.sunlightchurch.com/calendar/just-show-up-book-club-55/
END:VEVENT
BEGIN:VEVENT
DTSTART;TZID=America/New_York:20240904T120000
DTEND;TZID=America/New_York:20240904T130000
DTSTAMP:20260424T232742
CREATED:20240618T222540Z
LAST-MODIFIED:20240625T035910Z
UID:10002469-1725451200-1725454800@wg.sunlightchurch.com
SUMMARY:Just Show Up Book Club
DESCRIPTION:
URL:https://wg.sunlightchurch.com/calendar/just-show-up-book-club-12/
END:VEVENT
BEGIN:VEVENT
DTSTART;TZID=America/New_York:20240903T120000
DTEND;TZID=America/New_York:20240903T130000
DTSTAMP:20260424T232742
CREATED:20240626T045155Z
LAST-MODIFIED:20240829T005521Z
UID:10002553-1725364800-1725368400@wg.sunlightchurch.com
SUMMARY:PROS (Public Reading of Scripture)
DESCRIPTION:Join with Google Meet: https://meet.google.com/cpq-gtxv-pcu\nOr dial: (US) +1 904-406-8468 PIN: 842196153#\nMore phone numbers: https://tel.meet/cpq-gtxv-pcu?pin=3768679431320&hs=7\nLearn more about Meet at: https://support.google.com/a/users/answer/9282720
URL:https://wg.sunlightchurch.com/calendar/pros-public-reading-of-scripture-53/
END:VEVENT
BEGIN:VEVENT
DTSTART;TZID=America/New_York:20240903T120000
DTEND;TZID=America/New_York:20240903T130000
DTSTAMP:20260424T232742
CREATED:20240618T222539Z
LAST-MODIFIED:20240625T035909Z
UID:10002468-1725364800-1725368400@wg.sunlightchurch.com
SUMMARY:PROS (Public Reading of Scripture)
DESCRIPTION:
URL:https://wg.sunlightchurch.com/calendar/pros-public-reading-of-scripture-11/
END:VEVENT
BEGIN:VEVENT
DTSTART;TZID=America/New_York:20240901T190000
DTEND;TZID=America/New_York:20240901T200000
DTSTAMP:20260424T232742
CREATED:20240611T032959Z
LAST-MODIFIED:20240829T005521Z
UID:10002250-1725217200-1725220800@wg.sunlightchurch.com
SUMMARY:Worship service-Brasil
DESCRIPTION:
URL:https://wg.sunlightchurch.com/calendar/worship-service-brasil-25/
LOCATION:607 Avalon Rd\, Winter Garden\, FL\, United States
GEO:28.484973;-81.619298
END:VEVENT
BEGIN:VEVENT
DTSTART;TZID=America/New_York:20240901T183000
DTEND;TZID=America/New_York:20240901T190000
DTSTAMP:20260424T232742
CREATED:20240611T032959Z
LAST-MODIFIED:20240829T005521Z
UID:10002249-1725215400-1725217200@wg.sunlightchurch.com
SUMMARY:Brasil evening café
DESCRIPTION:
URL:https://wg.sunlightchurch.com/calendar/brasil-evening-cafe-12/
END:VEVENT
BEGIN:VEVENT
DTSTART;TZID=America/New_York:20240901T111500
DTEND;TZID=America/New_York:20240901T130000
DTSTAMP:20260424T232742
CREATED:20240808T230914Z
LAST-MODIFIED:20240829T005521Z
UID:10002664-1725189300-1725195600@wg.sunlightchurch.com
SUMMARY:SCA Teacher Commission
DESCRIPTION:
URL:https://wg.sunlightchurch.com/calendar/sca-teacher-commission/
END:VEVENT
BEGIN:VEVENT
DTSTART;TZID=America/New_York:20240901T111500
DTEND;TZID=America/New_York:20240901T123000
DTSTAMP:20260424T232742
CREATED:20240313T200951Z
LAST-MODIFIED:20240610T022529Z
UID:10001881-1725189300-1725193800@wg.sunlightchurch.com
SUMMARY:Worship Service
DESCRIPTION:
URL:https://wg.sunlightchurch.com/calendar/worship-service-25/
LOCATION:607 Avalon Rd\, Winter Garden\, FL 34787\, USA
END:VEVENT
BEGIN:VEVENT
DTSTART;TZID=America/New_York:20240901T111500
DTEND;TZID=America/New_York:20240901T121500
DTSTAMP:20260424T232742
CREATED:20240611T032959Z
LAST-MODIFIED:20240829T005520Z
UID:10002248-1725189300-1725192900@wg.sunlightchurch.com
SUMMARY:Worship Service-Brasil
DESCRIPTION:
URL:https://wg.sunlightchurch.com/calendar/worship-service-brasil-24/
LOCATION:607 Avalon Rd\, Winter Garden\, FL\, United States
GEO:28.484973;-81.619298
END:VEVENT
BEGIN:VEVENT
DTSTART;TZID=America/New_York:20240901T104500
DTEND;TZID=America/New_York:20240901T111500
DTSTAMP:20260424T232742
CREATED:20240611T032959Z
LAST-MODIFIED:20240829T005520Z
UID:10002247-1725187500-1725189300@wg.sunlightchurch.com
SUMMARY:Brasil breakfast café
DESCRIPTION:
URL:https://wg.sunlightchurch.com/calendar/brasil-breakfast-cafe-13/
END:VEVENT
BEGIN:VEVENT
DTSTART;TZID=America/New_York:20240901T101500
DTEND;TZID=America/New_York:20240901T111500
DTSTAMP:20260424T232742
CREATED:20240315T121607Z
LAST-MODIFIED:20240525T202028Z
UID:10002009-1725185700-1725189300@wg.sunlightchurch.com
SUMMARY:Adult Sunday School
DESCRIPTION:
URL:https://wg.sunlightchurch.com/calendar/adult-sunday-school-25/
END:VEVENT
BEGIN:VEVENT
DTSTART;TZID=America/New_York:20240830T190000
DTEND;TZID=America/New_York:20240830T220000
DTSTAMP:20260424T232742
CREATED:20240807T230034Z
LAST-MODIFIED:20240829T005520Z
UID:10002663-1725044400-1725055200@wg.sunlightchurch.com
SUMMARY:Special Friday presentation-Brasil
DESCRIPTION:
URL:https://wg.sunlightchurch.com/calendar/special-friday-prrsentation-brasil/
END:VEVENT
BEGIN:VEVENT
DTSTART;TZID=America/New_York:20240829T190000
DTEND;TZID=America/New_York:20240829T200000
DTSTAMP:20260424T232742
CREATED:20240315T121606Z
LAST-MODIFIED:20240829T005519Z
UID:10002008-1724958000-1724961600@wg.sunlightchurch.com
SUMMARY:Adult Bible Study
DESCRIPTION:
URL:https://wg.sunlightchurch.com/calendar/adult-bible-study-24/
END:VEVENT
BEGIN:VEVENT
DTSTART;TZID=America/New_York:20240828T120000
DTEND;TZID=America/New_York:20240828T130000
DTSTAMP:20260424T232742
CREATED:20240626T045152Z
LAST-MODIFIED:20240821T000155Z
UID:10002552-1724846400-1724850000@wg.sunlightchurch.com
SUMMARY:Just Show Up Book Club
DESCRIPTION:Join with Google Meet: https://meet.google.com/uvk-tprk-yhz\nOr dial: (US) +1 843-631-7297 PIN: 545781116#\nMore phone numbers: https://tel.meet/uvk-tprk-yhz?pin=2517996509590&hs=7\nLearn more about Meet at: https://support.google.com/a/users/answer/9282720
URL:https://wg.sunlightchurch.com/calendar/just-show-up-book-club-54/
END:VEVENT
BEGIN:VEVENT
DTSTART;TZID=America/New_York:20240828T120000
DTEND;TZID=America/New_York:20240828T130000
DTSTAMP:20260424T232742
CREATED:20240618T222539Z
LAST-MODIFIED:20240625T035909Z
UID:10002467-1724846400-1724850000@wg.sunlightchurch.com
SUMMARY:Just Show Up Book Club
DESCRIPTION:
URL:https://wg.sunlightchurch.com/calendar/just-show-up-book-club-11/
END:VEVENT
BEGIN:VEVENT
DTSTART;TZID=America/New_York:20240827T120000
DTEND;TZID=America/New_York:20240827T130000
DTSTAMP:20260424T232742
CREATED:20240626T045152Z
LAST-MODIFIED:20240827T003310Z
UID:10002551-1724760000-1724763600@wg.sunlightchurch.com
SUMMARY:PROS (Public Reading of Scripture)
DESCRIPTION:Join with Google Meet: https://meet.google.com/cpq-gtxv-pcu\nOr dial: (US) +1 904-406-8468 PIN: 842196153#\nMore phone numbers: https://tel.meet/cpq-gtxv-pcu?pin=3768679431320&hs=7\nLearn more about Meet at: https://support.google.com/a/users/answer/9282720
URL:https://wg.sunlightchurch.com/calendar/pros-public-reading-of-scripture-52/
END:VEVENT
BEGIN:VEVENT
DTSTART;TZID=America/New_York:20240827T120000
DTEND;TZID=America/New_York:20240827T130000
DTSTAMP:20260424T232742
CREATED:20240618T222539Z
LAST-MODIFIED:20240625T035909Z
UID:10002466-1724760000-1724763600@wg.sunlightchurch.com
SUMMARY:PROS (Public Reading of Scripture)
DESCRIPTION:
URL:https://wg.sunlightchurch.com/calendar/pros-public-reading-of-scripture-10/
END:VEVENT
BEGIN:VEVENT
DTSTART;TZID=America/New_York:20240825T190000
DTEND;TZID=America/New_York:20240825T200000
DTSTAMP:20260424T232742
CREATED:20240611T032959Z
LAST-MODIFIED:20240825T003223Z
UID:10002246-1724612400-1724616000@wg.sunlightchurch.com
SUMMARY:Worship service-Brasil
DESCRIPTION:
URL:https://wg.sunlightchurch.com/calendar/worship-service-brasil-23/
LOCATION:607 Avalon Rd\, Winter Garden\, FL\, United States
GEO:28.484973;-81.619298
END:VEVENT
END:VCALENDAR