BEGIN:VCALENDAR
VERSION:2.0
PRODID:-//Sunlight Community Church at Winter Garden - ECPv6.15.20//NONSGML v1.0//EN
CALSCALE:GREGORIAN
METHOD:PUBLISH
X-WR-CALNAME:Sunlight Community Church at Winter Garden
X-ORIGINAL-URL:https://wg.sunlightchurch.com
X-WR-CALDESC:Events for Sunlight Community Church at Winter Garden
REFRESH-INTERVAL;VALUE=DURATION:PT1H
X-Robots-Tag:noindex
X-PUBLISHED-TTL:PT1H
BEGIN:VTIMEZONE
TZID:America/New_York
BEGIN:DAYLIGHT
TZOFFSETFROM:-0500
TZOFFSETTO:-0400
TZNAME:EDT
DTSTART:20230312T070000
END:DAYLIGHT
BEGIN:STANDARD
TZOFFSETFROM:-0400
TZOFFSETTO:-0500
TZNAME:EST
DTSTART:20231105T060000
END:STANDARD
BEGIN:DAYLIGHT
TZOFFSETFROM:-0500
TZOFFSETTO:-0400
TZNAME:EDT
DTSTART:20240310T070000
END:DAYLIGHT
BEGIN:STANDARD
TZOFFSETFROM:-0400
TZOFFSETTO:-0500
TZNAME:EST
DTSTART:20241103T060000
END:STANDARD
BEGIN:DAYLIGHT
TZOFFSETFROM:-0500
TZOFFSETTO:-0400
TZNAME:EDT
DTSTART:20250309T070000
END:DAYLIGHT
BEGIN:STANDARD
TZOFFSETFROM:-0400
TZOFFSETTO:-0500
TZNAME:EST
DTSTART:20251102T060000
END:STANDARD
END:VTIMEZONE
BEGIN:VEVENT
DTSTART;TZID=America/New_York:20241117T093000
DTEND;TZID=America/New_York:20241117T104500
DTSTAMP:20260424T075043
CREATED:20240731T222609Z
LAST-MODIFIED:20240829T005543Z
UID:10002638-1731835800-1731840300@wg.sunlightchurch.com
SUMMARY:Sunlight English Service
DESCRIPTION:
URL:https://wg.sunlightchurch.com/calendar/sunlight-english-service-4/
END:VEVENT
BEGIN:VEVENT
DTSTART;TZID=America/New_York:20241116T193000
DTEND;TZID=America/New_York:20241116T220000
DTSTAMP:20260424T075043
CREATED:20240808T231114Z
LAST-MODIFIED:20240829T005542Z
UID:10002667-1731785400-1731794400@wg.sunlightchurch.com
SUMMARY:Couples Night-Brasil
DESCRIPTION:
URL:https://wg.sunlightchurch.com/calendar/couples-night-brasil-3/
END:VEVENT
BEGIN:VEVENT
DTSTART;TZID=America/New_York:20241114T190000
DTEND;TZID=America/New_York:20241114T200000
DTSTAMP:20260424T075043
CREATED:20240315T121611Z
LAST-MODIFIED:20240829T005542Z
UID:10002030-1731610800-1731614400@wg.sunlightchurch.com
SUMMARY:Adult Bible Study
DESCRIPTION:
URL:https://wg.sunlightchurch.com/calendar/adult-bible-study-35/
END:VEVENT
BEGIN:VEVENT
DTSTART;TZID=America/New_York:20241113T120000
DTEND;TZID=America/New_York:20241113T130000
DTSTAMP:20260424T075043
CREATED:20240626T045215Z
LAST-MODIFIED:20240821T000214Z
UID:10002574-1731499200-1731502800@wg.sunlightchurch.com
SUMMARY:Just Show Up Book Club
DESCRIPTION:Join with Google Meet: https://meet.google.com/uvk-tprk-yhz\nOr dial: (US) +1 843-631-7297 PIN: 545781116#\nMore phone numbers: https://tel.meet/uvk-tprk-yhz?pin=2517996509590&hs=7\nLearn more about Meet at: https://support.google.com/a/users/answer/9282720
URL:https://wg.sunlightchurch.com/calendar/just-show-up-book-club-65/
END:VEVENT
BEGIN:VEVENT
DTSTART;TZID=America/New_York:20241113T120000
DTEND;TZID=America/New_York:20241113T130000
DTSTAMP:20260424T075043
CREATED:20240618T222548Z
LAST-MODIFIED:20240625T035915Z
UID:10002489-1731499200-1731502800@wg.sunlightchurch.com
SUMMARY:Just Show Up Book Club
DESCRIPTION:
URL:https://wg.sunlightchurch.com/calendar/just-show-up-book-club-22/
END:VEVENT
BEGIN:VEVENT
DTSTART;TZID=America/New_York:20241112T120000
DTEND;TZID=America/New_York:20241112T130000
DTSTAMP:20260424T075043
CREATED:20240626T045214Z
LAST-MODIFIED:20240829T005542Z
UID:10002573-1731412800-1731416400@wg.sunlightchurch.com
SUMMARY:PROS (Public Reading of Scripture)
DESCRIPTION:Join with Google Meet: https://meet.google.com/cpq-gtxv-pcu\nOr dial: (US) +1 904-406-8468 PIN: 842196153#\nMore phone numbers: https://tel.meet/cpq-gtxv-pcu?pin=3768679431320&hs=7\nLearn more about Meet at: https://support.google.com/a/users/answer/9282720
URL:https://wg.sunlightchurch.com/calendar/pros-public-reading-of-scripture-63/
END:VEVENT
BEGIN:VEVENT
DTSTART;TZID=America/New_York:20241112T120000
DTEND;TZID=America/New_York:20241112T130000
DTSTAMP:20260424T075043
CREATED:20240618T222548Z
LAST-MODIFIED:20240625T035915Z
UID:10002488-1731412800-1731416400@wg.sunlightchurch.com
SUMMARY:PROS (Public Reading of Scripture)
DESCRIPTION:
URL:https://wg.sunlightchurch.com/calendar/pros-public-reading-of-scripture-21/
END:VEVENT
BEGIN:VEVENT
DTSTART;TZID=America/New_York:20241110T190000
DTEND;TZID=America/New_York:20241110T200000
DTSTAMP:20260424T075043
CREATED:20240611T033008Z
LAST-MODIFIED:20240829T005541Z
UID:10002290-1731265200-1731268800@wg.sunlightchurch.com
SUMMARY:Worship service-Brasil
DESCRIPTION:
URL:https://wg.sunlightchurch.com/calendar/worship-service-brasil-45/
LOCATION:607 Avalon Rd\, Winter Garden\, FL\, United States
GEO:28.484973;-81.619298
END:VEVENT
BEGIN:VEVENT
DTSTART;TZID=America/New_York:20241110T183000
DTEND;TZID=America/New_York:20241110T190000
DTSTAMP:20260424T075043
CREATED:20240611T033008Z
LAST-MODIFIED:20240829T005541Z
UID:10002289-1731263400-1731265200@wg.sunlightchurch.com
SUMMARY:Brasil evening café
DESCRIPTION:
URL:https://wg.sunlightchurch.com/calendar/brasil-evening-cafe-22/
END:VEVENT
BEGIN:VEVENT
DTSTART;TZID=America/New_York:20241110T111500
DTEND;TZID=America/New_York:20241110T123000
DTSTAMP:20260424T075043
CREATED:20240313T200953Z
LAST-MODIFIED:20240610T022524Z
UID:10001891-1731237300-1731241800@wg.sunlightchurch.com
SUMMARY:Worship Service
DESCRIPTION:
URL:https://wg.sunlightchurch.com/calendar/worship-service-35/
LOCATION:607 Avalon Rd\, Winter Garden\, FL 34787\, USA
END:VEVENT
BEGIN:VEVENT
DTSTART;TZID=America/New_York:20241110T111500
DTEND;TZID=America/New_York:20241110T121500
DTSTAMP:20260424T075043
CREATED:20240611T033008Z
LAST-MODIFIED:20240829T005541Z
UID:10002287-1731237300-1731240900@wg.sunlightchurch.com
SUMMARY:Worship Service-Brasil
DESCRIPTION:
URL:https://wg.sunlightchurch.com/calendar/worship-service-brasil-44/
LOCATION:607 Avalon Rd\, Winter Garden\, FL\, United States
GEO:28.484973;-81.619298
END:VEVENT
BEGIN:VEVENT
DTSTART;TZID=America/New_York:20241110T104500
DTEND;TZID=America/New_York:20241110T111500
DTSTAMP:20260424T075043
CREATED:20240611T033008Z
LAST-MODIFIED:20240829T005540Z
UID:10002288-1731235500-1731237300@wg.sunlightchurch.com
SUMMARY:Brasil breakfast café
DESCRIPTION:
URL:https://wg.sunlightchurch.com/calendar/brasil-breakfast-cafe-23/
END:VEVENT
BEGIN:VEVENT
DTSTART;TZID=America/New_York:20241110T101500
DTEND;TZID=America/New_York:20241110T111500
DTSTAMP:20260424T075043
CREATED:20240315T121611Z
LAST-MODIFIED:20240525T202031Z
UID:10002029-1731233700-1731237300@wg.sunlightchurch.com
SUMMARY:Adult Sunday School
DESCRIPTION:
URL:https://wg.sunlightchurch.com/calendar/adult-sunday-school-35/
END:VEVENT
BEGIN:VEVENT
DTSTART;TZID=America/New_York:20241110T093000
DTEND;TZID=America/New_York:20241110T104500
DTSTAMP:20260424T075043
CREATED:20240731T222608Z
LAST-MODIFIED:20240829T005540Z
UID:10002637-1731231000-1731235500@wg.sunlightchurch.com
SUMMARY:Sunlight English Service
DESCRIPTION:
URL:https://wg.sunlightchurch.com/calendar/sunlight-english-service-3/
END:VEVENT
BEGIN:VEVENT
DTSTART;TZID=America/New_York:20241107T190000
DTEND;TZID=America/New_York:20241107T200000
DTSTAMP:20260424T075043
CREATED:20240315T121610Z
LAST-MODIFIED:20240829T005540Z
UID:10002028-1731006000-1731009600@wg.sunlightchurch.com
SUMMARY:Adult Bible Study
DESCRIPTION:
URL:https://wg.sunlightchurch.com/calendar/adult-bible-study-34/
END:VEVENT
BEGIN:VEVENT
DTSTART;TZID=America/New_York:20241106T120000
DTEND;TZID=America/New_York:20241106T130000
DTSTAMP:20260424T075043
CREATED:20240626T045213Z
LAST-MODIFIED:20240821T000211Z
UID:10002572-1730894400-1730898000@wg.sunlightchurch.com
SUMMARY:Just Show Up Book Club
DESCRIPTION:Join with Google Meet: https://meet.google.com/uvk-tprk-yhz\nOr dial: (US) +1 843-631-7297 PIN: 545781116#\nMore phone numbers: https://tel.meet/uvk-tprk-yhz?pin=2517996509590&hs=7\nLearn more about Meet at: https://support.google.com/a/users/answer/9282720
URL:https://wg.sunlightchurch.com/calendar/just-show-up-book-club-64/
END:VEVENT
BEGIN:VEVENT
DTSTART;TZID=America/New_York:20241106T120000
DTEND;TZID=America/New_York:20241106T130000
DTSTAMP:20260424T075043
CREATED:20240618T222547Z
LAST-MODIFIED:20240625T035915Z
UID:10002487-1730894400-1730898000@wg.sunlightchurch.com
SUMMARY:Just Show Up Book Club
DESCRIPTION:
URL:https://wg.sunlightchurch.com/calendar/just-show-up-book-club-21/
END:VEVENT
BEGIN:VEVENT
DTSTART;TZID=America/New_York:20241105T120000
DTEND;TZID=America/New_York:20241105T130000
DTSTAMP:20260424T075043
CREATED:20240626T045213Z
LAST-MODIFIED:20240829T005539Z
UID:10002571-1730808000-1730811600@wg.sunlightchurch.com
SUMMARY:PROS (Public Reading of Scripture)
DESCRIPTION:Join with Google Meet: https://meet.google.com/cpq-gtxv-pcu\nOr dial: (US) +1 904-406-8468 PIN: 842196153#\nMore phone numbers: https://tel.meet/cpq-gtxv-pcu?pin=3768679431320&hs=7\nLearn more about Meet at: https://support.google.com/a/users/answer/9282720
URL:https://wg.sunlightchurch.com/calendar/pros-public-reading-of-scripture-62/
END:VEVENT
BEGIN:VEVENT
DTSTART;TZID=America/New_York:20241105T120000
DTEND;TZID=America/New_York:20241105T130000
DTSTAMP:20260424T075043
CREATED:20240618T222547Z
LAST-MODIFIED:20240625T035915Z
UID:10002486-1730808000-1730811600@wg.sunlightchurch.com
SUMMARY:PROS (Public Reading of Scripture)
DESCRIPTION:
URL:https://wg.sunlightchurch.com/calendar/pros-public-reading-of-scripture-20/
END:VEVENT
BEGIN:VEVENT
DTSTART;TZID=America/New_York:20241103T190000
DTEND;TZID=America/New_York:20241103T200000
DTSTAMP:20260424T075043
CREATED:20240611T033007Z
LAST-MODIFIED:20240829T005539Z
UID:10002285-1730660400-1730664000@wg.sunlightchurch.com
SUMMARY:Worship service-Brasil
DESCRIPTION:
URL:https://wg.sunlightchurch.com/calendar/worship-service-brasil-43/
LOCATION:607 Avalon Rd\, Winter Garden\, FL\, United States
GEO:28.484973;-81.619298
END:VEVENT
BEGIN:VEVENT
DTSTART;TZID=America/New_York:20241103T183000
DTEND;TZID=America/New_York:20241103T190000
DTSTAMP:20260424T075043
CREATED:20240611T033007Z
LAST-MODIFIED:20240829T005538Z
UID:10002286-1730658600-1730660400@wg.sunlightchurch.com
SUMMARY:Brasil evening café
DESCRIPTION:
URL:https://wg.sunlightchurch.com/calendar/brasil-evening-cafe-21/
END:VEVENT
BEGIN:VEVENT
DTSTART;TZID=America/New_York:20241103T111500
DTEND;TZID=America/New_York:20241103T123000
DTSTAMP:20260424T075043
CREATED:20240313T200953Z
LAST-MODIFIED:20240610T022523Z
UID:10001890-1730632500-1730637000@wg.sunlightchurch.com
SUMMARY:Worship Service
DESCRIPTION:
URL:https://wg.sunlightchurch.com/calendar/worship-service-34/
LOCATION:607 Avalon Rd\, Winter Garden\, FL 34787\, USA
END:VEVENT
BEGIN:VEVENT
DTSTART;TZID=America/New_York:20241103T111500
DTEND;TZID=America/New_York:20241103T121500
DTSTAMP:20260424T075043
CREATED:20240611T033007Z
LAST-MODIFIED:20240829T005538Z
UID:10002284-1730632500-1730636100@wg.sunlightchurch.com
SUMMARY:Worship Service-Brasil
DESCRIPTION:
URL:https://wg.sunlightchurch.com/calendar/worship-service-brasil-42/
LOCATION:607 Avalon Rd\, Winter Garden\, FL\, United States
GEO:28.484973;-81.619298
END:VEVENT
BEGIN:VEVENT
DTSTART;TZID=America/New_York:20241103T104500
DTEND;TZID=America/New_York:20241103T111500
DTSTAMP:20260424T075043
CREATED:20240611T033007Z
LAST-MODIFIED:20240829T005538Z
UID:10002283-1730630700-1730632500@wg.sunlightchurch.com
SUMMARY:Brasil breakfast café
DESCRIPTION:
URL:https://wg.sunlightchurch.com/calendar/brasil-breakfast-cafe-22/
END:VEVENT
BEGIN:VEVENT
DTSTART;TZID=America/New_York:20241103T101500
DTEND;TZID=America/New_York:20241103T111500
DTSTAMP:20260424T075043
CREATED:20240315T121610Z
LAST-MODIFIED:20240525T202030Z
UID:10002027-1730628900-1730632500@wg.sunlightchurch.com
SUMMARY:Adult Sunday School
DESCRIPTION:
URL:https://wg.sunlightchurch.com/calendar/adult-sunday-school-34/
END:VEVENT
BEGIN:VEVENT
DTSTART;TZID=America/New_York:20241103T093000
DTEND;TZID=America/New_York:20241103T104500
DTSTAMP:20260424T075043
CREATED:20240731T222606Z
LAST-MODIFIED:20240829T005538Z
UID:10002636-1730626200-1730630700@wg.sunlightchurch.com
SUMMARY:Sunlight English Service
DESCRIPTION:
URL:https://wg.sunlightchurch.com/calendar/sunlight-english-service-2/
END:VEVENT
BEGIN:VEVENT
DTSTART;TZID=America/New_York:20241031T190000
DTEND;TZID=America/New_York:20241031T200000
DTSTAMP:20260424T075043
CREATED:20240315T121610Z
LAST-MODIFIED:20240829T005537Z
UID:10002026-1730401200-1730404800@wg.sunlightchurch.com
SUMMARY:Adult Bible Study
DESCRIPTION:
URL:https://wg.sunlightchurch.com/calendar/adult-bible-study-33/
END:VEVENT
BEGIN:VEVENT
DTSTART;TZID=America/New_York:20241030T120000
DTEND;TZID=America/New_York:20241030T130000
DTSTAMP:20260424T075043
CREATED:20240626T045212Z
LAST-MODIFIED:20240821T000210Z
UID:10002570-1730289600-1730293200@wg.sunlightchurch.com
SUMMARY:Just Show Up Book Club
DESCRIPTION:Join with Google Meet: https://meet.google.com/uvk-tprk-yhz\nOr dial: (US) +1 843-631-7297 PIN: 545781116#\nMore phone numbers: https://tel.meet/uvk-tprk-yhz?pin=2517996509590&hs=7\nLearn more about Meet at: https://support.google.com/a/users/answer/9282720
URL:https://wg.sunlightchurch.com/calendar/just-show-up-book-club-63/
END:VEVENT
BEGIN:VEVENT
DTSTART;TZID=America/New_York:20241030T120000
DTEND;TZID=America/New_York:20241030T130000
DTSTAMP:20260424T075043
CREATED:20240618T222546Z
LAST-MODIFIED:20240625T035914Z
UID:10002485-1730289600-1730293200@wg.sunlightchurch.com
SUMMARY:Just Show Up Book Club
DESCRIPTION:
URL:https://wg.sunlightchurch.com/calendar/just-show-up-book-club-20/
END:VEVENT
BEGIN:VEVENT
DTSTART;TZID=America/New_York:20241029T120000
DTEND;TZID=America/New_York:20241029T130000
DTSTAMP:20260424T075043
CREATED:20240626T045212Z
LAST-MODIFIED:20240829T005537Z
UID:10002569-1730203200-1730206800@wg.sunlightchurch.com
SUMMARY:PROS (Public Reading of Scripture)
DESCRIPTION:Join with Google Meet: https://meet.google.com/cpq-gtxv-pcu\nOr dial: (US) +1 904-406-8468 PIN: 842196153#\nMore phone numbers: https://tel.meet/cpq-gtxv-pcu?pin=3768679431320&hs=7\nLearn more about Meet at: https://support.google.com/a/users/answer/9282720
URL:https://wg.sunlightchurch.com/calendar/pros-public-reading-of-scripture-61/
END:VEVENT
END:VCALENDAR