BEGIN:VCALENDAR
VERSION:2.0
PRODID:-//Sunlight Community Church at Winter Garden - ECPv6.15.13.1//NONSGML v1.0//EN
CALSCALE:GREGORIAN
METHOD:PUBLISH
X-WR-CALNAME:Sunlight Community Church at Winter Garden
X-ORIGINAL-URL:https://wg.sunlightchurch.com
X-WR-CALDESC:Events for Sunlight Community Church at Winter Garden
REFRESH-INTERVAL;VALUE=DURATION:PT1H
X-Robots-Tag:noindex
X-PUBLISHED-TTL:PT1H
BEGIN:VTIMEZONE
TZID:America/New_York
BEGIN:DAYLIGHT
TZOFFSETFROM:-0500
TZOFFSETTO:-0400
TZNAME:EDT
DTSTART:20240310T070000
END:DAYLIGHT
BEGIN:STANDARD
TZOFFSETFROM:-0400
TZOFFSETTO:-0500
TZNAME:EST
DTSTART:20241103T060000
END:STANDARD
BEGIN:DAYLIGHT
TZOFFSETFROM:-0500
TZOFFSETTO:-0400
TZNAME:EDT
DTSTART:20250309T070000
END:DAYLIGHT
BEGIN:STANDARD
TZOFFSETFROM:-0400
TZOFFSETTO:-0500
TZNAME:EST
DTSTART:20251102T060000
END:STANDARD
BEGIN:DAYLIGHT
TZOFFSETFROM:-0500
TZOFFSETTO:-0400
TZNAME:EDT
DTSTART:20260308T070000
END:DAYLIGHT
BEGIN:STANDARD
TZOFFSETFROM:-0400
TZOFFSETTO:-0500
TZNAME:EST
DTSTART:20261101T060000
END:STANDARD
END:VTIMEZONE
BEGIN:VEVENT
DTSTART;TZID=America/New_York:20250409T120000
DTEND;TZID=America/New_York:20250409T130000
DTSTAMP:20260420T014928
CREATED:20240618T222607Z
LAST-MODIFIED:20240625T035930Z
UID:12825-1744200000-1744203600@wg.sunlightchurch.com
SUMMARY:Just Show Up Book Club
DESCRIPTION:
URL:https://wg.sunlightchurch.com/calendar/just-show-up-book-club-43/
END:VEVENT
BEGIN:VEVENT
DTSTART;TZID=America/New_York:20250408T120000
DTEND;TZID=America/New_York:20250408T130000
DTSTAMP:20260420T014928
CREATED:20240626T045243Z
LAST-MODIFIED:20240829T005639Z
UID:13011-1744113600-1744117200@wg.sunlightchurch.com
SUMMARY:PROS (Public Reading of Scripture)
DESCRIPTION:Join with Google Meet: https://meet.google.com/cpq-gtxv-pcu\nOr dial: (US) +1 904-406-8468 PIN: 842196153#\nMore phone numbers: https://tel.meet/cpq-gtxv-pcu?pin=3768679431320&hs=7\nLearn more about Meet at: https://support.google.com/a/users/answer/9282720
URL:https://wg.sunlightchurch.com/calendar/pros-public-reading-of-scripture-84/
END:VEVENT
BEGIN:VEVENT
DTSTART;TZID=America/New_York:20250408T120000
DTEND;TZID=America/New_York:20250408T130000
DTSTAMP:20260420T014928
CREATED:20240618T222607Z
LAST-MODIFIED:20240625T035930Z
UID:12824-1744113600-1744117200@wg.sunlightchurch.com
SUMMARY:PROS (Public Reading of Scripture)
DESCRIPTION:
URL:https://wg.sunlightchurch.com/calendar/pros-public-reading-of-scripture-42/
END:VEVENT
BEGIN:VEVENT
DTSTART;TZID=America/New_York:20250406T190000
DTEND;TZID=America/New_York:20250406T200000
DTSTAMP:20260420T014928
CREATED:20240611T033027Z
LAST-MODIFIED:20240829T005637Z
UID:12428-1743966000-1743969600@wg.sunlightchurch.com
SUMMARY:Worship service-Brasil
DESCRIPTION:
URL:https://wg.sunlightchurch.com/calendar/worship-service-brasil-87/
LOCATION:607 Avalon Rd\, Winter Garden\, FL\, United States
END:VEVENT
BEGIN:VEVENT
DTSTART;TZID=America/New_York:20250406T183000
DTEND;TZID=America/New_York:20250406T190000
DTSTAMP:20260420T014928
CREATED:20240611T033026Z
LAST-MODIFIED:20240829T005638Z
UID:12427-1743964200-1743966000@wg.sunlightchurch.com
SUMMARY:Brasil evening café
DESCRIPTION:
URL:https://wg.sunlightchurch.com/calendar/brasil-evening-cafe-43/
END:VEVENT
BEGIN:VEVENT
DTSTART;TZID=America/New_York:20250406T111500
DTEND;TZID=America/New_York:20250406T123000
DTSTAMP:20260420T014928
CREATED:20240313T200957Z
LAST-MODIFIED:20240610T022534Z
UID:11421-1743938100-1743942600@wg.sunlightchurch.com
SUMMARY:Worship Service
DESCRIPTION:
URL:https://wg.sunlightchurch.com/calendar/worship-service-56/
LOCATION:607 Avalon Rd\, Winter Garden\, FL 34787\, USA
END:VEVENT
BEGIN:VEVENT
DTSTART;TZID=America/New_York:20250406T111500
DTEND;TZID=America/New_York:20250406T121500
DTSTAMP:20260420T014928
CREATED:20240611T033026Z
LAST-MODIFIED:20240829T005637Z
UID:12425-1743938100-1743941700@wg.sunlightchurch.com
SUMMARY:Worship Service-Brasil
DESCRIPTION:
URL:https://wg.sunlightchurch.com/calendar/worship-service-brasil-86/
LOCATION:607 Avalon Rd\, Winter Garden\, FL\, United States
END:VEVENT
BEGIN:VEVENT
DTSTART;TZID=America/New_York:20250406T104500
DTEND;TZID=America/New_York:20250406T111500
DTSTAMP:20260420T014928
CREATED:20240611T033026Z
LAST-MODIFIED:20240829T005636Z
UID:12426-1743936300-1743938100@wg.sunlightchurch.com
SUMMARY:Brasil breakfast café
DESCRIPTION:
URL:https://wg.sunlightchurch.com/calendar/brasil-breakfast-cafe-44/
END:VEVENT
BEGIN:VEVENT
DTSTART;TZID=America/New_York:20250406T101500
DTEND;TZID=America/New_York:20250406T111500
DTSTAMP:20260420T014928
CREATED:20240315T121619Z
LAST-MODIFIED:20240525T202036Z
UID:11711-1743934500-1743938100@wg.sunlightchurch.com
SUMMARY:Adult Sunday School
DESCRIPTION:
URL:https://wg.sunlightchurch.com/calendar/adult-sunday-school-56/
END:VEVENT
BEGIN:VEVENT
DTSTART;TZID=America/New_York:20250406T093000
DTEND;TZID=America/New_York:20250406T104500
DTSTAMP:20260420T014928
CREATED:20240731T222649Z
LAST-MODIFIED:20240829T005637Z
UID:13171-1743931800-1743936300@wg.sunlightchurch.com
SUMMARY:Sunlight English Service
DESCRIPTION:
URL:https://wg.sunlightchurch.com/calendar/sunlight-english-service-24/
END:VEVENT
BEGIN:VEVENT
DTSTART;TZID=America/New_York:20250403T190000
DTEND;TZID=America/New_York:20250403T200000
DTSTAMP:20260420T014928
CREATED:20240315T121619Z
LAST-MODIFIED:20240829T005636Z
UID:11709-1743706800-1743710400@wg.sunlightchurch.com
SUMMARY:Adult Bible Study
DESCRIPTION:
URL:https://wg.sunlightchurch.com/calendar/adult-bible-study-55/
END:VEVENT
BEGIN:VEVENT
DTSTART;TZID=America/New_York:20250402T120000
DTEND;TZID=America/New_York:20250402T130000
DTSTAMP:20260420T014928
CREATED:20240626T045242Z
LAST-MODIFIED:20240821T000247Z
UID:13010-1743595200-1743598800@wg.sunlightchurch.com
SUMMARY:Just Show Up Book Club
DESCRIPTION:Join with Google Meet: https://meet.google.com/uvk-tprk-yhz\nOr dial: (US) +1 843-631-7297 PIN: 545781116#\nMore phone numbers: https://tel.meet/uvk-tprk-yhz?pin=2517996509590&hs=7\nLearn more about Meet at: https://support.google.com/a/users/answer/9282720
URL:https://wg.sunlightchurch.com/calendar/just-show-up-book-club-85/
END:VEVENT
BEGIN:VEVENT
DTSTART;TZID=America/New_York:20250402T120000
DTEND;TZID=America/New_York:20250402T130000
DTSTAMP:20260420T014928
CREATED:20240618T222606Z
LAST-MODIFIED:20240625T035929Z
UID:12823-1743595200-1743598800@wg.sunlightchurch.com
SUMMARY:Just Show Up Book Club
DESCRIPTION:
URL:https://wg.sunlightchurch.com/calendar/just-show-up-book-club-42/
END:VEVENT
BEGIN:VEVENT
DTSTART;TZID=America/New_York:20250401T120000
DTEND;TZID=America/New_York:20250401T130000
DTSTAMP:20260420T014928
CREATED:20240626T045242Z
LAST-MODIFIED:20240829T005636Z
UID:13009-1743508800-1743512400@wg.sunlightchurch.com
SUMMARY:PROS (Public Reading of Scripture)
DESCRIPTION:Join with Google Meet: https://meet.google.com/cpq-gtxv-pcu\nOr dial: (US) +1 904-406-8468 PIN: 842196153#\nMore phone numbers: https://tel.meet/cpq-gtxv-pcu?pin=3768679431320&hs=7\nLearn more about Meet at: https://support.google.com/a/users/answer/9282720
URL:https://wg.sunlightchurch.com/calendar/pros-public-reading-of-scripture-83/
END:VEVENT
BEGIN:VEVENT
DTSTART;TZID=America/New_York:20250401T120000
DTEND;TZID=America/New_York:20250401T130000
DTSTAMP:20260420T014928
CREATED:20240618T222606Z
LAST-MODIFIED:20240625T035929Z
UID:12822-1743508800-1743512400@wg.sunlightchurch.com
SUMMARY:PROS (Public Reading of Scripture)
DESCRIPTION:
URL:https://wg.sunlightchurch.com/calendar/pros-public-reading-of-scripture-41/
END:VEVENT
BEGIN:VEVENT
DTSTART;TZID=America/New_York:20250330T190000
DTEND;TZID=America/New_York:20250330T200000
DTSTAMP:20260420T014928
CREATED:20240611T033025Z
LAST-MODIFIED:20240829T005635Z
UID:12424-1743361200-1743364800@wg.sunlightchurch.com
SUMMARY:Worship service-Brasil
DESCRIPTION:
URL:https://wg.sunlightchurch.com/calendar/worship-service-brasil-85/
LOCATION:607 Avalon Rd\, Winter Garden\, FL\, United States
END:VEVENT
BEGIN:VEVENT
DTSTART;TZID=America/New_York:20250330T183000
DTEND;TZID=America/New_York:20250330T190000
DTSTAMP:20260420T014928
CREATED:20240611T033025Z
LAST-MODIFIED:20240829T005635Z
UID:12423-1743359400-1743361200@wg.sunlightchurch.com
SUMMARY:Brasil evening café
DESCRIPTION:
URL:https://wg.sunlightchurch.com/calendar/brasil-evening-cafe-42/
END:VEVENT
BEGIN:VEVENT
DTSTART;TZID=America/New_York:20250330T111500
DTEND;TZID=America/New_York:20250330T123000
DTSTAMP:20260420T014928
CREATED:20240313T200957Z
LAST-MODIFIED:20240610T022533Z
UID:11420-1743333300-1743337800@wg.sunlightchurch.com
SUMMARY:Worship Service
DESCRIPTION:
URL:https://wg.sunlightchurch.com/calendar/worship-service-55/
LOCATION:607 Avalon Rd\, Winter Garden\, FL 34787\, USA
END:VEVENT
BEGIN:VEVENT
DTSTART;TZID=America/New_York:20250330T111500
DTEND;TZID=America/New_York:20250330T121500
DTSTAMP:20260420T014928
CREATED:20240611T033025Z
LAST-MODIFIED:20240829T005634Z
UID:12421-1743333300-1743336900@wg.sunlightchurch.com
SUMMARY:Worship Service-Brasil
DESCRIPTION:
URL:https://wg.sunlightchurch.com/calendar/worship-service-brasil-84/
LOCATION:607 Avalon Rd\, Winter Garden\, FL\, United States
END:VEVENT
BEGIN:VEVENT
DTSTART;TZID=America/New_York:20250330T104500
DTEND;TZID=America/New_York:20250330T111500
DTSTAMP:20260420T014928
CREATED:20240611T033025Z
LAST-MODIFIED:20240829T005635Z
UID:12422-1743331500-1743333300@wg.sunlightchurch.com
SUMMARY:Brasil breakfast café
DESCRIPTION:
URL:https://wg.sunlightchurch.com/calendar/brasil-breakfast-cafe-43/
END:VEVENT
BEGIN:VEVENT
DTSTART;TZID=America/New_York:20250330T101500
DTEND;TZID=America/New_York:20250330T111500
DTSTAMP:20260420T014928
CREATED:20240315T121619Z
LAST-MODIFIED:20240525T202036Z
UID:11707-1743329700-1743333300@wg.sunlightchurch.com
SUMMARY:Adult Sunday School
DESCRIPTION:
URL:https://wg.sunlightchurch.com/calendar/adult-sunday-school-55/
END:VEVENT
BEGIN:VEVENT
DTSTART;TZID=America/New_York:20250330T093000
DTEND;TZID=America/New_York:20250330T104500
DTSTAMP:20260420T014928
CREATED:20240731T222647Z
LAST-MODIFIED:20240829T005635Z
UID:13170-1743327000-1743331500@wg.sunlightchurch.com
SUMMARY:Sunlight English Service
DESCRIPTION:
URL:https://wg.sunlightchurch.com/calendar/sunlight-english-service-23/
END:VEVENT
BEGIN:VEVENT
DTSTART;TZID=America/New_York:20250327T190000
DTEND;TZID=America/New_York:20250327T200000
DTSTAMP:20260420T014928
CREATED:20240315T121619Z
LAST-MODIFIED:20240829T005634Z
UID:11706-1743102000-1743105600@wg.sunlightchurch.com
SUMMARY:Adult Bible Study
DESCRIPTION:
URL:https://wg.sunlightchurch.com/calendar/adult-bible-study-54/
END:VEVENT
BEGIN:VEVENT
DTSTART;TZID=America/New_York:20250326T120000
DTEND;TZID=America/New_York:20250326T130000
DTSTAMP:20260420T014928
CREATED:20240626T045241Z
LAST-MODIFIED:20240821T000245Z
UID:13008-1742990400-1742994000@wg.sunlightchurch.com
SUMMARY:Just Show Up Book Club
DESCRIPTION:Join with Google Meet: https://meet.google.com/uvk-tprk-yhz\nOr dial: (US) +1 843-631-7297 PIN: 545781116#\nMore phone numbers: https://tel.meet/uvk-tprk-yhz?pin=2517996509590&hs=7\nLearn more about Meet at: https://support.google.com/a/users/answer/9282720
URL:https://wg.sunlightchurch.com/calendar/just-show-up-book-club-84/
END:VEVENT
BEGIN:VEVENT
DTSTART;TZID=America/New_York:20250326T120000
DTEND;TZID=America/New_York:20250326T130000
DTSTAMP:20260420T014928
CREATED:20240618T222606Z
LAST-MODIFIED:20240625T035928Z
UID:12821-1742990400-1742994000@wg.sunlightchurch.com
SUMMARY:Just Show Up Book Club
DESCRIPTION:
URL:https://wg.sunlightchurch.com/calendar/just-show-up-book-club-41/
END:VEVENT
BEGIN:VEVENT
DTSTART;TZID=America/New_York:20250325T120000
DTEND;TZID=America/New_York:20250325T130000
DTSTAMP:20260420T014928
CREATED:20240626T045241Z
LAST-MODIFIED:20240829T005634Z
UID:13007-1742904000-1742907600@wg.sunlightchurch.com
SUMMARY:PROS (Public Reading of Scripture)
DESCRIPTION:Join with Google Meet: https://meet.google.com/cpq-gtxv-pcu\nOr dial: (US) +1 904-406-8468 PIN: 842196153#\nMore phone numbers: https://tel.meet/cpq-gtxv-pcu?pin=3768679431320&hs=7\nLearn more about Meet at: https://support.google.com/a/users/answer/9282720
URL:https://wg.sunlightchurch.com/calendar/pros-public-reading-of-scripture-82/
END:VEVENT
BEGIN:VEVENT
DTSTART;TZID=America/New_York:20250325T120000
DTEND;TZID=America/New_York:20250325T130000
DTSTAMP:20260420T014928
CREATED:20240618T222606Z
LAST-MODIFIED:20240625T035928Z
UID:12820-1742904000-1742907600@wg.sunlightchurch.com
SUMMARY:PROS (Public Reading of Scripture)
DESCRIPTION:
URL:https://wg.sunlightchurch.com/calendar/pros-public-reading-of-scripture-40/
END:VEVENT
BEGIN:VEVENT
DTSTART;TZID=America/New_York:20250323T190000
DTEND;TZID=America/New_York:20250323T200000
DTSTAMP:20260420T014928
CREATED:20240611T033024Z
LAST-MODIFIED:20240829T005633Z
UID:12420-1742756400-1742760000@wg.sunlightchurch.com
SUMMARY:Worship service-Brasil
DESCRIPTION:
URL:https://wg.sunlightchurch.com/calendar/worship-service-brasil-83/
LOCATION:607 Avalon Rd\, Winter Garden\, FL\, United States
END:VEVENT
BEGIN:VEVENT
DTSTART;TZID=America/New_York:20250323T183000
DTEND;TZID=America/New_York:20250323T190000
DTSTAMP:20260420T014928
CREATED:20240611T033024Z
LAST-MODIFIED:20240829T005633Z
UID:12419-1742754600-1742756400@wg.sunlightchurch.com
SUMMARY:Brasil evening café
DESCRIPTION:
URL:https://wg.sunlightchurch.com/calendar/brasil-evening-cafe-41/
END:VEVENT
BEGIN:VEVENT
DTSTART;TZID=America/New_York:20250323T111500
DTEND;TZID=America/New_York:20250323T123000
DTSTAMP:20260420T014928
CREATED:20240313T200957Z
LAST-MODIFIED:20240610T022533Z
UID:11419-1742728500-1742733000@wg.sunlightchurch.com
SUMMARY:Worship Service
DESCRIPTION:
URL:https://wg.sunlightchurch.com/calendar/worship-service-54/
LOCATION:607 Avalon Rd\, Winter Garden\, FL 34787\, USA
END:VEVENT
END:VCALENDAR