BEGIN:VCALENDAR
VERSION:2.0
PRODID:-//Sunlight Community Church at Winter Garden - ECPv6.15.13.1//NONSGML v1.0//EN
CALSCALE:GREGORIAN
METHOD:PUBLISH
X-WR-CALNAME:Sunlight Community Church at Winter Garden
X-ORIGINAL-URL:https://wg.sunlightchurch.com
X-WR-CALDESC:Events for Sunlight Community Church at Winter Garden
REFRESH-INTERVAL;VALUE=DURATION:PT1H
X-Robots-Tag:noindex
X-PUBLISHED-TTL:PT1H
BEGIN:VTIMEZONE
TZID:America/New_York
BEGIN:DAYLIGHT
TZOFFSETFROM:-0500
TZOFFSETTO:-0400
TZNAME:EDT
DTSTART:20240310T070000
END:DAYLIGHT
BEGIN:STANDARD
TZOFFSETFROM:-0400
TZOFFSETTO:-0500
TZNAME:EST
DTSTART:20241103T060000
END:STANDARD
BEGIN:DAYLIGHT
TZOFFSETFROM:-0500
TZOFFSETTO:-0400
TZNAME:EDT
DTSTART:20250309T070000
END:DAYLIGHT
BEGIN:STANDARD
TZOFFSETFROM:-0400
TZOFFSETTO:-0500
TZNAME:EST
DTSTART:20251102T060000
END:STANDARD
BEGIN:DAYLIGHT
TZOFFSETFROM:-0500
TZOFFSETTO:-0400
TZNAME:EDT
DTSTART:20260308T070000
END:DAYLIGHT
BEGIN:STANDARD
TZOFFSETFROM:-0400
TZOFFSETTO:-0500
TZNAME:EST
DTSTART:20261101T060000
END:STANDARD
END:VTIMEZONE
BEGIN:VEVENT
DTSTART;TZID=America/New_York:20250518T183000
DTEND;TZID=America/New_York:20250518T190000
DTSTAMP:20260419T171249
CREATED:20240611T033033Z
LAST-MODIFIED:20240829T005653Z
UID:12452-1747593000-1747594800@wg.sunlightchurch.com
SUMMARY:Brasil evening café
DESCRIPTION:
URL:https://wg.sunlightchurch.com/calendar/brasil-evening-cafe-49/
END:VEVENT
BEGIN:VEVENT
DTSTART;TZID=America/New_York:20250518T111500
DTEND;TZID=America/New_York:20250518T123000
DTSTAMP:20260419T171249
CREATED:20240313T200959Z
LAST-MODIFIED:20240610T022537Z
UID:11430-1747566900-1747571400@wg.sunlightchurch.com
SUMMARY:Worship Service
DESCRIPTION:
URL:https://wg.sunlightchurch.com/calendar/worship-service-62/
LOCATION:607 Avalon Rd\, Winter Garden\, FL 34787\, USA
END:VEVENT
BEGIN:VEVENT
DTSTART;TZID=America/New_York:20250518T111500
DTEND;TZID=America/New_York:20250518T121500
DTSTAMP:20260419T171249
CREATED:20240611T033032Z
LAST-MODIFIED:20240829T005653Z
UID:12450-1747566900-1747570500@wg.sunlightchurch.com
SUMMARY:Worship Service-Brasil
DESCRIPTION:
URL:https://wg.sunlightchurch.com/calendar/worship-service-brasil-98/
LOCATION:607 Avalon Rd\, Winter Garden\, FL\, United States
END:VEVENT
BEGIN:VEVENT
DTSTART;TZID=America/New_York:20250518T104500
DTEND;TZID=America/New_York:20250518T111500
DTSTAMP:20260419T171249
CREATED:20240611T033032Z
LAST-MODIFIED:20240829T005653Z
UID:12449-1747565100-1747566900@wg.sunlightchurch.com
SUMMARY:Brasil breakfast café
DESCRIPTION:
URL:https://wg.sunlightchurch.com/calendar/brasil-breakfast-cafe-50/
END:VEVENT
BEGIN:VEVENT
DTSTART;TZID=America/New_York:20250518T101500
DTEND;TZID=America/New_York:20250518T111500
DTSTAMP:20260419T171249
CREATED:20240315T121621Z
LAST-MODIFIED:20240525T202038Z
UID:11729-1747563300-1747566900@wg.sunlightchurch.com
SUMMARY:Adult Sunday School
DESCRIPTION:
URL:https://wg.sunlightchurch.com/calendar/adult-sunday-school-62/
END:VEVENT
BEGIN:VEVENT
DTSTART;TZID=America/New_York:20250518T093000
DTEND;TZID=America/New_York:20250518T104500
DTSTAMP:20260419T171249
CREATED:20240822T000347Z
LAST-MODIFIED:20240829T005652Z
UID:13244-1747560600-1747565100@wg.sunlightchurch.com
SUMMARY:Sunlight English Service
DESCRIPTION:
URL:https://wg.sunlightchurch.com/calendar/sunlight-english-service-30/
END:VEVENT
BEGIN:VEVENT
DTSTART;TZID=America/New_York:20250515T190000
DTEND;TZID=America/New_York:20250515T200000
DTSTAMP:20260419T171249
CREATED:20240315T121621Z
LAST-MODIFIED:20240829T005652Z
UID:11727-1747335600-1747339200@wg.sunlightchurch.com
SUMMARY:Adult Bible Study
DESCRIPTION:
URL:https://wg.sunlightchurch.com/calendar/adult-bible-study-61/
END:VEVENT
BEGIN:VEVENT
DTSTART;TZID=America/New_York:20250514T120000
DTEND;TZID=America/New_York:20250514T130000
DTSTAMP:20260419T171249
CREATED:20240721T181622Z
LAST-MODIFIED:20240730T221636Z
UID:13125-1747224000-1747227600@wg.sunlightchurch.com
SUMMARY:Just Show Up Book Club
DESCRIPTION:Join with Google Meet: https://meet.google.com/uvk-tprk-yhz\nOr dial: (US) +1 843-631-7297 PIN: 545781116#\nMore phone numbers: https://tel.meet/uvk-tprk-yhz?pin=2517996509590&hs=7\nLearn more about Meet at: https://support.google.com/a/users/answer/9282720
URL:https://wg.sunlightchurch.com/calendar/just-show-up-book-club-91/
END:VEVENT
BEGIN:VEVENT
DTSTART;TZID=America/New_York:20250513T120000
DTEND;TZID=America/New_York:20250513T130000
DTSTAMP:20260419T171249
CREATED:20240721T181622Z
LAST-MODIFIED:20240829T005651Z
UID:13124-1747137600-1747141200@wg.sunlightchurch.com
SUMMARY:PROS (Public Reading of Scripture)
DESCRIPTION:Join with Google Meet: https://meet.google.com/cpq-gtxv-pcu\nOr dial: (US) +1 904-406-8468 PIN: 842196153#\nMore phone numbers: https://tel.meet/cpq-gtxv-pcu?pin=3768679431320&hs=7\nLearn more about Meet at: https://support.google.com/a/users/answer/9282720
URL:https://wg.sunlightchurch.com/calendar/pros-public-reading-of-scripture-89/
END:VEVENT
BEGIN:VEVENT
DTSTART;TZID=America/New_York:20250511T190000
DTEND;TZID=America/New_York:20250511T200000
DTSTAMP:20260419T171249
CREATED:20240611T033032Z
LAST-MODIFIED:20240829T005651Z
UID:12447-1746990000-1746993600@wg.sunlightchurch.com
SUMMARY:Worship service-Brasil
DESCRIPTION:
URL:https://wg.sunlightchurch.com/calendar/worship-service-brasil-97/
LOCATION:607 Avalon Rd\, Winter Garden\, FL\, United States
END:VEVENT
BEGIN:VEVENT
DTSTART;TZID=America/New_York:20250511T183000
DTEND;TZID=America/New_York:20250511T190000
DTSTAMP:20260419T171249
CREATED:20240611T033032Z
LAST-MODIFIED:20240829T005651Z
UID:12448-1746988200-1746990000@wg.sunlightchurch.com
SUMMARY:Brasil evening café
DESCRIPTION:
URL:https://wg.sunlightchurch.com/calendar/brasil-evening-cafe-48/
END:VEVENT
BEGIN:VEVENT
DTSTART;TZID=America/New_York:20250511T111500
DTEND;TZID=America/New_York:20250511T123000
DTSTAMP:20260419T171249
CREATED:20240313T200959Z
LAST-MODIFIED:20240610T022537Z
UID:11428-1746962100-1746966600@wg.sunlightchurch.com
SUMMARY:Worship Service
DESCRIPTION:
URL:https://wg.sunlightchurch.com/calendar/worship-service-61/
LOCATION:607 Avalon Rd\, Winter Garden\, FL 34787\, USA
END:VEVENT
BEGIN:VEVENT
DTSTART;TZID=America/New_York:20250511T111500
DTEND;TZID=America/New_York:20250511T121500
DTSTAMP:20260419T171249
CREATED:20240611T033032Z
LAST-MODIFIED:20240829T005650Z
UID:12446-1746962100-1746965700@wg.sunlightchurch.com
SUMMARY:Worship Service-Brasil
DESCRIPTION:
URL:https://wg.sunlightchurch.com/calendar/worship-service-brasil-96/
LOCATION:607 Avalon Rd\, Winter Garden\, FL\, United States
END:VEVENT
BEGIN:VEVENT
DTSTART;TZID=America/New_York:20250511T104500
DTEND;TZID=America/New_York:20250511T111500
DTSTAMP:20260419T171249
CREATED:20240611T033031Z
LAST-MODIFIED:20240829T005650Z
UID:12445-1746960300-1746962100@wg.sunlightchurch.com
SUMMARY:Brasil breakfast café
DESCRIPTION:
URL:https://wg.sunlightchurch.com/calendar/brasil-breakfast-cafe-49/
END:VEVENT
BEGIN:VEVENT
DTSTART;TZID=America/New_York:20250511T101500
DTEND;TZID=America/New_York:20250511T111500
DTSTAMP:20260419T171249
CREATED:20240315T121621Z
LAST-MODIFIED:20240525T202037Z
UID:11726-1746958500-1746962100@wg.sunlightchurch.com
SUMMARY:Adult Sunday School
DESCRIPTION:
URL:https://wg.sunlightchurch.com/calendar/adult-sunday-school-61/
END:VEVENT
BEGIN:VEVENT
DTSTART;TZID=America/New_York:20250511T093000
DTEND;TZID=America/New_York:20250511T104500
DTSTAMP:20260419T171249
CREATED:20240821T000255Z
LAST-MODIFIED:20240829T005650Z
UID:13241-1746955800-1746960300@wg.sunlightchurch.com
SUMMARY:Sunlight English Service
DESCRIPTION:
URL:https://wg.sunlightchurch.com/calendar/sunlight-english-service-29/
END:VEVENT
BEGIN:VEVENT
DTSTART;TZID=America/New_York:20250508T190000
DTEND;TZID=America/New_York:20250508T200000
DTSTAMP:20260419T171249
CREATED:20240315T121621Z
LAST-MODIFIED:20240829T005649Z
UID:11724-1746730800-1746734400@wg.sunlightchurch.com
SUMMARY:Adult Bible Study
DESCRIPTION:
URL:https://wg.sunlightchurch.com/calendar/adult-bible-study-60/
END:VEVENT
BEGIN:VEVENT
DTSTART;TZID=America/New_York:20250507T120000
DTEND;TZID=America/New_York:20250507T130000
DTSTAMP:20260419T171249
CREATED:20240715T152731Z
LAST-MODIFIED:20240821T000255Z
UID:13115-1746619200-1746622800@wg.sunlightchurch.com
SUMMARY:Just Show Up Book Club
DESCRIPTION:Join with Google Meet: https://meet.google.com/uvk-tprk-yhz\nOr dial: (US) +1 843-631-7297 PIN: 545781116#\nMore phone numbers: https://tel.meet/uvk-tprk-yhz?pin=2517996509590&hs=7\nLearn more about Meet at: https://support.google.com/a/users/answer/9282720
URL:https://wg.sunlightchurch.com/calendar/just-show-up-book-club-90/
END:VEVENT
BEGIN:VEVENT
DTSTART;TZID=America/New_York:20250506T120000
DTEND;TZID=America/New_York:20250506T130000
DTSTAMP:20260419T171249
CREATED:20240715T152730Z
LAST-MODIFIED:20240829T005648Z
UID:13114-1746532800-1746536400@wg.sunlightchurch.com
SUMMARY:PROS (Public Reading of Scripture)
DESCRIPTION:Join with Google Meet: https://meet.google.com/cpq-gtxv-pcu\nOr dial: (US) +1 904-406-8468 PIN: 842196153#\nMore phone numbers: https://tel.meet/cpq-gtxv-pcu?pin=3768679431320&hs=7\nLearn more about Meet at: https://support.google.com/a/users/answer/9282720
URL:https://wg.sunlightchurch.com/calendar/pros-public-reading-of-scripture-88/
END:VEVENT
BEGIN:VEVENT
DTSTART;TZID=America/New_York:20250504T190000
DTEND;TZID=America/New_York:20250504T200000
DTSTAMP:20260419T171249
CREATED:20240611T033031Z
LAST-MODIFIED:20240829T005647Z
UID:12444-1746385200-1746388800@wg.sunlightchurch.com
SUMMARY:Worship service-Brasil
DESCRIPTION:
URL:https://wg.sunlightchurch.com/calendar/worship-service-brasil-95/
LOCATION:607 Avalon Rd\, Winter Garden\, FL\, United States
END:VEVENT
BEGIN:VEVENT
DTSTART;TZID=America/New_York:20250504T183000
DTEND;TZID=America/New_York:20250504T190000
DTSTAMP:20260419T171249
CREATED:20240611T033031Z
LAST-MODIFIED:20240829T005648Z
UID:12443-1746383400-1746385200@wg.sunlightchurch.com
SUMMARY:Brasil evening café
DESCRIPTION:
URL:https://wg.sunlightchurch.com/calendar/brasil-evening-cafe-47/
END:VEVENT
BEGIN:VEVENT
DTSTART;TZID=America/New_York:20250504T111500
DTEND;TZID=America/New_York:20250504T123000
DTSTAMP:20260419T171249
CREATED:20240313T200958Z
LAST-MODIFIED:20240610T022535Z
UID:11425-1746357300-1746361800@wg.sunlightchurch.com
SUMMARY:Worship Service
DESCRIPTION:
URL:https://wg.sunlightchurch.com/calendar/worship-service-60/
LOCATION:607 Avalon Rd\, Winter Garden\, FL 34787\, USA
END:VEVENT
BEGIN:VEVENT
DTSTART;TZID=America/New_York:20250504T111500
DTEND;TZID=America/New_York:20250504T121500
DTSTAMP:20260419T171249
CREATED:20240611T033030Z
LAST-MODIFIED:20240829T005647Z
UID:12441-1746357300-1746360900@wg.sunlightchurch.com
SUMMARY:Worship Service-Brasil
DESCRIPTION:
URL:https://wg.sunlightchurch.com/calendar/worship-service-brasil-94/
LOCATION:607 Avalon Rd\, Winter Garden\, FL\, United States
END:VEVENT
BEGIN:VEVENT
DTSTART;TZID=America/New_York:20250504T104500
DTEND;TZID=America/New_York:20250504T111500
DTSTAMP:20260419T171249
CREATED:20240611T033031Z
LAST-MODIFIED:20240829T005646Z
UID:12442-1746355500-1746357300@wg.sunlightchurch.com
SUMMARY:Brasil breakfast café
DESCRIPTION:
URL:https://wg.sunlightchurch.com/calendar/brasil-breakfast-cafe-48/
END:VEVENT
BEGIN:VEVENT
DTSTART;TZID=America/New_York:20250504T101500
DTEND;TZID=America/New_York:20250504T111500
DTSTAMP:20260419T171249
CREATED:20240315T121621Z
LAST-MODIFIED:20240525T202037Z
UID:11723-1746353700-1746357300@wg.sunlightchurch.com
SUMMARY:Adult Sunday School
DESCRIPTION:
URL:https://wg.sunlightchurch.com/calendar/adult-sunday-school-60/
END:VEVENT
BEGIN:VEVENT
DTSTART;TZID=America/New_York:20250504T093000
DTEND;TZID=America/New_York:20250504T104500
DTSTAMP:20260419T171249
CREATED:20240813T232729Z
LAST-MODIFIED:20240829T005647Z
UID:13231-1746351000-1746355500@wg.sunlightchurch.com
SUMMARY:Sunlight English Service
DESCRIPTION:
URL:https://wg.sunlightchurch.com/calendar/sunlight-english-service-28/
END:VEVENT
BEGIN:VEVENT
DTSTART;TZID=America/New_York:20250501T190000
DTEND;TZID=America/New_York:20250501T200000
DTSTAMP:20260419T171249
CREATED:20240315T121621Z
LAST-MODIFIED:20240829T005646Z
UID:11721-1746126000-1746129600@wg.sunlightchurch.com
SUMMARY:Adult Bible Study
DESCRIPTION:
URL:https://wg.sunlightchurch.com/calendar/adult-bible-study-59/
END:VEVENT
BEGIN:VEVENT
DTSTART;TZID=America/New_York:20250430T120000
DTEND;TZID=America/New_York:20250430T130000
DTSTAMP:20260419T171249
CREATED:20240708T121835Z
LAST-MODIFIED:20240821T000253Z
UID:13103-1746014400-1746018000@wg.sunlightchurch.com
SUMMARY:Just Show Up Book Club
DESCRIPTION:Join with Google Meet: https://meet.google.com/uvk-tprk-yhz\nOr dial: (US) +1 843-631-7297 PIN: 545781116#\nMore phone numbers: https://tel.meet/uvk-tprk-yhz?pin=2517996509590&hs=7\nLearn more about Meet at: https://support.google.com/a/users/answer/9282720
URL:https://wg.sunlightchurch.com/calendar/just-show-up-book-club-89/
END:VEVENT
BEGIN:VEVENT
DTSTART;TZID=America/New_York:20250429T120000
DTEND;TZID=America/New_York:20250429T130000
DTSTAMP:20260419T171249
CREATED:20240705T085341Z
LAST-MODIFIED:20240829T005646Z
UID:13098-1745928000-1745931600@wg.sunlightchurch.com
SUMMARY:PROS (Public Reading of Scripture)
DESCRIPTION:Join with Google Meet: https://meet.google.com/cpq-gtxv-pcu\nOr dial: (US) +1 904-406-8468 PIN: 842196153#\nMore phone numbers: https://tel.meet/cpq-gtxv-pcu?pin=3768679431320&hs=7\nLearn more about Meet at: https://support.google.com/a/users/answer/9282720
URL:https://wg.sunlightchurch.com/calendar/pros-public-reading-of-scripture-87/
END:VEVENT
BEGIN:VEVENT
DTSTART;TZID=America/New_York:20250427T190000
DTEND;TZID=America/New_York:20250427T200000
DTSTAMP:20260419T171249
CREATED:20240611T033030Z
LAST-MODIFIED:20240829T005645Z
UID:12439-1745780400-1745784000@wg.sunlightchurch.com
SUMMARY:Worship service-Brasil
DESCRIPTION:
URL:https://wg.sunlightchurch.com/calendar/worship-service-brasil-93/
LOCATION:607 Avalon Rd\, Winter Garden\, FL\, United States
END:VEVENT
END:VCALENDAR