BEGIN:VCALENDAR
VERSION:2.0
PRODID:-//Sunlight Community Church at Winter Garden - ECPv6.15.13.1//NONSGML v1.0//EN
CALSCALE:GREGORIAN
METHOD:PUBLISH
X-WR-CALNAME:Sunlight Community Church at Winter Garden
X-ORIGINAL-URL:https://wg.sunlightchurch.com
X-WR-CALDESC:Events for Sunlight Community Church at Winter Garden
REFRESH-INTERVAL;VALUE=DURATION:PT1H
X-Robots-Tag:noindex
X-PUBLISHED-TTL:PT1H
BEGIN:VTIMEZONE
TZID:America/New_York
BEGIN:DAYLIGHT
TZOFFSETFROM:-0500
TZOFFSETTO:-0400
TZNAME:EDT
DTSTART:20240310T070000
END:DAYLIGHT
BEGIN:STANDARD
TZOFFSETFROM:-0400
TZOFFSETTO:-0500
TZNAME:EST
DTSTART:20241103T060000
END:STANDARD
BEGIN:DAYLIGHT
TZOFFSETFROM:-0500
TZOFFSETTO:-0400
TZNAME:EDT
DTSTART:20250309T070000
END:DAYLIGHT
BEGIN:STANDARD
TZOFFSETFROM:-0400
TZOFFSETTO:-0500
TZNAME:EST
DTSTART:20251102T060000
END:STANDARD
BEGIN:DAYLIGHT
TZOFFSETFROM:-0500
TZOFFSETTO:-0400
TZNAME:EDT
DTSTART:20260308T070000
END:DAYLIGHT
BEGIN:STANDARD
TZOFFSETFROM:-0400
TZOFFSETTO:-0500
TZNAME:EST
DTSTART:20261101T060000
END:STANDARD
END:VTIMEZONE
BEGIN:VEVENT
DTSTART;TZID=America/New_York:20250615T111500
DTEND;TZID=America/New_York:20250615T123000
DTSTAMP:20260419T120102
CREATED:20240313T201000Z
LAST-MODIFIED:20240610T022539Z
UID:11441-1749986100-1749990600@wg.sunlightchurch.com
SUMMARY:Worship Service
DESCRIPTION:
URL:https://wg.sunlightchurch.com/calendar/worship-service-66/
LOCATION:607 Avalon Rd\, Winter Garden\, FL 34787\, USA
END:VEVENT
BEGIN:VEVENT
DTSTART;TZID=America/New_York:20250615T111500
DTEND;TZID=America/New_York:20250615T121500
DTSTAMP:20260419T120102
CREATED:20240611T033036Z
LAST-MODIFIED:20240829T005702Z
UID:12465-1749986100-1749989700@wg.sunlightchurch.com
SUMMARY:Worship Service-Brasil
DESCRIPTION:
URL:https://wg.sunlightchurch.com/calendar/worship-service-brasil-106/
LOCATION:607 Avalon Rd\, Winter Garden\, FL\, United States
END:VEVENT
BEGIN:VEVENT
DTSTART;TZID=America/New_York:20250615T104500
DTEND;TZID=America/New_York:20250615T111500
DTSTAMP:20260419T120102
CREATED:20240611T033036Z
LAST-MODIFIED:20240829T005701Z
UID:12466-1749984300-1749986100@wg.sunlightchurch.com
SUMMARY:Brasil breakfast café
DESCRIPTION:
URL:https://wg.sunlightchurch.com/calendar/brasil-breakfast-cafe-54/
END:VEVENT
BEGIN:VEVENT
DTSTART;TZID=America/New_York:20250615T101500
DTEND;TZID=America/New_York:20250615T111500
DTSTAMP:20260419T120102
CREATED:20240315T121623Z
LAST-MODIFIED:20240525T202039Z
UID:11741-1749982500-1749986100@wg.sunlightchurch.com
SUMMARY:Adult Sunday School
DESCRIPTION:
URL:https://wg.sunlightchurch.com/calendar/adult-sunday-school-66/
END:VEVENT
BEGIN:VEVENT
DTSTART;TZID=America/New_York:20250615T093000
DTEND;TZID=America/New_York:20250615T104500
DTSTAMP:20260419T120102
CREATED:20240822T000355Z
LAST-MODIFIED:20240829T005701Z
UID:13251-1749979800-1749984300@wg.sunlightchurch.com
SUMMARY:Sunlight English Service
DESCRIPTION:
URL:https://wg.sunlightchurch.com/calendar/sunlight-english-service-34/
END:VEVENT
BEGIN:VEVENT
DTSTART;TZID=America/New_York:20250612T190000
DTEND;TZID=America/New_York:20250612T200000
DTSTAMP:20260419T120102
CREATED:20240315T121622Z
LAST-MODIFIED:20240829T005700Z
UID:11739-1749754800-1749758400@wg.sunlightchurch.com
SUMMARY:Adult Bible Study
DESCRIPTION:
URL:https://wg.sunlightchurch.com/calendar/adult-bible-study-65/
END:VEVENT
BEGIN:VEVENT
DTSTART;TZID=America/New_York:20250610T120000
DTEND;TZID=America/New_York:20250610T130000
DTSTAMP:20260419T120102
CREATED:20240822T000354Z
LAST-MODIFIED:20240829T005659Z
UID:13250-1749556800-1749560400@wg.sunlightchurch.com
SUMMARY:PROS (Public Reading of Scripture)
DESCRIPTION:Join with Google Meet: https://meet.google.com/cpq-gtxv-pcu\nOr dial: (US) +1 904-406-8468 PIN: 842196153#\nMore phone numbers: https://tel.meet/cpq-gtxv-pcu?pin=3768679431320&hs=7\nLearn more about Meet at: https://support.google.com/a/users/answer/9282720
URL:https://wg.sunlightchurch.com/calendar/pros-public-reading-of-scripture-93/
END:VEVENT
BEGIN:VEVENT
DTSTART;TZID=America/New_York:20250608T190000
DTEND;TZID=America/New_York:20250608T200000
DTSTAMP:20260419T120102
CREATED:20240611T033036Z
LAST-MODIFIED:20240829T005659Z
UID:12463-1749409200-1749412800@wg.sunlightchurch.com
SUMMARY:Worship service-Brasil
DESCRIPTION:
URL:https://wg.sunlightchurch.com/calendar/worship-service-brasil-105/
LOCATION:607 Avalon Rd\, Winter Garden\, FL\, United States
END:VEVENT
BEGIN:VEVENT
DTSTART;TZID=America/New_York:20250608T183000
DTEND;TZID=America/New_York:20250608T190000
DTSTAMP:20260419T120102
CREATED:20240611T033036Z
LAST-MODIFIED:20240829T005659Z
UID:12464-1749407400-1749409200@wg.sunlightchurch.com
SUMMARY:Brasil evening café
DESCRIPTION:
URL:https://wg.sunlightchurch.com/calendar/brasil-evening-cafe-52/
END:VEVENT
BEGIN:VEVENT
DTSTART;TZID=America/New_York:20250608T111500
DTEND;TZID=America/New_York:20250608T123000
DTSTAMP:20260419T120102
CREATED:20240313T201000Z
LAST-MODIFIED:20240610T022539Z
UID:11440-1749381300-1749385800@wg.sunlightchurch.com
SUMMARY:Worship Service
DESCRIPTION:
URL:https://wg.sunlightchurch.com/calendar/worship-service-65/
LOCATION:607 Avalon Rd\, Winter Garden\, FL 34787\, USA
END:VEVENT
BEGIN:VEVENT
DTSTART;TZID=America/New_York:20250608T111500
DTEND;TZID=America/New_York:20250608T121500
DTSTAMP:20260419T120102
CREATED:20240611T033035Z
LAST-MODIFIED:20240829T005658Z
UID:12462-1749381300-1749384900@wg.sunlightchurch.com
SUMMARY:Worship Service-Brasil
DESCRIPTION:
URL:https://wg.sunlightchurch.com/calendar/worship-service-brasil-104/
LOCATION:607 Avalon Rd\, Winter Garden\, FL\, United States
END:VEVENT
BEGIN:VEVENT
DTSTART;TZID=America/New_York:20250608T104500
DTEND;TZID=America/New_York:20250608T111500
DTSTAMP:20260419T120102
CREATED:20240611T033035Z
LAST-MODIFIED:20240829T005658Z
UID:12461-1749379500-1749381300@wg.sunlightchurch.com
SUMMARY:Brasil breakfast café
DESCRIPTION:
URL:https://wg.sunlightchurch.com/calendar/brasil-breakfast-cafe-53/
END:VEVENT
BEGIN:VEVENT
DTSTART;TZID=America/New_York:20250608T101500
DTEND;TZID=America/New_York:20250608T111500
DTSTAMP:20260419T120102
CREATED:20240315T121622Z
LAST-MODIFIED:20240525T202038Z
UID:11737-1749377700-1749381300@wg.sunlightchurch.com
SUMMARY:Adult Sunday School
DESCRIPTION:
URL:https://wg.sunlightchurch.com/calendar/adult-sunday-school-65/
END:VEVENT
BEGIN:VEVENT
DTSTART;TZID=America/New_York:20250608T093000
DTEND;TZID=America/New_York:20250608T104500
DTSTAMP:20260419T120102
CREATED:20240822T000352Z
LAST-MODIFIED:20240829T005658Z
UID:13249-1749375000-1749379500@wg.sunlightchurch.com
SUMMARY:Sunlight English Service
DESCRIPTION:
URL:https://wg.sunlightchurch.com/calendar/sunlight-english-service-33/
END:VEVENT
BEGIN:VEVENT
DTSTART;TZID=America/New_York:20250605T190000
DTEND;TZID=America/New_York:20250605T200000
DTSTAMP:20260419T120102
CREATED:20240315T121622Z
LAST-MODIFIED:20240829T005658Z
UID:11736-1749150000-1749153600@wg.sunlightchurch.com
SUMMARY:Adult Bible Study
DESCRIPTION:
URL:https://wg.sunlightchurch.com/calendar/adult-bible-study-64/
END:VEVENT
BEGIN:VEVENT
DTSTART;TZID=America/New_York:20250603T120000
DTEND;TZID=America/New_York:20250603T130000
DTSTAMP:20260419T120102
CREATED:20240822T000352Z
LAST-MODIFIED:20240829T005657Z
UID:13248-1748952000-1748955600@wg.sunlightchurch.com
SUMMARY:PROS (Public Reading of Scripture)
DESCRIPTION:Join with Google Meet: https://meet.google.com/cpq-gtxv-pcu\nOr dial: (US) +1 904-406-8468 PIN: 842196153#\nMore phone numbers: https://tel.meet/cpq-gtxv-pcu?pin=3768679431320&hs=7\nLearn more about Meet at: https://support.google.com/a/users/answer/9282720
URL:https://wg.sunlightchurch.com/calendar/pros-public-reading-of-scripture-92/
END:VEVENT
BEGIN:VEVENT
DTSTART;TZID=America/New_York:20250601T190000
DTEND;TZID=America/New_York:20250601T200000
DTSTAMP:20260419T120102
CREATED:20240611T033035Z
LAST-MODIFIED:20240829T005657Z
UID:12460-1748804400-1748808000@wg.sunlightchurch.com
SUMMARY:Worship service-Brasil
DESCRIPTION:
URL:https://wg.sunlightchurch.com/calendar/worship-service-brasil-103/
LOCATION:607 Avalon Rd\, Winter Garden\, FL\, United States
END:VEVENT
BEGIN:VEVENT
DTSTART;TZID=America/New_York:20250601T183000
DTEND;TZID=America/New_York:20250601T190000
DTSTAMP:20260419T120102
CREATED:20240611T033035Z
LAST-MODIFIED:20240829T005657Z
UID:12459-1748802600-1748804400@wg.sunlightchurch.com
SUMMARY:Brasil evening café
DESCRIPTION:
URL:https://wg.sunlightchurch.com/calendar/brasil-evening-cafe-51/
END:VEVENT
BEGIN:VEVENT
DTSTART;TZID=America/New_York:20250601T111500
DTEND;TZID=America/New_York:20250601T123000
DTSTAMP:20260419T120102
CREATED:20240313T201000Z
LAST-MODIFIED:20240610T022538Z
UID:11437-1748776500-1748781000@wg.sunlightchurch.com
SUMMARY:Worship Service
DESCRIPTION:
URL:https://wg.sunlightchurch.com/calendar/worship-service-64/
LOCATION:607 Avalon Rd\, Winter Garden\, FL 34787\, USA
END:VEVENT
BEGIN:VEVENT
DTSTART;TZID=America/New_York:20250601T111500
DTEND;TZID=America/New_York:20250601T121500
DTSTAMP:20260419T120102
CREATED:20240611T033034Z
LAST-MODIFIED:20240829T005657Z
UID:12458-1748776500-1748780100@wg.sunlightchurch.com
SUMMARY:Worship Service-Brasil
DESCRIPTION:
URL:https://wg.sunlightchurch.com/calendar/worship-service-brasil-102/
LOCATION:607 Avalon Rd\, Winter Garden\, FL\, United States
END:VEVENT
BEGIN:VEVENT
DTSTART;TZID=America/New_York:20250601T104500
DTEND;TZID=America/New_York:20250601T111500
DTSTAMP:20260419T120102
CREATED:20240611T033034Z
LAST-MODIFIED:20240829T005656Z
UID:12457-1748774700-1748776500@wg.sunlightchurch.com
SUMMARY:Brasil breakfast café
DESCRIPTION:
URL:https://wg.sunlightchurch.com/calendar/brasil-breakfast-cafe-52/
END:VEVENT
BEGIN:VEVENT
DTSTART;TZID=America/New_York:20250601T101500
DTEND;TZID=America/New_York:20250601T111500
DTSTAMP:20260419T120102
CREATED:20240315T121622Z
LAST-MODIFIED:20240525T202038Z
UID:11735-1748772900-1748776500@wg.sunlightchurch.com
SUMMARY:Adult Sunday School
DESCRIPTION:
URL:https://wg.sunlightchurch.com/calendar/adult-sunday-school-64/
END:VEVENT
BEGIN:VEVENT
DTSTART;TZID=America/New_York:20250601T093000
DTEND;TZID=America/New_York:20250601T104500
DTSTAMP:20260419T120102
CREATED:20240822T000351Z
LAST-MODIFIED:20240829T005656Z
UID:13247-1748770200-1748774700@wg.sunlightchurch.com
SUMMARY:Sunlight English Service
DESCRIPTION:
URL:https://wg.sunlightchurch.com/calendar/sunlight-english-service-32/
END:VEVENT
BEGIN:VEVENT
DTSTART;TZID=America/New_York:20250529T190000
DTEND;TZID=America/New_York:20250529T200000
DTSTAMP:20260419T120102
CREATED:20240315T121622Z
LAST-MODIFIED:20240829T005656Z
UID:11733-1748545200-1748548800@wg.sunlightchurch.com
SUMMARY:Adult Bible Study
DESCRIPTION:
URL:https://wg.sunlightchurch.com/calendar/adult-bible-study-63/
END:VEVENT
BEGIN:VEVENT
DTSTART;TZID=America/New_York:20250527T120000
DTEND;TZID=America/New_York:20250527T130000
DTSTAMP:20260419T120102
CREATED:20240822T000350Z
LAST-MODIFIED:20240829T005656Z
UID:13246-1748347200-1748350800@wg.sunlightchurch.com
SUMMARY:PROS (Public Reading of Scripture)
DESCRIPTION:Join with Google Meet: https://meet.google.com/cpq-gtxv-pcu\nOr dial: (US) +1 904-406-8468 PIN: 842196153#\nMore phone numbers: https://tel.meet/cpq-gtxv-pcu?pin=3768679431320&hs=7\nLearn more about Meet at: https://support.google.com/a/users/answer/9282720
URL:https://wg.sunlightchurch.com/calendar/pros-public-reading-of-scripture-91/
END:VEVENT
BEGIN:VEVENT
DTSTART;TZID=America/New_York:20250525T190000
DTEND;TZID=America/New_York:20250525T200000
DTSTAMP:20260419T120102
CREATED:20240611T033034Z
LAST-MODIFIED:20240829T005655Z
UID:12456-1748199600-1748203200@wg.sunlightchurch.com
SUMMARY:Worship service-Brasil
DESCRIPTION:
URL:https://wg.sunlightchurch.com/calendar/worship-service-brasil-101/
LOCATION:607 Avalon Rd\, Winter Garden\, FL\, United States
END:VEVENT
BEGIN:VEVENT
DTSTART;TZID=America/New_York:20250525T183000
DTEND;TZID=America/New_York:20250525T190000
DTSTAMP:20260419T120102
CREATED:20240611T033034Z
LAST-MODIFIED:20240829T005655Z
UID:12455-1748197800-1748199600@wg.sunlightchurch.com
SUMMARY:Brasil evening café
DESCRIPTION:
URL:https://wg.sunlightchurch.com/calendar/brasil-evening-cafe-50/
END:VEVENT
BEGIN:VEVENT
DTSTART;TZID=America/New_York:20250525T111500
DTEND;TZID=America/New_York:20250525T123000
DTSTAMP:20260419T120102
CREATED:20240313T200959Z
LAST-MODIFIED:20240610T022537Z
UID:11434-1748171700-1748176200@wg.sunlightchurch.com
SUMMARY:Worship Service
DESCRIPTION:
URL:https://wg.sunlightchurch.com/calendar/worship-service-63/
LOCATION:607 Avalon Rd\, Winter Garden\, FL 34787\, USA
END:VEVENT
BEGIN:VEVENT
DTSTART;TZID=America/New_York:20250525T111500
DTEND;TZID=America/New_York:20250525T121500
DTSTAMP:20260419T120102
CREATED:20240611T033033Z
LAST-MODIFIED:20240829T005654Z
UID:12453-1748171700-1748175300@wg.sunlightchurch.com
SUMMARY:Worship Service-Brasil
DESCRIPTION:
URL:https://wg.sunlightchurch.com/calendar/worship-service-brasil-100/
LOCATION:607 Avalon Rd\, Winter Garden\, FL\, United States
END:VEVENT
BEGIN:VEVENT
DTSTART;TZID=America/New_York:20250525T104500
DTEND;TZID=America/New_York:20250525T111500
DTSTAMP:20260419T120102
CREATED:20240611T033033Z
LAST-MODIFIED:20240829T005655Z
UID:12454-1748169900-1748171700@wg.sunlightchurch.com
SUMMARY:Brasil breakfast café
DESCRIPTION:
URL:https://wg.sunlightchurch.com/calendar/brasil-breakfast-cafe-51/
END:VEVENT
END:VCALENDAR